{"text_format":"1","workbook":"xlsx","n_sheets":39,"sheets":["SUMMARY","Standings","Table 5","Table 4","Table 3","Table 2","Table 1","Table 0","Append1","UPDATE","Sort Draft","Draft Email","Current week","26-Sep","19-Sep","12-Sep","5-Sep","29-Aug","22-Aug","15-Aug","8-Aug","1-Aug","25-Jul","18-Jul","11-Jul","4-Jul","27-Jun","20-Jun","13-Jun","6-Jun","30-May","23-May","16-May","9-May","2-May","25-Apr","18-Apr","11-Apr","End"],"not_rendered":{"charts":0,"images":3,"macros":1,"external_links":0,"defined_names":12,"comments":0,"pivot_tables":0},"unopened":[],"bounds":{"document_bytes":16777216,"sheet_cells":100000,"rows_first":2000,"rows_last":500,"rows_between":2000,"halvings":0,"cell_chars":16384,"cell_head_chars":4096},"cells_cut":0,"cells_raw":0,"read":"whole","date_system":"1900"}

{"sheet":"SUMMARY","index":0,"n_rows":316,"n_cols":22,"rows_kept":316,"cut":false,"hidden":false,"merged":[[1,14,1,18],[30,7,30,8],[0,7,0,8],[24,1,24,2],[24,3,24,5],[0,1,0,3],[0,4,0,5],[12,1,12,5],[119,1,119,3],[119,4,119,5],[18,14,18,19],[39,8,39,10],[130,1,130,5],[141,1,141,2],[141,3,141,5],[153,1,153,3],[153,4,153,5],[165,1,165,5],[177,1,177,2],[177,3,177,5],[190,1,190,3],[190,4,190,5],[272,1,272,3],[272,4,272,5],[203,1,203,5],[216,1,216,2],[216,3,216,5],[230,1,230,3],[230,4,230,5],[287,1,287,5],[302,1,302,2],[302,3,302,5],[119,14,119,18],[136,14,136,19],[153,14,153,18],[170,14,170,19],[190,14,190,18],[207,14,207,19],[230,14,230,18],[247,14,247,19],[272,14,272,18],[289,14,289,19],[244,1,244,5],[258,1,258,2],[258,3,258,5]]}
[" ",{"$f":"\"WEEK \" & TEXT('Current week'!$M$3,\"##\")","v":"WEEK 26"},null,null,{"$f":"'Current week'!$D$3","v":"2021-10-03"},null,null,"WEEKLY WINNERS",null,"1st PLACE -",4,"2nd PLACE -",1]
[null,"NAME","W","L","PCT","GB",null,null,"WEEK ENDING","NAME","PCT","NAME","PCT",null,"Number of Wins",null,null,null,null,"* Adds are for ties, +$1 months, and Season"]
[null,{"$f":"'Current week'!C59","v":"LARRY"},{"$f":"'Current week'!D59","v":23},{"$f":"'Current week'!E59","v":7},{"$f":"'Current week'!F59","v":0.76666666666666672},{"$f":"'Current week'!G59","v":0},null,1,"2021-04-11","JOHN",0.58181818181818201,"DIANE",0.57692307692307698,null,null,"Wk 1st","Wk 2nd","Mon 1st","Mon 2nd","Winnings","Adds","Total"]
[null,{"$f":"'Current week'!C60","v":"JIM T."},{"$f":"'Current week'!D60","v":21},{"$f":"'Current week'!E60","v":9},{"$f":"'Current week'!F60","v":0.7},{"$f":"'Current week'!G60","v":2},null,{"$f":"H3+1","v":2},{"$f":"I3+7","v":"2021-04-18"},"MIKE",0.66666666666666696,"JEAN",0.63888888888888895,null,{"$f":"UPDATE!$C$11","v":"LARRY"},{"$f":"COUNTIF($J$3:$J$28,O4)","v":6},{"$f":"COUNTIF($L$3:$L$28,O4)","v":4},{"$f":"COUNTIF($J$33:$J$39,O4)","v":3},{"$f":"COUNTIF($L$33:$L$38,O4)","v":0},{"$f":"$K$1*P4+$M$1*Q4+$K$31*R4+$M$31*S4","v":46},1,{"$f":"T4+U4","v":47}]
[null,{"$f":"'Current week'!C61","v":"TIM"},{"$f":"'Current week'!D61","v":20},{"$f":"'Current week'!E61","v":10},{"$f":"'Current week'!F61","v":0.66666666666666663},{"$f":"'Current week'!G61","v":3},null,3,{"$f":"I4+7","v":"2021-04-25"},"JIM T.",0.6,"MIKE",0.57142857142857095,null,{"$f":"UPDATE!$C$5","v":"MIKE"},5,3,0,1,25,null,25]
[null,{"$f":"'Current week'!C62","v":"DIANE"},{"$f":"'Current week'!D62","v":17},{"$f":"'Current week'!E62","v":13},{"$f":"'Current week'!F62","v":0.56666666666666665},{"$f":"'Current week'!G62","v":6},null,4,"2021-05-02","TIM",0.56097560975609795,"JIM T.",0.52500000000000002,null,{"$f":"UPDATE!$C$10","v":"TIM"},4,1,0,2,21,null,21]
[null,{"$f":"'Current week'!C63","v":"JIM K."},{"$f":"'Current week'!D63","v":17},{"$f":"'Current week'!E63","v":13},{"$f":"'Current week'!F63","v":0.56666666666666665},{"$f":"'Current week'!G63","v":6},null,5,"2021-05-09","TIM",0.63157894736842102,"DIANE",0.52631578947368396,null,{"$f":"UPDATE!$C$8","v":"JOHN"},3,5,0,1,19,null,19]
[null,{"$f":"'Current week'!C64","v":"JEAN"},{"$f":"'Current week'!D64","v":16},{"$f":"'Current week'!E64","v":14},{"$f":"'Current week'!F64","v":0.53333333333333333},{"$f":"'Current week'!G64","v":7},null,6,"2021-05-16","JIM K.",0.61111111111111105,"MIKE",0.58333333333333304,null,{"$f":"UPDATE!$C$6","v":"JIM T."},3,2,0,1,16,1,17]
[null,{"$f":"'Current week'!C65","v":"JOHN"},{"$f":"'Current week'!D65","v":15},{"$f":"'Current week'!E65","v":15},{"$f":"'Current week'!F65","v":0.5},{"$f":"'Current week'!G65","v":8},null,7,"2021-05-23","LARRY",0.67567567567567599,"JOHN",0.628571428571429,null,{"$f":"UPDATE!$C$7","v":"JIM K."},3,1,0,0,13,null,13]
[null,{"$f":"'Current week'!C66","v":"MIKE"},{"$f":"'Current week'!D66","v":12},{"$f":"'Current week'!E66","v":19},{"$f":"'Current week'!F66","v":0.38709677419354838},{"$f":"'Current week'!G66","v":11.5},null,8,"2021-05-30","MIKE",0.76923076923076905,"LARRY",0.69444444444444398,null,{"$f":"UPDATE!$C$9","v":"JEAN"},1,3,1,0,13,null,13]
[null,{"$f":"'Current week'!C67","v":"-----"},{"$f":"'Current week'!D67","v":0},{"$f":"'Current week'!E67","v":30},{"$f":"'Current week'!F67","v":0},{"$f":"'Current week'!G67","v":"-----"},null,9,"2021-06-06","JIM T.",0.61111111111111105,"LARRY",0.58974358974358998,null,{"$f":"UPDATE!$C$12","v":"DIANE"},0,6,1,0,12,null,12]
[null,null,null,null,null,null,null,10,"2021-06-13","JIM K.",0.78787878787878796,"LARRY",0.72222222222222199,null,{"$f":"UPDATE!$C$13","v":"-----"},0,0,0,0,0,null,0]
[null,{"$f":"\"MONTH OF \" & 'Current week'!$N$3","v":"MONTH OF OCTOBER"},null,null,null,null,null,11,"2021-06-20","LARRY",0.63157894736842102,"JOHN",0.625," ","Total",{"$f":"SUM(P4:P12)","v":25},25,5,5,165,2,167]
[null,"NAME","W","L","PCT","GB",null,12,"2021-06-27","MIKE",0.58333333333333304,"LARRY",0.56756756756756799]
[null,{"$f":"'Current week'!C74","v":"LARRY"},{"$f":"'Current week'!D74","v":110},{"$f":"'Current week'!E74","v":71},{"$f":"'Current week'!F74","v":0.60773480662983426},{"$f":"'Current week'!G74","v":0},null,13,"2021-07-04","LARRY",0.74358974358974395,"DIANE",0.69230769230769196]
[null,{"$f":"'Current week'!C75","v":"JIM T."},{"$f":"'Current week'!D75","v":108},{"$f":"'Current week'!E75","v":74},{"$f":"'Current week'!F75","v":0.59340659340659341},{"$f":"'Current week'!G75","v":2.5},null,14,"2021-07-11","MIKE",0.52777777777777801,"JOHN",0.512820512820513]
[null,{"$f":"'Current week'!C76","v":"TIM"},{"$f":"'Current week'!D76","v":107},{"$f":"'Current week'!E76","v":76},{"$f":"'Current week'!F76","v":0.58469945355191255},{"$f":"'Current week'!G76","v":4},null,15,"2021-07-18","JOHN",0.61111111111111105,"DIANE",0.61111111111111105]
[null,{"$f":"'Current week'!C77","v":"DIANE"},{"$f":"'Current week'!D77","v":104},{"$f":"'Current week'!E77","v":78},{"$f":"'Current week'!F77","v":0.5714285714285714},{"$f":"'Current week'!G77","v":6.5},null,16,"2021-07-25","JEAN",0.63888888888888895,"MIKE",0.58974358974358998]
[null,{"$f":"'Current week'!C78","v":"JEAN"},{"$f":"'Current week'!D78","v":102},{"$f":"'Current week'!E78","v":82},{"$f":"'Current week'!F78","v":0.55434782608695654},{"$f":"'Current week'!G78","v":9.5},null,17,"2021-08-01","JOHN",0.56756756756756799,"JEAN",0.53846153846153799,null,"MONEY BOARD"]
[null,{"$f":"'Current week'!C79","v":"JIM K."},{"$f":"'Current week'!D79","v":98},{"$f":"'Current week'!E79","v":81},{"$f":"'Current week'!F79","v":0.54748603351955305},{"$f":"'Current week'!G79","v":11},null,18,"2021-08-08","LARRY",0.72222222222222199,"TIM",0.71052631578947401,null,"Name","Winnings","Cost","Profit","Deposit","BAL"]
[null,{"$f":"'Current week'!C80","v":"JOHN"},{"$f":"'Current week'!D80","v":99},{"$f":"'Current week'!E80","v":82},{"$f":"'Current week'!F80","v":0.54696132596685088},{"$f":"'Current week'!G80","v":11},null,19,"2021-08-15","JIM T.",0.66666666666666696,"DIANE",0.64864864864864902,null,{"$f":"O4","v":"LARRY"},{"$f":"V4","v":47},{"$f":"IF(O21<>\"-----\",'Current week'!$M$3,0)","v":26},{"$f":"IF(Q21<>0,P21-Q21,0)","v":21},{"$f":"IF(O21<>\"-----\",26,0)","v":26},{"$f":"R21+S21","v":47}]
[null,{"$f":"'Current week'!C81","v":"MIKE"},{"$f":"'Current week'!D81","v":92},{"$f":"'Current week'!E81","v":94},{"$f":"'Current week'!F81","v":0.4946236559139785},{"$f":"'Current week'!G81","v":20.5},null,20,"2021-08-22","LARRY",0.65,"JOHN",0.61538461538461497,null,{"$f":"O5","v":"MIKE"},{"$f":"V5","v":25},{"$f":"IF(O22<>\"-----\",'Current week'!$M$3,0)","v":26},{"$f":"IF(Q22<>0,P22-Q22,0)","v":-1},{"$f":"IF(O22<>\"-----\",26,0)","v":26},{"$f":"R22+S22","v":25}]
[null,{"$f":"'Current week'!C82","v":"-----"},{"$f":"'Current week'!D82","v":0},{"$f":"'Current week'!E82","v":150},{"$f":"'Current week'!F82","v":0},{"$f":"'Current week'!G82","v":"-----"},null,21,"2021-08-29","TIM",0.61111111111111105,"JOHN",0.61111111111111105,null,"TIM",21,{"$f":"IF(O23<>\"-----\",'Current week'!$M$3,0)","v":26},-5,26,21]
[null,null,null,null,null,null,null,22,"2021-09-05","MIKE",0.60526315789473695,"JIM K.",0.59459459459459496,null,"JOHN",19,{"$f":"IF(O24<>\"-----\",'Current week'!$M$3,0)","v":26},-7,26,19]
[null,{"$f":"YEAR(TODAY())","v":2022},null,"SEASON",null,null,null,23,"2021-09-12","TIM",0.55555555555555602,"JIM T.",0.55555555555555602,null,"JIM T.",17,{"$f":"IF(O25<>\"-----\",'Current week'!$M$3,0)","v":26},-9,26,17]
[null,"NAME","W","L","PCT","GB",null,24,"2021-09-19","JIM K.",0.62162162162162204,"DIANE",0.62162162162162204,null,"JIM K.",13,{"$f":"IF(O26<>\"-----\",'Current week'!$M$3,0)","v":26},-13,26,13]
[null,{"$f":"'Current week'!C88","v":"LARRY"},{"$f":"'Current week'!D88","v":560},{"$f":"'Current week'!E88","v":409},{"$f":"'Current week'!F88","v":0.57791537667698656},{"$f":"'Current week'!G88","v":0},null,25,"2021-09-26","LARRY",0.68292682926829296,"JEAN",0.61904761904761896,null,"JEAN",13,{"$f":"IF(O27<>\"-----\",'Current week'!$M$3,0)","v":26},-13,26,13]
[null,{"$f":"'Current week'!C89","v":"JIM T."},{"$f":"'Current week'!D89","v":541},{"$f":"'Current week'!E89","v":427},{"$f":"'Current week'!F89","v":0.55888429752066116},{"$f":"'Current week'!G89","v":18.5},null,26,"2021-10-03",null,null,null,null,null,"DIANE",12,{"$f":"IF(O28<>\"-----\",'Current week'!$M$3,0)","v":26},-14,{"$f":"IF(O28<>\"-----\",26,0)","v":26},12]
[null,{"$f":"'Current week'!C90","v":"TIM"},{"$f":"'Current week'!D90","v":531},{"$f":"'Current week'!E90","v":445},{"$f":"'Current week'!F90","v":0.54405737704918034},{"$f":"'Current week'!G90","v":32.5},null,null,null,null,null,null,null,null,"-----",0,{"$f":"IF(O29<>\"-----\",'Current week'!$M$3,0)","v":0},0,{"$f":"IF(O29<>\"-----\",26,0)","v":0},0]
[null,{"$f":"'Current week'!C91","v":"DIANE"},{"$f":"'Current week'!D91","v":519},{"$f":"'Current week'!E91","v":447},{"$f":"'Current week'!F91","v":0.53726708074534157},{"$f":"'Current week'!G91","v":39.5},null,null,null,null,null,null,null,null,"Total",{"$f":"SUM(P21:P29)","v":167},{"$f":"SUM(Q21:Q29)","v":208},{"$f":"SUM(R21:R29)","v":-41},{"$f":"SUM(S21:S29)","v":208},{"$f":"SUM(T21:T29)","v":167}]
[null,{"$f":"'Current week'!C92","v":"JOHN"},{"$f":"'Current week'!D92","v":511},{"$f":"'Current week'!E92","v":457},{"$f":"'Current week'!F92","v":0.52789256198347112},{"$f":"'Current week'!G92","v":48.5},null,"MONTHLY WINNERS",null,"1st PLACE ",6,"2nd PLACE",2]
[null,{"$f":"'Current week'!C93","v":"JIM K."},{"$f":"'Current week'!D93","v":506},{"$f":"'Current week'!E93","v":453},{"$f":"'Current week'!F93","v":0.52763295099061525},{"$f":"'Current week'!G93","v":49},null,null,"MONTH ENDING","NAME","$","NAME","$"]
[null,{"$f":"'Current week'!C94","v":"JEAN"},{"$f":"'Current week'!D94","v":503},{"$f":"'Current week'!E94","v":456},{"$f":"'Current week'!F94","v":0.52450469238790409},{"$f":"'Current week'!G94","v":52},null,1,{"$f":"I6","v":"2021-05-02"},"DIANE",6,"TIM",2]
[null,{"$f":"'Current week'!C95","v":"MIKE"},{"$f":"'Current week'!D95","v":504},{"$f":"'Current week'!E95","v":465},{"$f":"'Current week'!F95","v":0.52012383900928794},{"$f":"'Current week'!G95","v":56},null,2,{"$f":"I10","v":"2021-05-30"},"LARRY",6,"MIKE",2]
[null,{"$f":"'Current week'!C96","v":"-----"},{"$f":"'Current week'!D96","v":0},{"$f":"'Current week'!E96","v":790},{"$f":"'Current week'!F96","v":0},{"$f":"'Current week'!G96","v":"-----"},null,3,{"$f":"I15","v":"2021-07-04"},"LARRY",7,"JIM T.",3]
[null,null,null,null,null,null,null,4,{"$f":"I19","v":"2021-08-01"},"JEAN",6,"JOHN",2]
[null,null,null,null,null,null,null,5,{"$f":"I23","v":"2021-08-29"},"LARRY",6,"TIM",2]
[null,null,null,null,null,null,null,6,{"$f":"I28","v":"2021-10-03"}]
[null,null,null,null,null,null,null,null," "]
[null,null,null,null,null,null,null,null,"SEASON LONG WINNERS"]
[null,null,null,null,null,null,null,18,"1st Place"]
[null,null,null,null,null,null,null,8,"2nd Place"]
[]
[]
[]
[]
[]
[]
[]
[]
[]
[]
[]
[]
[]
[]
[]
[]
[]
[]
[]
[]
[]
[]
[]
[]
[]
[]
[]
[]
[]
[]
[]
[]
[]
[]
[]
[]
[]
[]
[]
[]
[]
[]
[]
[]
[]
[]
[]
[]
[]
[]
[]
[]
[]
[]
[]
[]
[]
[]
[]
[]
[]
[]
[]
[]
[]
[]
[]
[]
[]
[]
[]
[]
[]
[]
[]
[]
[]
[8,"WEEKLY POOL",null,null,{"$f":"'Current week'!$D$3","v":"2021-10-03"},null,null,null,null,null,null,null,null,null,"Number of Wins",null,null,null,null,"* Adds are for ties, $7/$3 monthlys, and Season"]
[null,"NAME","W","L","PCT","GB",null,null,null,null,null,null,null,null,null,"Wk 1st","Wk 2nd","Mon 1st","Mon 2nd","Winnings","Adds","Total"]
[null,{"$f":"'Current week'!C178","v":0},{"$f":"'Current week'!D178","v":0},{"$f":"'Current week'!E178","v":0},{"$f":"'Current week'!F178","v":0},{"$f":"'Current week'!G178","v":0},null,null,null,null,null,null,null,null,{"$f":"UPDATE!$C$11","v":"LARRY"},{"$f":"COUNTIF($J$3:$J$28,O122)","v":6},{"$f":"COUNTIF($L$3:$L$28,O122)","v":4},{"$f":"COUNTIF($J$33:$J$39,O122)","v":3},{"$f":"COUNTIF($L$33:$L$38,O122)","v":0},{"$f":"4*P122+2*Q122+6*R122+2*S122","v":50},null,{"$f":"T122+U122","v":50}]
[null,{"$f":"'Current week'!C179","v":0},{"$f":"'Current week'!D179","v":0},{"$f":"'Current week'!E179","v":0},{"$f":"'Current week'!F179","v":0},{"$f":"'Current week'!G179","v":0},null,null,null,null,null,null,null,null,{"$f":"UPDATE!$C$13","v":"-----"},0,0,0,0,0,null,0]
[null,{"$f":"'Current week'!C180","v":0},{"$f":"'Current week'!D180","v":0},{"$f":"'Current week'!E180","v":0},{"$f":"'Current week'!F180","v":0},{"$f":"'Current week'!G180","v":0},null,null,null,null,null,null,null,null,{"$f":"UPDATE!$C$12","v":"DIANE"},0,6,1,0,18,null,18]
[null,{"$f":"'Current week'!C181","v":0},{"$f":"'Current week'!D181","v":0},{"$f":"'Current week'!E181","v":0},{"$f":"'Current week'!F181","v":0},{"$f":"'Current week'!G181","v":0},null,null,null,null,null,null,null,null,{"$f":"UPDATE!$C$5","v":"MIKE"},5,3,0,1,28,null,28]
[null,{"$f":"'Current week'!C182","v":0},{"$f":"'Current week'!D182","v":0},{"$f":"'Current week'!E182","v":0},{"$f":"'Current week'!F182","v":0},{"$f":"'Current week'!G182","v":0},null,null,null,null,null,null,null,null,{"$f":"UPDATE!$C$9","v":"JEAN"},1,3,1,0,16,null,16]
[null,{"$f":"'Current week'!C183","v":0},{"$f":"'Current week'!D183","v":0},{"$f":"'Current week'!E183","v":0},{"$f":"'Current week'!F183","v":0},{"$f":"'Current week'!G183","v":0},null,null,null,null,null,null,null,null,{"$f":"UPDATE!$C$6","v":"JIM T."},3,2,0,1,18,null,18]
[null,{"$f":"'Current week'!C184","v":0},{"$f":"'Current week'!D184","v":0},{"$f":"'Current week'!E184","v":0},{"$f":"'Current week'!F184","v":0},{"$f":"'Current week'!G184","v":0},null,null,null,null,null,null,null,null,{"$f":"UPDATE!$C$10","v":"TIM"},4,1,0,2,22,null,22]
[null,{"$f":"'Current week'!C185","v":0},{"$f":"'Current week'!D185","v":0},{"$f":"'Current week'!E185","v":0},{"$f":"'Current week'!F185","v":0},{"$f":"'Current week'!G185","v":0},null,null,null,null,null,null,null,null,{"$f":"UPDATE!$C$7","v":"JIM K."},3,1,0,0,14,null,14]
[null,null,null,null,null,null,null,null,null,null,null,null,null,null,"Total",{"$f":"SUM(P122:P129)","v":22},{"$f":"SUM(Q122:Q129)","v":20},5,4,166,0,166]
[null,{"$f":"\"MONTH OF \" & 'Current week'!$N$3","v":"MONTH OF OCTOBER"}]
[null,"NAME","W","L","PCT","GB"]
[null,{"$f":"'Current week'!C191","v":0},{"$f":"'Current week'!D191","v":0},{"$f":"'Current week'!E191","v":0},{"$f":"'Current week'!F191","v":0},{"$f":"'Current week'!G191","v":0}]
[null,{"$f":"'Current week'!C192","v":0},{"$f":"'Current week'!D192","v":0},{"$f":"'Current week'!E192","v":0},{"$f":"'Current week'!F192","v":0},{"$f":"'Current week'!G192","v":0}]
[null,{"$f":"'Current week'!C193","v":0},{"$f":"'Current week'!D193","v":0},{"$f":"'Current week'!E193","v":0},{"$f":"'Current week'!F193","v":0},{"$f":"'Current week'!G193","v":0}]
[null,{"$f":"'Current week'!C194","v":0},{"$f":"'Current week'!D194","v":0},{"$f":"'Current week'!E194","v":0},{"$f":"'Current week'!F194","v":0},{"$f":"'Current week'!G194","v":0}]
[null,{"$f":"'Current week'!C195","v":0},{"$f":"'Current week'!D195","v":0},{"$f":"'Current week'!E195","v":0},{"$f":"'Current week'!F195","v":0},{"$f":"'Current week'!G195","v":0},null,null,null,null,null,null,null,null,"MONEY BOARD"]
[null,{"$f":"'Current week'!C196","v":0},{"$f":"'Current week'!D196","v":0},{"$f":"'Current week'!E196","v":0},{"$f":"'Current week'!F196","v":0},{"$f":"'Current week'!G196","v":0},null,null,null,null,null,null,null,null,"Name","Winnings","Cost","Profit","Deposit","BAL"]
[null,{"$f":"'Current week'!C197","v":0},{"$f":"'Current week'!D197","v":0},{"$f":"'Current week'!E197","v":0},{"$f":"'Current week'!F197","v":0},{"$f":"'Current week'!G197","v":0},null,null,null,null,null,null,null,null,{"$f":"O122","v":"LARRY"},{"$f":"V122","v":50},{"$f":"'Current week'!$M$3","v":26},{"$f":"P139-Q139","v":24},26,{"$f":"R139+S139","v":50}]
[null,{"$f":"'Current week'!C198","v":0},{"$f":"'Current week'!D198","v":0},{"$f":"'Current week'!E198","v":0},{"$f":"'Current week'!F198","v":0},{"$f":"'Current week'!G198","v":0},null,null,null,null,null,null,null,null,{"$f":"O123","v":"-----"},0,{"$f":"'Current week'!$M$3","v":26},{"$f":"P140-Q140","v":-26},26,{"$f":"R140+S140","v":0}]
[null,null,null,null,null,null,null,null,null,null,null,null,null,null,"DIANE",18,{"$f":"'Current week'!$M$3","v":26},-8,26,18]
[null,{"$f":"YEAR(TODAY())","v":2022},null,"SEASON",null,null,null,null,null,null,null,null,null,null,"MIKE",28,{"$f":"'Current week'!$M$3","v":26},2,26,28]
[null,"NAME","W","L","PCT","GB",null,null,null,null,null,null,null,null,"JEAN",16,{"$f":"'Current week'!$M$3","v":26},-10,26,16]
[null,{"$f":"'Current week'!C203","v":0},{"$f":"'Current week'!D203","v":0},{"$f":"'Current week'!E203","v":0},{"$f":"'Current week'!F203","v":0},{"$f":"'Current week'!G203","v":0},null,null,null,null,null,null,null,null,"JIM T.",18,{"$f":"'Current week'!$M$3","v":26},-8,26,18]
[null,{"$f":"'Current week'!C204","v":0},{"$f":"'Current week'!D204","v":0},{"$f":"'Current week'!E204","v":0},{"$f":"'Current week'!F204","v":0},{"$f":"'Current week'!G204","v":0},null,null,null,null,null,null,null,null,"TIM",22,{"$f":"'Current week'!$M$3","v":26},-4,26,22]
[null,{"$f":"'Current week'!C205","v":0},{"$f":"'Current week'!D205","v":0},{"$f":"'Current week'!E205","v":0},{"$f":"'Current week'!F205","v":0},{"$f":"'Current week'!G205","v":0},null,null,null,null,null,null,null,null,"JIM K.",14,{"$f":"'Current week'!$M$3","v":26},-12,26,14]
[null,{"$f":"'Current week'!C206","v":0},{"$f":"'Current week'!D206","v":0},{"$f":"'Current week'!E206","v":0},{"$f":"'Current week'!F206","v":0},{"$f":"'Current week'!G206","v":0},null,null,null,null,null,null,null,null,"Total",{"$f":"SUM(P139:P146)","v":166},{"$f":"SUM(Q139:Q146)","v":208},{"$f":"SUM(R139:R146)","v":-42},{"$f":"SUM(S139:S146)","v":208},{"$f":"SUM(T139:T146)","v":166}]
[null,{"$f":"'Current week'!C207","v":0},{"$f":"'Current week'!D207","v":0},{"$f":"'Current week'!E207","v":0},{"$f":"'Current week'!F207","v":0},{"$f":"'Current week'!G207","v":0}]
[null,{"$f":"'Current week'!C208","v":0},{"$f":"'Current week'!D208","v":0},{"$f":"'Current week'!E208","v":0},{"$f":"'Current week'!F208","v":0},{"$f":"'Current week'!G208","v":0}]
[null,{"$f":"'Current week'!C209","v":0},{"$f":"'Current week'!D209","v":0},{"$f":"'Current week'!E209","v":0},{"$f":"'Current week'!F209","v":0},{"$f":"'Current week'!G209","v":0}]
[null,{"$f":"'Current week'!C210","v":0},{"$f":"'Current week'!D210","v":0},{"$f":"'Current week'!E210","v":0},{"$f":"'Current week'!F210","v":0},{"$f":"'Current week'!G210","v":0}]
[]
[]
[9,"WEEKLY POOL",null,null,{"$f":"'Current week'!$D$3","v":"2021-10-03"},null,null,null,null,null,null,null,null,null,"Number of Wins",null,null,null,null,"* Adds are for ties, $7/$3 monthlys, and Season"]
[null,"NAME","W","L","PCT","GB",null,null,null,null,null,null,null,null,null,"Wk 1st","Wk 2nd","Mon 1st","Mon 2nd","Winnings","Adds","Total"]
[null,{"$f":"'Current week'!C212","v":0},{"$f":"'Current week'!D212","v":0},{"$f":"'Current week'!E212","v":0},{"$f":"'Current week'!F212","v":0},{"$f":"'Current week'!G212","v":0},null,null,null,null,null,null,null,null,{"$f":"UPDATE!$C$11","v":"LARRY"},{"$f":"COUNTIF($J$3:$J$28,O156)","v":6},{"$f":"COUNTIF($L$3:$L$28,O156)","v":4},{"$f":"COUNTIF($J$33:$J$39,O156)","v":3},{"$f":"COUNTIF($L$33:$L$38,O156)","v":0},{"$f":"4*P156+2*Q156+6*R156+2*S156","v":50},null,{"$f":"T156+U156","v":50}]
[null,{"$f":"'Current week'!C213","v":0},{"$f":"'Current week'!D213","v":0},{"$f":"'Current week'!E213","v":0},{"$f":"'Current week'!F213","v":0},{"$f":"'Current week'!G213","v":0},null,null,null,null,null,null,null,null,{"$f":"UPDATE!$C$13","v":"-----"},0,0,0,0,0,null,0]
[null,{"$f":"'Current week'!C214","v":0},{"$f":"'Current week'!D214","v":0},{"$f":"'Current week'!E214","v":0},{"$f":"'Current week'!F214","v":0},{"$f":"'Current week'!G214","v":0},null,null,null,null,null,null,null,null,{"$f":"UPDATE!$C$12","v":"DIANE"},0,6,1,0,18,null,18]
[null,{"$f":"'Current week'!C215","v":0},{"$f":"'Current week'!D215","v":0},{"$f":"'Current week'!E215","v":0},{"$f":"'Current week'!F215","v":0},{"$f":"'Current week'!G215","v":0},null,null,null,null,null,null,null,null,{"$f":"UPDATE!$C$5","v":"MIKE"},5,3,0,1,28,null,28]
[null,{"$f":"'Current week'!C216","v":0},{"$f":"'Current week'!D216","v":0},{"$f":"'Current week'!E216","v":0},{"$f":"'Current week'!F216","v":0},{"$f":"'Current week'!G216","v":0},null,null,null,null,null,null,null,null,{"$f":"UPDATE!$C$9","v":"JEAN"},1,3,1,0,16,null,16]
[null,{"$f":"'Current week'!C217","v":0},{"$f":"'Current week'!D217","v":0},{"$f":"'Current week'!E217","v":0},{"$f":"'Current week'!F217","v":0},{"$f":"'Current week'!G217","v":0},null,null,null,null,null,null,null,null,{"$f":"UPDATE!$C$6","v":"JIM T."},3,2,0,1,18,null,18]
[null,{"$f":"'Current week'!C218","v":0},{"$f":"'Current week'!D218","v":0},{"$f":"'Current week'!E218","v":0},{"$f":"'Current week'!F218","v":0},{"$f":"'Current week'!G218","v":0},null,null,null,null,null,null,null,null,{"$f":"UPDATE!$C$10","v":"TIM"},4,1,0,2,22,null,22]
[null,{"$f":"'Current week'!C219","v":0},{"$f":"'Current week'!D219","v":0},{"$f":"'Current week'!E219","v":0},{"$f":"'Current week'!F219","v":0},{"$f":"'Current week'!G219","v":0},null,null,null,null,null,null,null,null,{"$f":"UPDATE!$C$7","v":"JIM K."},3,1,0,0,14,null,14]
[null,{"$f":"'Current week'!C220","v":0},{"$f":"'Current week'!D220","v":0},{"$f":"'Current week'!E220","v":0},{"$f":"'Current week'!F220","v":0},{"$f":"'Current week'!G220","v":0},null,null,null,null,null,null,null,null,{"$f":"UPDATE!$C$8","v":"JOHN"},{"$f":"COUNTIF($J$3:$J$28,O164)","v":3},{"$f":"COUNTIF($L$3:$L$28,O164)","v":5},{"$f":"COUNTIF($J$33:$J$39,O164)","v":0},{"$f":"COUNTIF($L$33:$L$38,O164)","v":1},{"$f":"4*P164+2*Q164+6*R164+2*S164","v":24},null,{"$f":"T164+U164","v":24}]
[null,null,null,null,null,null,null,null,null,null,null,null,null,null,"Total",{"$f":"SUM(P156:P164)","v":25},{"$f":"SUM(Q156:Q164)","v":25},5,5,190,0,190]
[null,{"$f":"\"MONTH OF \" & 'Current week'!$N$3","v":"MONTH OF OCTOBER"}]
[null,"NAME","W","L","PCT","GB"]
[null,{"$f":"'Current week'!C225","v":0},{"$f":"'Current week'!D225","v":0},{"$f":"'Current week'!E225","v":0},{"$f":"'Current week'!F225","v":0},{"$f":"'Current week'!G225","v":0}]
[null,{"$f":"'Current week'!C226","v":0},{"$f":"'Current week'!D226","v":0},{"$f":"'Current week'!E226","v":0},{"$f":"'Current week'!F226","v":0},{"$f":"'Current week'!G226","v":0}]
[null,{"$f":"'Current week'!C227","v":0},{"$f":"'Current week'!D227","v":0},{"$f":"'Current week'!E227","v":0},{"$f":"'Current week'!F227","v":0},{"$f":"'Current week'!G227","v":0}]
[null,{"$f":"'Current week'!C228","v":0},{"$f":"'Current week'!D228","v":0},{"$f":"'Current week'!E228","v":0},{"$f":"'Current week'!F228","v":0},{"$f":"'Current week'!G228","v":0},null,null,null,null,null,null,null,null,"MONEY BOARD"]
[null,{"$f":"'Current week'!C229","v":0},{"$f":"'Current week'!D229","v":0},{"$f":"'Current week'!E229","v":0},{"$f":"'Current week'!F229","v":0},{"$f":"'Current week'!G229","v":0},null,null,null,null,null,null,null,null,"Name","Winnings","Cost","Profit","Deposit","BAL"]
[null,{"$f":"'Current week'!C230","v":0},{"$f":"'Current week'!D230","v":0},{"$f":"'Current week'!E230","v":0},{"$f":"'Current week'!F230","v":0},{"$f":"'Current week'!G230","v":0},null,null,null,null,null,null,null,null,{"$f":"O156","v":"LARRY"},{"$f":"V156","v":50},{"$f":"'Current week'!$M$3","v":26},{"$f":"P173-Q173","v":24},26,{"$f":"R173+S173","v":50}]
[null,{"$f":"'Current week'!C231","v":0},{"$f":"'Current week'!D231","v":0},{"$f":"'Current week'!E231","v":0},{"$f":"'Current week'!F231","v":0},{"$f":"'Current week'!G231","v":0},null,null,null,null,null,null,null,null,{"$f":"O157","v":"-----"},0,{"$f":"'Current week'!$M$3","v":26},{"$f":"P174-Q174","v":-26},26,{"$f":"R174+S174","v":0}]
[null,{"$f":"'Current week'!C232","v":0},{"$f":"'Current week'!D232","v":0},{"$f":"'Current week'!E232","v":0},{"$f":"'Current week'!F232","v":0},{"$f":"'Current week'!G232","v":0},null,null,null,null,null,null,null,null,"DIANE",18,{"$f":"'Current week'!$M$3","v":26},-8,26,18]
[null,{"$f":"'Current week'!C233","v":0},{"$f":"'Current week'!D233","v":0},{"$f":"'Current week'!E233","v":0},{"$f":"'Current week'!F233","v":0},{"$f":"'Current week'!G233","v":0},null,null,null,null,null,null,null,null,"MIKE",28,{"$f":"'Current week'!$M$3","v":26},2,26,28]
[null,null,null,null,null,null,null,null,null,null,null,null,null,null,"JEAN",16,{"$f":"'Current week'!$M$3","v":26},-10,26,16]
[null,{"$f":"YEAR(TODAY())","v":2022},null,"SEASON",null,null,null,null,null,null,null,null,null,null,"JIM T.",18,{"$f":"'Current week'!$M$3","v":26},-8,26,18]
[null,"NAME","W","L","PCT","GB",null,null,null,null,null,null,null,null,"TIM",22,{"$f":"'Current week'!$M$3","v":26},-4,26,22]
[null,{"$f":"'Current week'!C237","v":0},{"$f":"'Current week'!D237","v":0},{"$f":"'Current week'!E237","v":0},{"$f":"'Current week'!F237","v":0},{"$f":"'Current week'!G237","v":0},null,null,null,null,null,null,null,null,"JIM K.",14,{"$f":"'Current week'!$M$3","v":26},-12,26,14]
[null,{"$f":"'Current week'!C238","v":0},{"$f":"'Current week'!D238","v":0},{"$f":"'Current week'!E238","v":0},{"$f":"'Current week'!F238","v":0},{"$f":"'Current week'!G238","v":0},null,null,null,null,null,null,null,null,"JOHN",{"$f":"V164","v":24},{"$f":"'Current week'!$M$3","v":26},{"$f":"P181-Q181","v":-2},26,{"$f":"R181+S181","v":24}]
[null,{"$f":"'Current week'!C239","v":0},{"$f":"'Current week'!D239","v":0},{"$f":"'Current week'!E239","v":0},{"$f":"'Current week'!F239","v":0},{"$f":"'Current week'!G239","v":0},null,null,null,null,null,null,null,null,"Total",{"$f":"SUM(P173:P181)","v":190},{"$f":"SUM(Q173:Q181)","v":234},{"$f":"SUM(R173:R181)","v":-44},{"$f":"SUM(S173:S181)","v":234},{"$f":"SUM(T173:T181)","v":190}]
[null,{"$f":"'Current week'!C240","v":0},{"$f":"'Current week'!D240","v":0},{"$f":"'Current week'!E240","v":0},{"$f":"'Current week'!F240","v":0},{"$f":"'Current week'!G240","v":0}]
[null,{"$f":"'Current week'!C241","v":0},{"$f":"'Current week'!D241","v":0},{"$f":"'Current week'!E241","v":0},{"$f":"'Current week'!F241","v":0},{"$f":"'Current week'!G241","v":0}]
[null,{"$f":"'Current week'!C242","v":0},{"$f":"'Current week'!D242","v":0},{"$f":"'Current week'!E242","v":0},{"$f":"'Current week'!F242","v":0},{"$f":"'Current week'!G242","v":0}]
[null,{"$f":"'Current week'!C243","v":0},{"$f":"'Current week'!D243","v":0},{"$f":"'Current week'!E243","v":0},{"$f":"'Current week'!F243","v":0},{"$f":"'Current week'!G243","v":0}]
[null,{"$f":"'Current week'!C244","v":0},{"$f":"'Current week'!D244","v":0},{"$f":"'Current week'!E244","v":0},{"$f":"'Current week'!F244","v":0},{"$f":"'Current week'!G244","v":0}]
[null,{"$f":"'Current week'!C245","v":0},{"$f":"'Current week'!D245","v":0},{"$f":"'Current week'!E245","v":0},{"$f":"'Current week'!F245","v":0},{"$f":"'Current week'!G245","v":0}]
[]
[]
[10,"WEEKLY POOL",null,null,{"$f":"'Current week'!$D$3","v":"2021-10-03"},null,null,null,null,null,null,null,null,null,"Number of Wins",null,null,null,null,"* Adds are for ties, $7/$3 monthlys, and Season"]
[null,"NAME","W","L","PCT","GB",null,null,null,null,null,null,null,null,null,"Wk 1st","Wk 2nd","Mon 1st","Mon 2nd","Winnings","Adds","Total"]
[null,{"$f":"'Current week'!C249","v":0},{"$f":"'Current week'!D249","v":0},{"$f":"'Current week'!E249","v":0},{"$f":"'Current week'!F249","v":0},{"$f":"'Current week'!G249","v":0},null,null,null,null,null,null,null,null,{"$f":"UPDATE!$C$11","v":"LARRY"},{"$f":"COUNTIF($J$3:$J$28,O193)","v":6},{"$f":"COUNTIF($L$3:$L$28,O193)","v":4},{"$f":"COUNTIF($J$33:$J$39,O193)","v":3},{"$f":"COUNTIF($L$33:$L$38,O193)","v":0},{"$f":"4*P193+2*Q193+6*R193+2*S193","v":50},null,{"$f":"T193+U193","v":50}]
[null,{"$f":"'Current week'!C250","v":0},{"$f":"'Current week'!D250","v":0},{"$f":"'Current week'!E250","v":0},{"$f":"'Current week'!F250","v":0},{"$f":"'Current week'!G250","v":0},null,null,null,null,null,null,null,null,{"$f":"UPDATE!$C$13","v":"-----"},0,0,0,0,0,null,0]
[null,{"$f":"'Current week'!C251","v":0},{"$f":"'Current week'!D251","v":0},{"$f":"'Current week'!E251","v":0},{"$f":"'Current week'!F251","v":0},{"$f":"'Current week'!G251","v":0},null,null,null,null,null,null,null,null,{"$f":"UPDATE!$C$12","v":"DIANE"},0,6,1,0,18,null,18]
[null,{"$f":"'Current week'!C252","v":0},{"$f":"'Current week'!D252","v":0},{"$f":"'Current week'!E252","v":0},{"$f":"'Current week'!F252","v":0},{"$f":"'Current week'!G252","v":0},null,null,null,null,null,null,null,null,{"$f":"UPDATE!$C$5","v":"MIKE"},5,3,0,1,28,null,28]
[null,{"$f":"'Current week'!C253","v":0},{"$f":"'Current week'!D253","v":0},{"$f":"'Current week'!E253","v":0},{"$f":"'Current week'!F253","v":0},{"$f":"'Current week'!G253","v":0},null,null,null,null,null,null,null,null,{"$f":"UPDATE!$C$9","v":"JEAN"},1,3,1,0,16,null,16]
[null,{"$f":"'Current week'!C254","v":0},{"$f":"'Current week'!D254","v":0},{"$f":"'Current week'!E254","v":0},{"$f":"'Current week'!F254","v":0},{"$f":"'Current week'!G254","v":0},null,null,null,null,null,null,null,null,{"$f":"UPDATE!$C$6","v":"JIM T."},3,2,0,1,18,null,18]
[null,{"$f":"'Current week'!C255","v":0},{"$f":"'Current week'!D255","v":0},{"$f":"'Current week'!E255","v":0},{"$f":"'Current week'!F255","v":0},{"$f":"'Current week'!G255","v":0},null,null,null,null,null,null,null,null,{"$f":"UPDATE!$C$10","v":"TIM"},4,1,0,2,22,null,22]
[null,{"$f":"'Current week'!C256","v":0},{"$f":"'Current week'!D256","v":0},{"$f":"'Current week'!E256","v":0},{"$f":"'Current week'!F256","v":0},{"$f":"'Current week'!G256","v":0},null,null,null,null,null,null,null,null,{"$f":"UPDATE!$C$7","v":"JIM K."},3,1,0,0,14,null,14]
[null,{"$f":"'Current week'!C257","v":0},{"$f":"'Current week'!D257","v":0},{"$f":"'Current week'!E257","v":0},{"$f":"'Current week'!F257","v":0},{"$f":"'Current week'!G257","v":0},null,null,null,null,null,null,null,null,{"$f":"UPDATE!$C$8","v":"JOHN"},3,5,0,1,24,null,24]
[null,{"$f":"'Current week'!C258","v":0},{"$f":"'Current week'!D258","v":0},{"$f":"'Current week'!E258","v":0},{"$f":"'Current week'!F258","v":0},{"$f":"'Current week'!G258","v":0},null,null,null,null,null,null,null,null,{"$f":"UPDATE!$C$14","v":0},{"$f":"COUNTIF($J$3:$J$28,O202)","v":0},{"$f":"COUNTIF($L$3:$L$28,O202)","v":0},{"$f":"COUNTIF($J$33:$J$39,O202)","v":0},{"$f":"COUNTIF($L$33:$L$38,O202)","v":0},{"$f":"4*P202+2*Q202+6*R202+2*S202","v":0},null,{"$f":"T202+U202","v":0}]
[null,null,null,null,null,null,null,null,null,null,null,null,null,null,"Total",{"$f":"SUM(P193:P202)","v":25},{"$f":"SUM(Q193:Q202)","v":25},5,5,190,0,190]
[null,{"$f":"\"MONTH OF \" & 'Current week'!$N$3","v":"MONTH OF OCTOBER"}]
[null,"NAME","W","L","PCT","GB"]
[null,{"$f":"'Current week'!C262","v":0},{"$f":"'Current week'!D262","v":0},{"$f":"'Current week'!E262","v":0},{"$f":"'Current week'!F262","v":0},{"$f":"'Current week'!G262","v":0}]
[null,{"$f":"'Current week'!C263","v":0},{"$f":"'Current week'!D263","v":0},{"$f":"'Current week'!E263","v":0},{"$f":"'Current week'!F263","v":0},{"$f":"'Current week'!G263","v":0}]
[null,{"$f":"'Current week'!C264","v":0},{"$f":"'Current week'!D264","v":0},{"$f":"'Current week'!E264","v":0},{"$f":"'Current week'!F264","v":0},{"$f":"'Current week'!G264","v":0},null,null,null,null,null,null,null,null,"MONEY BOARD"]
[null,{"$f":"'Current week'!C265","v":0},{"$f":"'Current week'!D265","v":0},{"$f":"'Current week'!E265","v":0},{"$f":"'Current week'!F265","v":0},{"$f":"'Current week'!G265","v":0},null,null,null,null,null,null,null,null,"Name","Winnings","Cost","Profit","Deposit","BAL"]
[null,{"$f":"'Current week'!C266","v":0},{"$f":"'Current week'!D266","v":0},{"$f":"'Current week'!E266","v":0},{"$f":"'Current week'!F266","v":0},{"$f":"'Current week'!G266","v":0},null,null,null,null,null,null,null,null,{"$f":"O193","v":"LARRY"},{"$f":"V193","v":50},{"$f":"'Current week'!$M$3","v":26},{"$f":"P210-Q210","v":24},26,{"$f":"R210+S210","v":50}]
[null,{"$f":"'Current week'!C267","v":0},{"$f":"'Current week'!D267","v":0},{"$f":"'Current week'!E267","v":0},{"$f":"'Current week'!F267","v":0},{"$f":"'Current week'!G267","v":0},null,null,null,null,null,null,null,null,{"$f":"O194","v":"-----"},0,{"$f":"'Current week'!$M$3","v":26},{"$f":"P211-Q211","v":-26},26,{"$f":"R211+S211","v":0}]
[null,{"$f":"'Current week'!C268","v":0},{"$f":"'Current week'!D268","v":0},{"$f":"'Current week'!E268","v":0},{"$f":"'Current week'!F268","v":0},{"$f":"'Current week'!G268","v":0},null,null,null,null,null,null,null,null,"DIANE",18,{"$f":"'Current week'!$M$3","v":26},-8,26,18]
[null,{"$f":"'Current week'!C269","v":0},{"$f":"'Current week'!D269","v":0},{"$f":"'Current week'!E269","v":0},{"$f":"'Current week'!F269","v":0},{"$f":"'Current week'!G269","v":0},null,null,null,null,null,null,null,null,"MIKE",28,{"$f":"'Current week'!$M$3","v":26},2,26,28]
[null,{"$f":"'Current week'!C270","v":0},{"$f":"'Current week'!D270","v":0},{"$f":"'Current week'!E270","v":0},{"$f":"'Current week'!F270","v":0},{"$f":"'Current week'!G270","v":0},null,null,null,null,null,null,null,null,"JEAN",16,{"$f":"'Current week'!$M$3","v":26},-10,26,16]
[null,{"$f":"'Current week'!C271","v":0},{"$f":"'Current week'!D271","v":0},{"$f":"'Current week'!E271","v":0},{"$f":"'Current week'!F271","v":0},{"$f":"'Current week'!G271","v":0},null,null,null,null,null,null,null,null,"JIM T.",18,{"$f":"'Current week'!$M$3","v":26},-8,26,18]
[null,null,null,null,null,null,null,null,null,null,null,null,null,null,"TIM",22,{"$f":"'Current week'!$M$3","v":26},-4,26,22]
[null,{"$f":"YEAR(TODAY())","v":2022},null,"SEASON",null,null,null,null,null,null,null,null,null,null,"JIM K.",14,{"$f":"'Current week'!$M$3","v":26},-12,26,14]
[null,"NAME","W","L","PCT","GB",null,null,null,null,null,null,null,null,"JOHN",24,{"$f":"'Current week'!$M$3","v":26},-2,26,24]
[null,{"$f":"'Current week'!C274","v":0},{"$f":"'Current week'!D274","v":0},{"$f":"'Current week'!E274","v":0},{"$f":"'Current week'!F274","v":0},{"$f":"'Current week'!G274","v":0},null,null,null,null,null,null,null,null,0,{"$f":"V202","v":0},{"$f":"'Current week'!$M$3","v":26},{"$f":"P219-Q219","v":-26},26,{"$f":"R219+S219","v":0}]
[null,{"$f":"'Current week'!C275","v":0},{"$f":"'Current week'!D275","v":0},{"$f":"'Current week'!E275","v":0},{"$f":"'Current week'!F275","v":0},{"$f":"'Current week'!G275","v":0},null,null,null,null,null,null,null,null,"Total",{"$f":"SUM(P210:P219)","v":190},{"$f":"SUM(Q210:Q219)","v":260},{"$f":"SUM(R210:R219)","v":-70},{"$f":"SUM(S210:S219)","v":260},{"$f":"SUM(T210:T219)","v":190}]
[null,{"$f":"'Current week'!C276","v":0},{"$f":"'Current week'!D276","v":0},{"$f":"'Current week'!E276","v":0},{"$f":"'Current week'!F276","v":0},{"$f":"'Current week'!G276","v":0}]
[null,{"$f":"'Current week'!C277","v":0},{"$f":"'Current week'!D277","v":0},{"$f":"'Current week'!E277","v":0},{"$f":"'Current week'!F277","v":0},{"$f":"'Current week'!G277","v":0}]
[null,{"$f":"'Current week'!C278","v":0},{"$f":"'Current week'!D278","v":0},{"$f":"'Current week'!E278","v":0},{"$f":"'Current week'!F278","v":0},{"$f":"'Current week'!G278","v":0}]
[null,{"$f":"'Current week'!C279","v":0},{"$f":"'Current week'!D279","v":0},{"$f":"'Current week'!E279","v":0},{"$f":"'Current week'!F279","v":0},{"$f":"'Current week'!G279","v":0}]
[null,{"$f":"'Current week'!C280","v":0},{"$f":"'Current week'!D280","v":0},{"$f":"'Current week'!E280","v":0},{"$f":"'Current week'!F280","v":0},{"$f":"'Current week'!G280","v":0}]
[null,{"$f":"'Current week'!C281","v":0},{"$f":"'Current week'!D281","v":0},{"$f":"'Current week'!E281","v":0},{"$f":"'Current week'!F281","v":0},{"$f":"'Current week'!G281","v":0}]
[null,{"$f":"'Current week'!C282","v":0},{"$f":"'Current week'!D282","v":0},{"$f":"'Current week'!E282","v":0},{"$f":"'Current week'!F282","v":0},{"$f":"'Current week'!G282","v":0}]
[null,{"$f":"'Current week'!C283","v":0},{"$f":"'Current week'!D283","v":0},{"$f":"'Current week'!E283","v":0},{"$f":"'Current week'!F283","v":0},{"$f":"'Current week'!G283","v":0}]
[]
[]
[11,"WEEKLY POOL",null,null,{"$f":"'Current week'!$D$3","v":"2021-10-03"},null,null,null,null,null,null,null,null,null,"Number of Wins",null,null,null,null,"* Adds are for ties, $7/$3 monthlys, and Season"]
[null,"NAME","W","L","PCT","GB",null,null,null,null,null,null,null,null,null,"Wk 1st","Wk 2nd","Mon 1st","Mon 2nd","Winnings","Adds","Total"]
[null,{"$f":"'Current week'!C289","v":0},{"$f":"'Current week'!D289","v":0},{"$f":"'Current week'!E289","v":0},{"$f":"'Current week'!F289","v":0},{"$f":"'Current week'!G289","v":0},null,null,null,null,null,null,null,null,{"$f":"UPDATE!$C$11","v":"LARRY"},{"$f":"COUNTIF($J$3:$J$28,O233)","v":6},{"$f":"COUNTIF($L$3:$L$28,O233)","v":4},{"$f":"COUNTIF($J$33:$J$39,O233)","v":3},{"$f":"COUNTIF($L$33:$L$38,O233)","v":0},{"$f":"4*P233+2*Q233+6*R233+2*S233","v":50},null,{"$f":"T233+U233","v":50}]
[null,{"$f":"'Current week'!C290","v":0},{"$f":"'Current week'!D290","v":0},{"$f":"'Current week'!E290","v":0},{"$f":"'Current week'!F290","v":0},{"$f":"'Current week'!G290","v":0},null,null,null,null,null,null,null,null,{"$f":"UPDATE!$C$13","v":"-----"},0,0,0,0,0,null,0]
[null,{"$f":"'Current week'!C291","v":0},{"$f":"'Current week'!D291","v":0},{"$f":"'Current week'!E291","v":0},{"$f":"'Current week'!F291","v":0},{"$f":"'Current week'!G291","v":0},null,null,null,null,null,null,null,null,{"$f":"UPDATE!$C$12","v":"DIANE"},0,6,1,0,18,null,18]
[null,{"$f":"'Current week'!C292","v":0},{"$f":"'Current week'!D292","v":0},{"$f":"'Current week'!E292","v":0},{"$f":"'Current week'!F292","v":0},{"$f":"'Current week'!G292","v":0},null,null,null,null,null,null,null,null,{"$f":"UPDATE!$C$5","v":"MIKE"},5,3,0,1,28,null,28]
[null,{"$f":"'Current week'!C293","v":0},{"$f":"'Current week'!D293","v":0},{"$f":"'Current week'!E293","v":0},{"$f":"'Current week'!F293","v":0},{"$f":"'Current week'!G293","v":0},null,null,null,null,null,null,null,null,{"$f":"UPDATE!$C$9","v":"JEAN"},1,3,1,0,16,null,16]
[null,{"$f":"'Current week'!C294","v":0},{"$f":"'Current week'!D294","v":0},{"$f":"'Current week'!E294","v":0},{"$f":"'Current week'!F294","v":0},{"$f":"'Current week'!G294","v":0},null,null,null,null,null,null,null,null,{"$f":"UPDATE!$C$6","v":"JIM T."},3,2,0,1,18,null,18]
[null,{"$f":"'Current week'!C295","v":0},{"$f":"'Current week'!D295","v":0},{"$f":"'Current week'!E295","v":0},{"$f":"'Current week'!F295","v":0},{"$f":"'Current week'!G295","v":0},null,null,null,null,null,null,null,null,{"$f":"UPDATE!$C$10","v":"TIM"},4,1,0,2,22,null,22]
[null,{"$f":"'Current week'!C296","v":0},{"$f":"'Current week'!D296","v":0},{"$f":"'Current week'!E296","v":0},{"$f":"'Current week'!F296","v":0},{"$f":"'Current week'!G296","v":0},null,null,null,null,null,null,null,null,{"$f":"UPDATE!$C$7","v":"JIM K."},3,1,0,0,14,null,14]
[null,{"$f":"'Current week'!C297","v":0},{"$f":"'Current week'!D297","v":0},{"$f":"'Current week'!E297","v":0},{"$f":"'Current week'!F297","v":0},{"$f":"'Current week'!G297","v":0},null,null,null,null,null,null,null,null,{"$f":"UPDATE!$C$8","v":"JOHN"},3,5,0,1,24,null,24]
[null,{"$f":"'Current week'!C298","v":0},{"$f":"'Current week'!D298","v":0},{"$f":"'Current week'!E298","v":0},{"$f":"'Current week'!F298","v":0},{"$f":"'Current week'!G298","v":0},null,null,null,null,null,null,null,null,{"$f":"UPDATE!$C$14","v":0},0,0,0,0,0,null,0]
[null,{"$f":"'Current week'!C299","v":0},{"$f":"'Current week'!D299","v":0},{"$f":"'Current week'!E299","v":0},{"$f":"'Current week'!F299","v":0},{"$f":"'Current week'!G299","v":0},null,null,null,null,null,null,null,null,{"$f":"UPDATE!$C$15","v":0},{"$f":"COUNTIF($J$3:$J$28,O243)","v":0},{"$f":"COUNTIF($L$3:$L$28,O243)","v":0},{"$f":"COUNTIF($J$33:$J$39,O243)","v":0},{"$f":"COUNTIF($L$33:$L$38,O243)","v":0},{"$f":"4*P243+2*Q243+6*R243+2*S243","v":0},null,{"$f":"T243+U243","v":0}]
[null,null,null,null,null,null,null,null,null,null,null,null,null,null,"Total",{"$f":"SUM(P233:P243)","v":25},{"$f":"SUM(Q233:Q243)","v":25},5,5,190,0,190]
[null,{"$f":"\"MONTH OF \" & 'Current week'!$N$3","v":"MONTH OF OCTOBER"}]
[null,"NAME","W","L","PCT","GB"]
[null,{"$f":"'Current week'!C302","v":0},{"$f":"'Current week'!D302","v":0},{"$f":"'Current week'!E302","v":0},{"$f":"'Current week'!F302","v":0},{"$f":"'Current week'!G302","v":0}]
[null,{"$f":"'Current week'!C303","v":0},{"$f":"'Current week'!D303","v":0},{"$f":"'Current week'!E303","v":0},{"$f":"'Current week'!F303","v":0},{"$f":"'Current week'!G303","v":0},null,null,null,null,null,null,null,null,"MONEY BOARD"]
[null,{"$f":"'Current week'!C304","v":0},{"$f":"'Current week'!D304","v":0},{"$f":"'Current week'!E304","v":0},{"$f":"'Current week'!F304","v":0},{"$f":"'Current week'!G304","v":0},null,null,null,null,null,null,null,null,"Name","Winnings","Cost","Profit","Deposit","BAL"]
[null,{"$f":"'Current week'!C305","v":0},{"$f":"'Current week'!D305","v":0},{"$f":"'Current week'!E305","v":0},{"$f":"'Current week'!F305","v":0},{"$f":"'Current week'!G305","v":0},null,null,null,null,null,null,null,null,{"$f":"O233","v":"LARRY"},{"$f":"V233","v":50},{"$f":"'Current week'!$M$3","v":26},{"$f":"P250-Q250","v":24},26,{"$f":"R250+S250","v":50}]
[null,{"$f":"'Current week'!C306","v":0},{"$f":"'Current week'!D306","v":0},{"$f":"'Current week'!E306","v":0},{"$f":"'Current week'!F306","v":0},{"$f":"'Current week'!G306","v":0},null,null,null,null,null,null,null,null,{"$f":"O234","v":"-----"},0,{"$f":"'Current week'!$M$3","v":26},{"$f":"P251-Q251","v":-26},26,{"$f":"R251+S251","v":0}]
[null,{"$f":"'Current week'!C307","v":0},{"$f":"'Current week'!D307","v":0},{"$f":"'Current week'!E307","v":0},{"$f":"'Current week'!F307","v":0},{"$f":"'Current week'!G307","v":0},null,null,null,null,null,null,null,null,"DIANE",18,{"$f":"'Current week'!$M$3","v":26},-8,26,18]
[null,{"$f":"'Current week'!C308","v":0},{"$f":"'Current week'!D308","v":0},{"$f":"'Current week'!E308","v":0},{"$f":"'Current week'!F308","v":0},{"$f":"'Current week'!G308","v":0},null,null,null,null,null,null,null,null,"MIKE",28,{"$f":"'Current week'!$M$3","v":26},2,26,28]
[null,{"$f":"'Current week'!C309","v":0},{"$f":"'Current week'!D309","v":0},{"$f":"'Current week'!E309","v":0},{"$f":"'Current week'!F309","v":0},{"$f":"'Current week'!G309","v":0},null,null,null,null,null,null,null,null,"JEAN",16,{"$f":"'Current week'!$M$3","v":26},-10,26,16]
[null,{"$f":"'Current week'!C310","v":0},{"$f":"'Current week'!D310","v":0},{"$f":"'Current week'!E310","v":0},{"$f":"'Current week'!F310","v":0},{"$f":"'Current week'!G310","v":0},null,null,null,null,null,null,null,null,"JIM T.",18,{"$f":"'Current week'!$M$3","v":26},-8,26,18]
[null,{"$f":"'Current week'!C311","v":0},{"$f":"'Current week'!D311","v":0},{"$f":"'Current week'!E311","v":0},{"$f":"'Current week'!F311","v":0},{"$f":"'Current week'!G311","v":0},null,null,null,null,null,null,null,null,"TIM",22,{"$f":"'Current week'!$M$3","v":26},-4,26,22]
[null,{"$f":"'Current week'!C312","v":0},{"$f":"'Current week'!D312","v":0},{"$f":"'Current week'!E312","v":0},{"$f":"'Current week'!F312","v":0},{"$f":"'Current week'!G312","v":0},null,null,null,null,null,null,null,null,"JIM K.",14,{"$f":"'Current week'!$M$3","v":26},-12,26,14]
[null,null,null,null,null,null,null,null,null,null,null,null,null,null,"JOHN",24,{"$f":"'Current week'!$M$3","v":26},-2,26,24]
[null,{"$f":"YEAR(TODAY())","v":2022},null,"SEASON",null,null,null,null,null,null,null,null,null,null,0,0,{"$f":"'Current week'!$M$3","v":26},-26,26,0]
[null,"NAME","W","L","PCT","GB",null,null,null,null,null,null,null,null,0,{"$f":"V243","v":0},{"$f":"'Current week'!$M$3","v":26},{"$f":"P260-Q260","v":-26},26,{"$f":"R260+S260","v":0}]
[null,{"$f":"'Current week'!C314","v":0},{"$f":"'Current week'!D314","v":0},{"$f":"'Current week'!E314","v":0},{"$f":"'Current week'!F314","v":0},{"$f":"'Current week'!G314","v":0},null,null,null,null,null,null,null,null,"Total",{"$f":"SUM(P250:P260)","v":190},{"$f":"SUM(Q250:Q260)","v":286},{"$f":"SUM(R250:R260)","v":-96},{"$f":"SUM(S250:S260)","v":286},{"$f":"SUM(T250:T260)","v":190}]
[null,{"$f":"'Current week'!C315","v":0},{"$f":"'Current week'!D315","v":0},{"$f":"'Current week'!E315","v":0},{"$f":"'Current week'!F315","v":0},{"$f":"'Current week'!G315","v":0}]
[null,{"$f":"'Current week'!C316","v":0},{"$f":"'Current week'!D316","v":0},{"$f":"'Current week'!E316","v":0},{"$f":"'Current week'!F316","v":0},{"$f":"'Current week'!G316","v":0}]
[null,{"$f":"'Current week'!C317","v":0},{"$f":"'Current week'!D317","v":0},{"$f":"'Current week'!E317","v":0},{"$f":"'Current week'!F317","v":0},{"$f":"'Current week'!G317","v":0}]
[null,{"$f":"'Current week'!C318","v":0},{"$f":"'Current week'!D318","v":0},{"$f":"'Current week'!E318","v":0},{"$f":"'Current week'!F318","v":0},{"$f":"'Current week'!G318","v":0}]
[null,{"$f":"'Current week'!C319","v":0},{"$f":"'Current week'!D319","v":0},{"$f":"'Current week'!E319","v":0},{"$f":"'Current week'!F319","v":0},{"$f":"'Current week'!G319","v":0}]
[null,{"$f":"'Current week'!C320","v":0},{"$f":"'Current week'!D320","v":0},{"$f":"'Current week'!E320","v":0},{"$f":"'Current week'!F320","v":0},{"$f":"'Current week'!G320","v":0}]
[null,{"$f":"'Current week'!C321","v":0},{"$f":"'Current week'!D321","v":0},{"$f":"'Current week'!E321","v":0},{"$f":"'Current week'!F321","v":0},{"$f":"'Current week'!G321","v":0}]
[null,{"$f":"'Current week'!C322","v":0},{"$f":"'Current week'!D322","v":0},{"$f":"'Current week'!E322","v":0},{"$f":"'Current week'!F322","v":0},{"$f":"'Current week'!G322","v":0}]
[null,{"$f":"'Current week'!C323","v":0},{"$f":"'Current week'!D323","v":0},{"$f":"'Current week'!E323","v":0},{"$f":"'Current week'!F323","v":0},{"$f":"'Current week'!G323","v":0}]
[null,{"$f":"'Current week'!C324","v":0},{"$f":"'Current week'!D324","v":0},{"$f":"'Current week'!E324","v":0},{"$f":"'Current week'!F324","v":0},{"$f":"'Current week'!G324","v":0}]
[]
[12,"WEEKLY POOL",null,null,{"$f":"'Current week'!$D$3","v":"2021-10-03"},null,null,null,null,null,null,null,null,null,"Number of Wins",null,null,null,null,"* Adds are for ties, $7/$3 monthlys, and Season"]
[null,"NAME","W","L","PCT","GB",null,null,null,null,null,null,null,null,null,"Wk 1st","Wk 2nd","Mon 1st","Mon 2nd","Winnings","Adds","Total"]
[null,{"$f":"'Current week'!C331","v":0},{"$f":"'Current week'!D331","v":0},{"$f":"'Current week'!E331","v":0},{"$f":"'Current week'!F331","v":0},{"$f":"'Current week'!G331","v":0},null,null,null,null,null,null,null,null,{"$f":"UPDATE!$C$11","v":"LARRY"},{"$f":"COUNTIF($J$3:$J$28,O275)","v":6},{"$f":"COUNTIF($L$3:$L$28,O275)","v":4},{"$f":"COUNTIF($J$33:$J$39,O275)","v":3},{"$f":"COUNTIF($L$33:$L$38,O275)","v":0},{"$f":"4*P275+2*Q275+6*R275+2*S275","v":50},null,{"$f":"T275+U275","v":50}]
[null,{"$f":"'Current week'!C332","v":0},{"$f":"'Current week'!D332","v":0},{"$f":"'Current week'!E332","v":0},{"$f":"'Current week'!F332","v":0},{"$f":"'Current week'!G332","v":0},null,null,null,null,null,null,null,null,{"$f":"UPDATE!$C$13","v":"-----"},0,0,0,0,0,null,0]
[null,{"$f":"'Current week'!C333","v":0},{"$f":"'Current week'!D333","v":0},{"$f":"'Current week'!E333","v":0},{"$f":"'Current week'!F333","v":0},{"$f":"'Current week'!G333","v":0},null,null,null,null,null,null,null,null,{"$f":"UPDATE!$C$12","v":"DIANE"},0,6,1,0,18,null,18]
[null,{"$f":"'Current week'!C334","v":0},{"$f":"'Current week'!D334","v":0},{"$f":"'Current week'!E334","v":0},{"$f":"'Current week'!F334","v":0},{"$f":"'Current week'!G334","v":0},null,null,null,null,null,null,null,null,{"$f":"UPDATE!$C$5","v":"MIKE"},5,3,0,1,28,null,28]
[null,{"$f":"'Current week'!C335","v":0},{"$f":"'Current week'!D335","v":0},{"$f":"'Current week'!E335","v":0},{"$f":"'Current week'!F335","v":0},{"$f":"'Current week'!G335","v":0},null,null,null,null,null,null,null,null,{"$f":"UPDATE!$C$9","v":"JEAN"},1,3,1,0,16,null,16]
[null,{"$f":"'Current week'!C336","v":0},{"$f":"'Current week'!D336","v":0},{"$f":"'Current week'!E336","v":0},{"$f":"'Current week'!F336","v":0},{"$f":"'Current week'!G336","v":0},null,null,null,null,null,null,null,null,{"$f":"UPDATE!$C$6","v":"JIM T."},3,2,0,1,18,null,18]
[null,{"$f":"'Current week'!C337","v":0},{"$f":"'Current week'!D337","v":0},{"$f":"'Current week'!E337","v":0},{"$f":"'Current week'!F337","v":0},{"$f":"'Current week'!G337","v":0},null,null,null,null,null,null,null,null,{"$f":"UPDATE!$C$10","v":"TIM"},4,1,0,2,22,null,22]
[null,{"$f":"'Current week'!C338","v":0},{"$f":"'Current week'!D338","v":0},{"$f":"'Current week'!E338","v":0},{"$f":"'Current week'!F338","v":0},{"$f":"'Current week'!G338","v":0},null,null,null,null,null,null,null,null,{"$f":"UPDATE!$C$7","v":"JIM K."},3,1,0,0,14,null,14]
[null,{"$f":"'Current week'!C339","v":0},{"$f":"'Current week'!D339","v":0},{"$f":"'Current week'!E339","v":0},{"$f":"'Current week'!F339","v":0},{"$f":"'Current week'!G339","v":0},null,null,null,null,null,null,null,null,{"$f":"UPDATE!$C$8","v":"JOHN"},3,5,0,1,24,null,24]
[null,{"$f":"'Current week'!C340","v":0},{"$f":"'Current week'!D340","v":0},{"$f":"'Current week'!E340","v":0},{"$f":"'Current week'!F340","v":0},{"$f":"'Current week'!G340","v":0},null,null,null,null,null,null,null,null,{"$f":"UPDATE!$C$14","v":0},0,0,0,0,0,null,0]
[null,{"$f":"'Current week'!C341","v":0},{"$f":"'Current week'!D341","v":0},{"$f":"'Current week'!E341","v":0},{"$f":"'Current week'!F341","v":0},{"$f":"'Current week'!G341","v":0},null,null,null,null,null,null,null,null,{"$f":"UPDATE!$C$15","v":0},{"$f":"COUNTIF($J$3:$J$28,O285)","v":0},{"$f":"COUNTIF($L$3:$L$28,O285)","v":0},{"$f":"COUNTIF($J$33:$J$39,O285)","v":0},{"$f":"COUNTIF($L$33:$L$38,O285)","v":0},{"$f":"4*P285+2*Q285+6*R285+2*S285","v":0},null,{"$f":"T285+U285","v":0}]
[null,{"$f":"'Current week'!C342","v":0},{"$f":"'Current week'!D342","v":0},{"$f":"'Current week'!E342","v":0},{"$f":"'Current week'!F342","v":0},{"$f":"'Current week'!G342","v":0},null,null,null,null,null,null,null,null,{"$f":"UPDATE!$C$16","v":0},{"$f":"COUNTIF($J$3:$J$28,O286)","v":0},{"$f":"COUNTIF($L$3:$L$28,O286)","v":0},{"$f":"COUNTIF($J$33:$J$39,O286)","v":0},{"$f":"COUNTIF($L$33:$L$38,O286)","v":0},{"$f":"4*P286+2*Q286+6*R286+2*S286","v":0},null,{"$f":"T286+U286","v":0}]
[null,null,null,null,null,null,null,null,null,null,null,null,null,null,"Total",{"$f":"SUM(P275:P286)","v":25},{"$f":"SUM(Q275:Q286)","v":25},5,5,190,0,190]
[null,{"$f":"\"MONTH OF \" & 'Current week'!$N$3","v":"MONTH OF OCTOBER"}]
[null,"NAME","W","L","PCT","GB"]
[null,{"$f":"'Current week'!C344","v":0},{"$f":"'Current week'!D344","v":0},{"$f":"'Current week'!E344","v":0},{"$f":"'Current week'!F344","v":0},{"$f":"'Current week'!G344","v":0},null,null,null,null,null,null,null,null,"MONEY BOARD"]
[null,{"$f":"'Current week'!C345","v":0},{"$f":"'Current week'!D345","v":0},{"$f":"'Current week'!E345","v":0},{"$f":"'Current week'!F345","v":0},{"$f":"'Current week'!G345","v":0},null,null,null,null,null,null,null,null,"Name","Winnings","Cost","Profit","Deposit","BAL"]
[null,{"$f":"'Current week'!C346","v":0},{"$f":"'Current week'!D346","v":0},{"$f":"'Current week'!E346","v":0},{"$f":"'Current week'!F346","v":0},{"$f":"'Current week'!G346","v":0},null,null,null,null,null,null,null,null,{"$f":"O275","v":"LARRY"},{"$f":"V275","v":50},{"$f":"'Current week'!$M$3","v":26},{"$f":"P292-Q292","v":24},26,{"$f":"R292+S292","v":50}]
[null,{"$f":"'Current week'!C347","v":0},{"$f":"'Current week'!D347","v":0},{"$f":"'Current week'!E347","v":0},{"$f":"'Current week'!F347","v":0},{"$f":"'Current week'!G347","v":0},null,null,null,null,null,null,null,null,{"$f":"O276","v":"-----"},0,{"$f":"'Current week'!$M$3","v":26},{"$f":"P293-Q293","v":-26},26,{"$f":"R293+S293","v":0}]
[null,{"$f":"'Current week'!C348","v":0},{"$f":"'Current week'!D348","v":0},{"$f":"'Current week'!E348","v":0},{"$f":"'Current week'!F348","v":0},{"$f":"'Current week'!G348","v":0},null,null,null,null,null,null,null,null,"DIANE",18,{"$f":"'Current week'!$M$3","v":26},-8,26,18]
[null,{"$f":"'Current week'!C349","v":0},{"$f":"'Current week'!D349","v":0},{"$f":"'Current week'!E349","v":0},{"$f":"'Current week'!F349","v":0},{"$f":"'Current week'!G349","v":0},null,null,null,null,null,null,null,null,"MIKE",28,{"$f":"'Current week'!$M$3","v":26},2,26,28]
[null,{"$f":"'Current week'!C350","v":0},{"$f":"'Current week'!D350","v":0},{"$f":"'Current week'!E350","v":0},{"$f":"'Current week'!F350","v":0},{"$f":"'Current week'!G350","v":0},null,null,null,null,null,null,null,null,"JEAN",16,{"$f":"'Current week'!$M$3","v":26},-10,26,16]
[null,{"$f":"'Current week'!C351","v":0},{"$f":"'Current week'!D351","v":0},{"$f":"'Current week'!E351","v":0},{"$f":"'Current week'!F351","v":0},{"$f":"'Current week'!G351","v":0},null,null,null,null,null,null,null,null,"JIM T.",18,{"$f":"'Current week'!$M$3","v":26},-8,26,18]
[null,{"$f":"'Current week'!C352","v":0},{"$f":"'Current week'!D352","v":0},{"$f":"'Current week'!E352","v":0},{"$f":"'Current week'!F352","v":0},{"$f":"'Current week'!G352","v":0},null,null,null,null,null,null,null,null,"TIM",22,{"$f":"'Current week'!$M$3","v":26},-4,26,22]
[null,{"$f":"'Current week'!C353","v":0},{"$f":"'Current week'!D353","v":0},{"$f":"'Current week'!E353","v":0},{"$f":"'Current week'!F353","v":0},{"$f":"'Current week'!G353","v":0},null,null,null,null,null,null,null,null,"JIM K.",14,{"$f":"'Current week'!$M$3","v":26},-12,26,14]
[null,{"$f":"'Current week'!C354","v":0},{"$f":"'Current week'!D354","v":0},{"$f":"'Current week'!E354","v":0},{"$f":"'Current week'!F354","v":0},{"$f":"'Current week'!G354","v":0},null,null,null,null,null,null,null,null,"JOHN",24,{"$f":"'Current week'!$M$3","v":26},-2,26,24]
[null,{"$f":"'Current week'!C355","v":0},{"$f":"'Current week'!D355","v":0},{"$f":"'Current week'!E355","v":0},{"$f":"'Current week'!F355","v":0},{"$f":"'Current week'!G355","v":0},null,null,null,null,null,null,null,null,0,0,{"$f":"'Current week'!$M$3","v":26},-26,26,0]
[null,null,null,null,null,null,null,null,null,null,null,null,null,null,{"$f":"O285","v":0},{"$f":"V285","v":0},{"$f":"'Current week'!$M$3","v":26},-26,26,0]
[null,{"$f":"YEAR(TODAY())","v":2022},null,"SEASON",null,null,null,null,null,null,null,null,null,null,{"$f":"O286","v":0},{"$f":"V286","v":0},{"$f":"'Current week'!$M$3","v":26},{"$f":"P303-Q303","v":-26},26,{"$f":"R303+S303","v":0}]
[null,"NAME","W","L","PCT","GB",null,null,null,null,null,null,null,null,"Total",{"$f":"SUM(P292:P303)","v":190},{"$f":"SUM(Q292:Q303)","v":312},{"$f":"SUM(R292:R303)","v":-122},{"$f":"SUM(S292:S303)","v":312},{"$f":"SUM(T292:T303)","v":190}]
[null,{"$f":"'Current week'!C356","v":0},{"$f":"'Current week'!D356","v":0},{"$f":"'Current week'!E356","v":0},{"$f":"'Current week'!F356","v":0},{"$f":"'Current week'!G356","v":0}]
[null,{"$f":"'Current week'!C357","v":0},{"$f":"'Current week'!D357","v":0},{"$f":"'Current week'!E357","v":0},{"$f":"'Current week'!F357","v":0},{"$f":"'Current week'!G357","v":0}]
[null,{"$f":"'Current week'!C358","v":0},{"$f":"'Current week'!D358","v":0},{"$f":"'Current week'!E358","v":0},{"$f":"'Current week'!F358","v":0},{"$f":"'Current week'!G358","v":0}]
[null,{"$f":"'Current week'!C359","v":0},{"$f":"'Current week'!D359","v":0},{"$f":"'Current week'!E359","v":0},{"$f":"'Current week'!F359","v":0},{"$f":"'Current week'!G359","v":0}]
[null,{"$f":"'Current week'!C360","v":0},{"$f":"'Current week'!D360","v":0},{"$f":"'Current week'!E360","v":0},{"$f":"'Current week'!F360","v":0},{"$f":"'Current week'!G360","v":0}]
[null,{"$f":"'Current week'!C361","v":0},{"$f":"'Current week'!D361","v":0},{"$f":"'Current week'!E361","v":0},{"$f":"'Current week'!F361","v":0},{"$f":"'Current week'!G361","v":0}]
[null,{"$f":"'Current week'!C362","v":0},{"$f":"'Current week'!D362","v":0},{"$f":"'Current week'!E362","v":0},{"$f":"'Current week'!F362","v":0},{"$f":"'Current week'!G362","v":0}]
[null,{"$f":"'Current week'!C363","v":0},{"$f":"'Current week'!D363","v":0},{"$f":"'Current week'!E363","v":0},{"$f":"'Current week'!F363","v":0},{"$f":"'Current week'!G363","v":0}]
[null,{"$f":"'Current week'!C364","v":0},{"$f":"'Current week'!D364","v":0},{"$f":"'Current week'!E364","v":0},{"$f":"'Current week'!F364","v":0},{"$f":"'Current week'!G364","v":0}]
[null,{"$f":"'Current week'!C365","v":0},{"$f":"'Current week'!D365","v":0},{"$f":"'Current week'!E365","v":0},{"$f":"'Current week'!F365","v":0},{"$f":"'Current week'!G365","v":0}]
[null,{"$f":"'Current week'!C366","v":0},{"$f":"'Current week'!D366","v":0},{"$f":"'Current week'!E366","v":0},{"$f":"'Current week'!F366","v":0},{"$f":"'Current week'!G366","v":0}]
[null,{"$f":"'Current week'!C367","v":0},{"$f":"'Current week'!D367","v":0},{"$f":"'Current week'!E367","v":0},{"$f":"'Current week'!F367","v":0},{"$f":"'Current week'!G367","v":0}]

{"sheet":"Standings","index":1,"n_rows":0,"n_cols":0,"rows_kept":0,"cut":false,"hidden":true,"merged":[]}

{"sheet":"Table 5","index":2,"n_rows":6,"n_cols":3,"rows_kept":6,"cut":false,"hidden":true,"merged":[]}
["TEAM","W","L"]
["Giants Z",106,55]
["Dodgers W",105,56]
["Padres",79,82]
["Rockies",74,86]
["Diamondbacks",51,110]

{"sheet":"Table 4","index":3,"n_rows":6,"n_cols":3,"rows_kept":6,"cut":false,"hidden":true,"merged":[]}
["TEAM","W","L"]
["Brewers Y",95,66]
["Cardinals X",90,71]
["Reds",82,79]
["Cubs",70,91]
["Pirates",61,100]

{"sheet":"Table 3","index":4,"n_rows":6,"n_cols":3,"rows_kept":6,"cut":false,"hidden":true,"merged":[]}
["TEAM","W","L"]
["Braves Y",87,73]
["Phillies",82,79]
["Mets",77,84]
["Marlins",66,95]
["Nationals",65,96]

{"sheet":"Table 2","index":5,"n_rows":6,"n_cols":3,"rows_kept":6,"cut":false,"hidden":true,"merged":[]}
["TEAM","W","L"]
["Astros Y",94,67]
["Mariners",90,71]
["Athletics",86,75]
["Angels",76,85]
["Rangers",60,101]

{"sheet":"Table 1","index":6,"n_rows":6,"n_cols":3,"rows_kept":6,"cut":false,"hidden":true,"merged":[]}
["TEAM","W","L"]
["White Sox Y",93,68]
["Indians",79,82]
["Tigers",76,85]
["Royals",74,87]
["Twins",72,89]

{"sheet":"Table 0","index":7,"n_rows":6,"n_cols":3,"rows_kept":6,"cut":false,"hidden":true,"merged":[]}
["TEAM","W","L"]
["Rays Z",100,61]
["Red Sox",91,70]
["Yankees",91,70]
["Blue Jays",90,71]
["Orioles",52,109]

{"sheet":"Append1","index":8,"n_rows":32,"n_cols":3,"rows_kept":32,"cut":false,"hidden":false,"merged":[]}
["TEAM","W","L"]
["Rays",100,61]
["Red Sox",91,70]
["Yankees",91,70]
["Blue Jays",90,71]
["Orioles",52,109]
["White Sox",93,68]
["Indians",79,82]
["Tigers",76,85]
["Royals",74,87]
["Twins",72,89]
["Astros",94,67]
["Mariners",90,71]
["Athletics",86,75]
["Angels",76,85]
["Rangers",60,101]
["Braves",87,73]
["Phillies",82,79]
["Mets",77,84]
["Marlins",66,95]
["Nationals",65,96]
["Brewers",95,66]
["Cardinals",90,71]
["Reds",82,79]
["Cubs",70,91]
["Pirates",61,100]
["Giants",106,55]
["Dodgers",105,56]
["Padres",79,82]
["Rockies",74,86]
["Diamondbacks",51,110]
["West"]

{"sheet":"UPDATE","index":9,"n_rows":286,"n_cols":15,"rows_kept":286,"cut":false,"hidden":false,"merged":[[69,11,70,11],[72,11,73,11],[64,11,65,11],[53,11,54,11],[22,2,22,8],[51,4,51,5],[2,2,2,8],[38,2,39,2],[38,5,39,5],[38,8,39,8],[56,11,57,11]]}
["AL East","Used",null,null,null,{"$f":"YEAR(TODAY())","v":2022}]
["Blue Jays",{"$f":"COUNTIF($C$54:$K$71,A2)","v":4},null,null,null,null,null,null,null,null,null,null,null,"At the very start:"]
["Orioles",{"$f":"COUNTIF($C$54:$K$71,A3)","v":9},"CURRENT PICKS",null,null,null,null,null,null,null,null,null,null,null,"Set the number of players on the End sheet."]
["Rays",{"$f":"COUNTIF($C$54:$K$71,A4)","v":5},"NAME",1,2,3,4,5,6,null,null,null,null,null,"Copy the approriate grids on Summary and Update Sheet"]
["Yankees",{"$f":"COUNTIF($C$54:$K$71,A5)","v":4},"MIKE","Rays","Astros","Brewers","Padres","Indians","Phillies",null,null,null,null,null,"If more than 9 players unhide AE thru AH, otherwise hide them"]
["Red Sox",{"$f":"COUNTIF($C$54:$K$71,A6)","v":8},"JIM T.","Rays","White Sox","Astros","Braves","Brewers","Dodgers"]
["AL Central",null,"JIM K.","Giants","White Sox","Red Sox","Athletics","Phillies","Cubs"]
["Twins",{"$f":"COUNTIF($C$54:$K$71,A8)","v":5},"JOHN","Dodgers","Yankees","Phillies","White Sox","Brewers","Athletics",null,null,null,null,"To refresh and sort anytime:"]
["White Sox",{"$f":"COUNTIF($C$54:$K$71,A9)","v":5},"JEAN","Rays","Astros","Phillies","Cardinals","Padres","White Sox",null,null,null,null,"·         Click Update Standings Button on UPDATE sheet."]
["Royals",{"$f":"COUNTIF($C$54:$K$71,A10)","v":6},"TIM","Giants","Rays","Brewers","Astros","White Sox","Braves",null,null,null,null,"·         Save spreadsheet & upload files to website with WinSCP Client *"]
["Tigers",{"$f":"COUNTIF($C$54:$K$71,A11)","v":4},"LARRY","Braves","Cardinals","White Sox","Yankees","Mariners","Dodgers"]
["Indians",{"$f":"COUNTIF($C$54:$K$71,A12)","v":5},"DIANE","Brewers","White Sox","Dodgers","Astros","Yankees","Phillies",null,null,null,null,"Weekly Update (Monday AM):"]
["AL  West",null,"-----","Cubs","Indians","Blue Jays","Astros","Padres","Nationals",null,null,null,null,"·         Click Update Standings Button on UPDATE sheet."]
["Angels",{"$f":"COUNTIF($C$54:$K$71,A14)","v":6},null,null,null,null,null,null,null,null,null,null,null,"·         Payout winners (just click names under current week on Summary page-"]
["Rangers",{"$f":"COUNTIF($C$54:$K$71,A15)","v":6},null,null,null,null,null,null,null,null,null,null,null,null,"      -money calc automatically)"]
["Mariners",{"$f":"COUNTIF($C$54:$K$71,A16)","v":3},null,null,null,null,null,null,null,null,null,null,null,"·         Save spreadsheet & upload files to website with WinSCP Client *"]
["Athletics",{"$f":"COUNTIF($C$54:$K$71,A17)","v":9},null,null,null,null,null,null,null,null,null,null,null,"·         Click New Week on UPDATE sheet."]
["Astros",{"$f":"COUNTIF($C$54:$K$71,A18)","v":7},null,null,null,null,null,null,null,null,null,null,null,"·         Manually enter new picks in NEXT PICKS table (or see instructions below)"]
["NL East",null,"PICKS UPDATED",null,"Last Update on","2021-09-27T16:45:10",44466.69803240741,null,null,null,null,null,null,"·         Copy NEXT PICKS to CURRENT PICKS (after noon Monday)"]
["Nationals",{"$f":"COUNTIF($C$54:$K$71,A20)","v":6},null,null,null,null,null,null,null,null,null,null,null,"             (Copy Picks also Updates the Picks)"]
["Braves",{"$f":"COUNTIF($C$54:$K$71,A21)","v":4},null,null,null,"COPY PICKS",null,null,null,null,null,null,null,"·         Save spreadsheet & upload files to website with WinSCP Client *"]
["Phillies",{"$f":"COUNTIF($C$54:$K$71,A22)","v":5},null,null,null,null,null,null,null,null,null,null,null,"o   Do this after uploading Monday Final!"]
["Mets",{"$f":"COUNTIF($C$54:$K$71,A23)","v":5},"NEXT PICKS"]
["Marlins",{"$f":"COUNTIF($C$54:$K$71,A24)","v":4},"NAME",1,2,3,4,5,6,null,null,null,null,"Monthly Update (after last week in the month)"]
["NL  Central",null,{"$f":"C5","v":"MIKE"},"Rays","Astros","Brewers","Padres","Indians","Phillies",null,null,null,null,"·         Click Update Standings Button on UPDATE sheet."]
["Pirates",{"$f":"COUNTIF($C$54:$K$71,A26)","v":6},"JIM T.","Rays","White Sox","Astros","Braves","Brewers","Dodgers",null,null,null,null,"·         Payout winners (just click names under current week on Summary page-"]
["Cubs",{"$f":"COUNTIF($C$54:$K$71,A27)","v":6},"JIM K.","Giants","White Sox","Red Sox","Athletics","Phillies","Cubs",null,null,null,null,null,"      -money calc automatically)"]
["Brewers",{"$f":"COUNTIF($C$54:$K$71,A28)","v":5},"JOHN","Dodgers","Yankees","Phillies","White Sox","Brewers","Athletics",null,null,null,null,"·         Save spreadsheet & upload files to website with WinSCP Client *"]
["Cardinals",{"$f":"COUNTIF($C$54:$K$71,A29)","v":6},"JEAN","Rays","Astros","Phillies","Cardinals","Padres","White Sox",null,null,null,null,"·         Click New Month on UPDATE sheet"]
["Reds",{"$f":"COUNTIF($C$54:$K$71,A30)","v":4},"TIM","Giants","Rays","Brewers","Astros","White Sox","Braves",null,null,null,null,"·         Manually enter new picks in NEXT PICKS table (or see instructions below)"]
["NL  West",null,"LARRY","Braves","Cardinals","White Sox","Yankees","Mariners","Dodgers",null,null,null,null,"·         Copy NEXT PICKS to CURRENT PICKS (after noon Monday)"]
["Giants",{"$f":"COUNTIF($C$54:$K$71,A32)","v":6},"DIANE","Brewers","White Sox","Dodgers","Astros","Yankees","Phillies",null,null,null,null,"·         Save spreadsheet & upload files to website with WinSCP Client *"]
["Diamondbacks",{"$f":"COUNTIF($C$54:$K$71,A33)","v":3},"-----","Cubs","Indians","Blue Jays","Astros","Padres","Nationals",null,null,null,null,"o   Do this after uploading Monday Final!"]
["Padres",{"$f":"COUNTIF($C$54:$K$71,A34)","v":5},null,null,null,null,null,null,null,null,null,null,null,"* Use Blue Griffon to update the index.html file with text before upload."]
["Dodgers",{"$f":"COUNTIF($C$54:$K$71,A35)","v":6}]
["Rockies",{"$f":"COUNTIF($C$54:$K$71,A36)","v":5},null,null,null,null,null,null,null,null,null,null,null,"New Way to Enter Picks:"]
[null,null,null,null,null,null,null,null,null,null,null,null,null,"    Go to Sort Draft sheet and follow instructions"]
[null,null,null,"Last Update on",null,null,"Last Update on",null,null,"Last Update on",null,null,null,"    Click Copy Draft Order on Sort Draft sheet when done"]
[null,null,"UPDATE STANDINGS","2021-10-03T05:22:27",null,"NEW WEEK","2021-09-27T16:44:55",null,"NEW MONTH","2021-08-31T05:35:38",null,null,null,"           This copies the picks to Next Picks."]
[null,null,null,44472.223923611113,null,null,44466.697858796295,null,null,44439.233078703706,null,null,null,"            Then click on Copy Picks button to make the teams active."]
[]
["Blue Jays",null,"1. Select Team from column on the left. Then click on cell to add team to player's list."]
["Orioles",null,"2. Current Picks are for the current week. Next Picks are for the next week."]
["Rays",null,"3. Copy Picks copies the Next Picks to the Current Picks. Update Picks updates the pick info on the current week sheet."]
["Yankees",null,"4. Update Standings refreshes the Standings Data and sorts the players info."]
["Red Sox",null,"5. Weekly Update refreshes, sorts, copies current week to back up sheet, updates weekly totals, copies team W-L records to Previous Week"]
["Twins",null,"6. Monthly Update does weekly update and updates month data at end of month."]
["White Sox"]
["Royals",null,"Grid sizes for other numbers of players are below"]
["Tigers"]
["Indians"]
["Angels","`",null,null,"SEPTEMBER",null," DRAFT"]
["Rangers",null,{"$f":"$C$5","v":"MIKE"},{"$f":"$C$6","v":"JIM T."},{"$f":"$C$7","v":"JIM K."},{"$f":"$C$8","v":"JOHN"},{"$f":"$C$9","v":"JEAN"},{"$f":"$C$10","v":"TIM"},{"$f":"$C$11","v":"LARRY"},{"$f":"$C$12","v":"DIANE"},{"$f":"$C$13","v":"-----"}]
["Mariners",1,"Royals","Rays","Pirates","Red Sox","White Sox","Brewers","Athletics","Diamondbacks","Yankees","RUN          DRAFT"]
["Athletics",2,"Angels","Athletics","Orioles","Rockies","Cardinals","Orioles","Nationals","Brewers","Cardinals"]
["Astros",3,"Rockies","Twins","Braves","Athletics","Nationals","Giants","Rockies","Royals","Braves"]
["Nationals",4,"Nationals","Phillies","Indians","Cubs","Giants","Royals","Royals","Phillies","Dodgers","CLEAR ALL"]
["Braves",5,"Pirates","Rockies","Giants","Indians","Angels","Mets","Reds","Rangers","Twins"]
["Phillies",6,"Red Sox","Pirates","Angels","Phillies","Orioles","Rangers","Blue Jays","Red Sox","Angels"]
["Mets",1,"Yankees","Yankees","Red Sox","Yankees","Blue Jays","Red Sox","Orioles","Rays","Red Sox"]
["Marlins",2,"Indians","Royals","Royals","Twins","Twins","White Sox","Indians","White Sox","Tigers"]
["Pirates",3,"Athletics","Astros","Athletics","Astros","Rangers","Athletics","Astros","Athletics","Athletics"]
["Cubs",4,"Mets","Mets","Nationals","Braves","Marlins","Phillies","Phillies","Marlins","Nationals"]
["Brewers",5,"Brewers","Cardinals","Cubs","Cardinals","Pirates","Cubs","Cubs","Cubs","Brewers"]
["Cardinals",6,"Padres","Giants","Diamondbacks","Dodgers","Padres","Rockies","Dodgers","Dodgers","Giants","COPY TO NEXT PICKS"]
["Reds",7,"Diamondbacks","Rangers","Twins","Mariners","Indians","Rays","Padres","Astros","Padres"]
["Giants",8,"Giants","Padres","Tigers","Rangers","Dodgers","Reds","Marlins","Nationals","Mets"]
["Diamondbacks",9,"Cubs","Dodgers","Marlins","Orioles","Reds","Angels","White Sox","Pirates","White Sox"]
["Padres",10,"Rays","Mariners","Reds","Brewers","Tigers","Blue Jays","Red Sox","Cardinals","Rangers"]
["Dodgers",11,"Orioles","Orioles","Mets","Tigers","Athletics","Astros","Cardinals","Angels","Mariners","SAVE           DRAFT"]
["Rockies",12,"Astros","Braves","Astros","Blue Jays","Red Sox","Pirates","Rays","Orioles","Orioles"]
[]
[null,null,null,null,null,null,null,null,null,null,null,"RESTORE   DRAFT"]
[]
[]
[]
[]
[]
[]
[]
[]
[]
[]
[]
[]
[]
[]
[]
[]
[]
[]
[]
[]
[]
[]
[]
[]
[]
[]
[]
[8,null,"NAME",1,2,3,4,5,6]
[null,null,{"$f":"C85","v":0}]
[null,null,0]
[null,null,0]
[null,null,0]
[null,null,0]
[null,null,0]
[null,null,0]
[null,null,0]
[]
[9,null,"NAME",1,2,3,4,5,6]
[null,null,{"$f":"C95","v":0}]
[null,null,0]
[null,null,0]
[null,null,0]
[null,null,0]
[null,null,0]
[null,null,"NAME"]
[null,null,0]
[null,null,0]
[]
[10,null,"NAME",1,2,3,4,5,6]
[null,null,{"$f":"C106","v":0}]
[null,null,0]
[null,null,0]
[null,null,0]
[null,null,0]
[null,null,"NAME"]
[null,null,0]
[null,null,0]
[null,null,{"$f":"C114","v":0}]
[null,null,{"$f":"C115","v":0}]
[]
[11,null,"NAME",1,2,3,4,5,6]
[null,null,{"$f":"C118","v":"NAME"}]
[null,null,0]
[null,null,0]
[null,null,0]
[null,null,"NAME"]
[null,null,0]
[null,null,0]
[null,null,0]
[null,null,0]
[null,null,{"$f":"C127","v":0}]
[null,null,{"$f":"C128","v":"NAME"}]
[]
[12,null,"NAME",1,2,3,4,5,6]
[null,null,{"$f":"C131","v":0}]
[null,null,0]
[null,null,0]
[null,null,"NAME"]
[null,null,"NAME"]
[null,null,0]
[null,null,0]
[null,null,0]
[null,null,"NAME"]
[null,null,0]
[null,null,{"$f":"C141","v":0}]
[null,null,{"$f":"C142","v":0}]
[]
[]
[]
[]
[]
[]
[]
[]
[]
[]
[]
[]
[]
[]
[]
[]
[]
[]
[]
[]
[]
[]
[]
[]
[]
[]
[]
[]
[]
[]
[]
[]
[]
[]
[]
[]
[]
[]
[]
[]
[]
[]
[]
[]
[]
[]
[]
[]
[]
[]
[]
[]
[]
[]
[]
[]
[]
[]
[]
[]
[]
[]
[]
[]
[]
[]
[]
[]
[]
[]
[]
[]
[]
[]
[]
[]
[]
[]
[]
[]
[]
[]
[]
[]
[]
[]
[]
[]
[]
[]
[]
[]
[]
[]
[]
[]
[]
[]
[]
[]
[]
[]
[]
[]
[]
[]
[]
[]
[]
[]
[]
[]
[]
[]
[]
[]
[]
[]
[]
[]
[]
[]
[]
[]
[]
[]
[" "]

{"sheet":"Sort Draft","index":10,"n_rows":38,"n_cols":24,"rows_kept":38,"cut":false,"hidden":false,"merged":[[21,1,22,1],[21,3,22,3],[21,17,22,17],[21,5,22,5],[21,9,22,9],[21,13,22,13]]}
[null,null,null,null,null,null,null,"SEPTEMBER",null," DRAFT"]
["#",{"$f":"UPDATE!$C$5","v":"MIKE"},"#",{"$f":"UPDATE!$C$6","v":"JIM T."},"#",{"$f":"UPDATE!$C$7","v":"JIM K."},"#",{"$f":"UPDATE!$C$8","v":"JOHN"},"#",{"$f":"UPDATE!$C$9","v":"JEAN"},"#",{"$f":"UPDATE!$C$10","v":"TIM"},"#",{"$f":"UPDATE!$C$11","v":"LARRY"},"#",{"$f":"UPDATE!$C$12","v":"DIANE"},"#",{"$f":"UPDATE!$C$13","v":"-----"},null,null,"#",null,null,"#"]
[1,"Royals",1,"Rays",1,"Pirates",null,"Red Sox",1,"White Sox",1,"Brewers",1,"Athletics",1,"Diamondbacks",null,"Yankees","Div","Team","of","Div","Team","of"]
[2,"Angels",2,"Athletics",2,"Orioles",2,"Rockies",2,"Cardinals",2,"Orioles",2,"Nationals",2,"Brewers",null,"Cardinals","ALE","Blue Jays",{"$f":"COUNTIF($B$3:$R$20,T4)","v":4},"NLE","Nationals",{"$f":"COUNTIF($B$3:$R$20,W4)","v":6}]
[3,"Rockies",3,"Twins",3,"Braves",3,"Athletics",3,"Nationals",3,"Giants",3,"Rockies",3,"Royals",null,"Braves",null,"Orioles",{"$f":"COUNTIF($B$3:$R$20,T5)","v":9},null,"Braves",4]
[4,"Nationals",4,"Phillies",4,"Indians",4,"Cubs",4,"Giants",4,"Royals",4,"Royals",4,"Phillies",null,"Dodgers",null,"Rays",5,null,"Phillies",5]
[5,"Pirates",5,"Rockies",5,"Giants",5,"Indians",5,"Angels",5,"Mets",5,"Reds",5,"Rangers",null,"Twins",null,"Yankees",4,null,"Mets",5]
[6,"Red Sox",6,"Pirates",6,"Angels",6,"Phillies",6,"Orioles",6,"Rangers",6,"Blue Jays",6,"Red Sox",null,"Angels",null,"Red Sox",8,null,"Marlins",4]
[null,"Yankees",null,"Yankees",null,"Red Sox",1,"Yankees",null,"Blue Jays",null,"Red Sox",null,"Orioles",null,"Rays",1,"Red Sox","ALC","Twins",5,"NLC","Pirates",6]
[null,"Indians",null,"Royals",null,"Royals",null,"Twins",null,"Twins",null,"White Sox",null,"Indians",null,"White Sox",null,"Tigers",null,"White Sox",5,null,"Cubs",6]
[null,"Athletics",null,"Astros",null,"Athletics",null,"Astros",null,"Rangers",null,"Athletics",null,"Astros",null,"Athletics",null,"Athletics",null,"Royals",6,null,"Brewers",5]
[null,"Mets",null,"Mets",null,"Nationals",null,"Braves",null,"Marlins",null,"Phillies",null,"Phillies",null,"Marlins",null,"Nationals",null,"Tigers",4,null,"Cardinals",6]
[null,"Brewers",null,"Cardinals",null,"Cubs",null,"Cardinals",null,"Pirates",null,"Cubs",null,"Cubs",null,"Cubs",null,"Brewers",null,"Indians",5,null,"Reds",4]
[null,"Padres",null,"Giants",null,"Diamondbacks",null,"Dodgers",null,"Padres",null,"Rockies",null,"Dodgers",null,"Dodgers",null,"Giants","ALW","Angels",6,"NLW","Giants",6]
[null,"Diamondbacks",null,"Rangers",null,"Twins",null,"Mariners",null,"Indians",null,"Rays",null,"Padres",null,"Astros",null,"Padres",null,"Rangers",6,null,"Diamondbacks",3]
[null,"Giants",null,"Padres",null,"Tigers",null,"Rangers",null,"Dodgers",null,"Reds",null,"Marlins",null,"Nationals",null,"Mets",null,"Mariners",3,null,"Padres",5]
[null,"Cubs",null,"Dodgers",null,"Marlins",null,"Orioles",null,"Reds",null,"Angels",null,"White Sox",null,"Pirates",null,"White Sox",null,"Athletics",9,null,"Dodgers",6]
[null,"Rays",null,"Mariners",null,"Reds",null,"Brewers",null,"Tigers",null,"Blue Jays",null,"Red Sox",null,"Cardinals",null,"Rangers",null,"Astros",7,null,"Rockies",5]
[null,"Orioles",null,"Orioles",null,"Mets",null,"Tigers",null,"Athletics",null,"Astros",null,"Cardinals",null,"Angels",null,"Mariners"]
[null,"Astros",null,"Braves",null,"Astros",null,"Blue Jays",null,"Red Sox",null,"Pirates",null,"Rays",null,"Orioles",null,"Orioles"]
[]
[null,"LOAD    DRAFT",null,"CLEAR    NUMBERS",null,"COPY DRAFT ORDER",null,null,null,"SORT DRAFT ORDER",null,null,null,"SORT BY DIVISION",null,null,null,"CLEAR    DRAFT"]
[]
[]
[]
[null,"Instructions:"]
[1,"Save the draft on the UPDATE page in case something goes wrong!"]
[2,"Load the draft"]
[3,"To the left of the team, enter the choice number (just 1 to 6) for that player"]
["or","Under a player's name, click teams in order of choice (numbers added automatically)"]
[4,"Click on \"#\" before player's name to sort teams"]
[5,"Click on the player's name to clear numbers before teams"]
[6,"Sort Draft Order sorts the entire table by choice numbers"]
[null,"Click on the # if you just want to sort that column of teams (for one player)"]
[7,"Copy Draft Order copies this order to UPDATE page draft table"]
[]
[null,"Clear Numbers clears just the choice numbers"]
[null,"Clear Draft clears the entire table"]

{"sheet":"Draft Email","index":11,"n_rows":41,"n_cols":18,"rows_kept":41,"cut":false,"hidden":false,"merged":[[9,17,10,17],[12,17,13,17],[15,17,16,17]]}
[null,null,null,null,null,null,null,null,null,null,null,null,"#",null,null,"#"]
["#",{"$f":"UPDATE!$C$5","v":"MIKE"},"#",{"$f":"UPDATE!$C$6","v":"JIM T."},"#",{"$f":"UPDATE!$C$7","v":"JIM K."},"#",{"$f":"UPDATE!$C$8","v":"JOHN"},null,null,"Div","Team","of","Div","Team","of"]
[null,"Tigers",null,"Diamondbacks",null,"Royals",null,"Brewers",null,null,"ALE","Blue Jays",{"$f":"COUNTIF($B$3:$J$41,L3)","v":5},"NLE","Nationals",{"$f":"COUNTIF($B$3:$J$41,O3)","v":5}]
[null,"Brewers",null,"Twins",null,"Pirates",null,"Braves",null,null,null,"Orioles",{"$f":"COUNTIF($B$3:$J$41,L4)","v":4},null,"Braves",{"$f":"COUNTIF($B$3:$J$41,O4)","v":5}]
[null,"Yankees",null,"Rays",null,"Marlins",null,"Rangers",null,null,null,"Rays",5,null,"Phillies",6]
[null,"Phillies",null,"Braves",null,"Giants",null,"Blue Jays",null,null,null,"Yankees",4,null,"Mets",6]
[null,"Diamondbacks",null,"Angels",null,"Mariners",null,"Dodgers",null,null,null,"Red Sox",6,null,"Marlins",7]
[null,"Astros",null,"Pirates",null,"Red Sox",null,"Indians",null,null,"ALC","Twins",6,"NLC","Pirates",6]
[null,"Rays",null,"Red Sox",null,"Orioles",null,"Yankees",null,null,null,"White Sox",8,null,"Cubs",5]
[null,"Indians",null,"Tigers",null,"Twins",null,"Tigers",null,null,null,"Royals",5,null,"Brewers",6,null,"GET DRAFT"]
[null,"Mariners",null,"Athletics",null,"Rangers",null,"Athletics",null,null,null,"Tigers",6,null,"Cardinals",6]
[null,"Marlins",null,"Mets",null,"Mets",null,"Mets",null,null,null,"Indians",6,null,"Reds",3]
[null,"Cardinals",null,"Brewers",null,"Cubs",null,"Pirates",null,null,"ALW","Angels",5,"NLW","Giants",3,null,"COPY"]
[null,"Rockies",null,"Dodgers",null,"Dodgers",null,"Diamondbacks",null,null,null,"Rangers",5,null,"Diamondbacks",8]
[null,"Twins",null,"Orioles",null,"White Sox",null,"Cardinals",null,null,null,"Mariners",6,null,"Padres",4]
[null,"Nationals",null,"Cubs",null,"Phillies",null,"White Sox",null,null,null,"Athletics",5,null,"Dodgers",6,null,"CLEAR TEAMS"]
[null,"Athletics",null,"White Sox",null,"Tigers",null,"Astros",null,null,null,"Astros",7,null,"Rockies",3]
[null,"Blue Jays",null,"Astros",null,"Padres",null,"Orioles"]
[null,"Pirates",null,"Marlins",null,"Diamondbacks",null,"Angels"]
[null,"Padres",null,"Rangers",null,"Athletics",null,"Phillies"]
[]
[]
["#",{"$f":"UPDATE!$C$9","v":"JEAN"},"#",{"$f":"UPDATE!$C$10","v":"TIM"},"#",{"$f":"UPDATE!$C$11","v":"LARRY"},"#",{"$f":"UPDATE!$C$12","v":"DIANE"},"#",{"$f":"UPDATE!$C$13","v":"-----"}]
[null,"Red Sox",null,"Rangers",null,"Braves",null,"Cubs",null,"Cubs"]
[null,"Astros",null,"Rockies",null,"Diamondbacks",null,"Yankees",null,"Indians"]
[null,"Marlins",null,"Marlins",null,"Twins",null,"Rockies",null,"Blue Jays"]
[null,"Reds",null,"Cubs",null,"Reds",null,"Astros",null,"Astros"]
[null,"Diamondbacks",null,"Red Sox",null,"Yankees",null,"Nationals",null,"Padres"]
[null,"Royals",null,"Indians",null,"Rangers",null,"Twins",null,"Nationals"]
[null,"Rays",null,"Blue Jays",null,"Blue Jays",null,"Red Sox",null,"Red Sox"]
[null,"Twins",null,"White Sox",null,"Tigers",null,"Indians",null,"White Sox"]
[null,"Angels",null,"Astros",null,"Angels",null,"Angels",null,"Athletics"]
[null,"Braves",null,"Braves",null,"Marlins",null,"Phillies",null,"Mets"]
[null,"Pirates",null,"Brewers",null,"Brewers",null,"Cardinals",null,"Cardinals"]
[null,"Padres",null,"Giants",null,"Dodgers",null,"Dodgers",null,"Giants"]
[null,"Mets",null,"Tigers",null,"Indians",null,"Marlins",null,"Reds"]
[null,"Nationals",null,"Pirates",null,"Cardinals",null,"Diamondbacks",null,"Rays"]
[null,"Phillies",null,"Rays",null,"Nationals",null,"Brewers",null,"Royals"]
[null,"Cardinals",null,"Diamondbacks",null,"Mariners",null,"White Sox",null,"Dodgers"]
[null,"White Sox",null,"Mets",null,"Royals",null,"Orioles",null,"Mariners"]
[null,"Mariners",null,"Mariners",null,"White Sox",null,"Royals",null,"Phillies"]

{"sheet":"Current week","index":12,"n_rows":173,"n_cols":34,"rows_kept":173,"cut":false,"hidden":false,"merged":[[124,16,124,20],[142,2,142,3],[102,16,102,20],[140,4,140,5],[140,11,140,12],[107,2,107,3],[108,2,108,3],[107,11,107,12],[47,16,47,17],[2,13,2,14],[4,6,4,9],[113,16,113,20],[56,2,56,6],[71,2,71,6],[106,4,106,5],[4,2,4,4],[85,2,85,3],[85,4,85,5],[46,16,46,17],[1,42,1,45],[11,16,11,17],[16,16,16,17],[17,16,17,17],[28,16,28,17],[1,46,1,49],[1,34,1,37],[1,38,1,41],[20,26,20,29],[37,18,37,21],[37,22,37,25],[1,16,1,33],[3,30,3,33],[20,30,20,33],[37,30,37,33],[37,26,37,29],[3,18,3,21],[3,22,3,25],[3,26,3,29],[20,18,20,21],[20,22,20,25],[157,11,157,12],[141,11,141,12],[123,11,123,12],[1,50,1,53],[94,9,94,13],[95,9,95,13],[50,16,50,17],[51,16,51,17],[29,16,29,17],[30,16,30,17],[33,16,33,17],[34,16,34,17],[45,16,45,17],[12,16,12,17],[4,11,4,14],[13,16,13,17]]}
[null,{"$f":"YEAR(TODAY())","v":2022},"STANDINGS"]
[null,null,null,null,null,null,null,null,null,null,null,null,null,null,null,null,"CURRENT WEEK RESULTS"]
[null,"WEEK ENDING "," ",{"$f":"VLOOKUP(M3,SUMMARY!$H$3:$I$28,2,FALSE)","v":"2021-10-03"},null,null,null," ",null,null,null,"WEEK",26,{"$f":"IF(VALUE(UPPER(TEXT(VLOOKUP(M3,SUMMARY!H3:I28,2),\"dd\")))<2,UPPER(TEXT(VLOOKUP(M3-1,SUMMARY!H3:I28,2),\"mmmm\")),UPPER(TEXT(VLOOKUP(M3,SUMMARY!H3:I28,2),\"mmmm\")))","v":"OCTOBER"},null," "]
[null,null,null,null,null,null,null,null,null,null,null,null,null,null,null,null,null,null,{"$f":"UPDATE!$C$5","v":"MIKE"},null,null,null,{"$f":"UPDATE!$C$8","v":"JOHN"},null,null,null,{"$f":"UPDATE!$C$11","v":"LARRY"},null,null,null,{"$f":"UPDATE!$C$14","v":0}]
[null,null,"CURRENT WEEK-SEASON TO DATE",null,null,null,"PREVIOUS WEEK-SEASON TO DATE",null,null,null,null,"CURRENT WEEK TOTALS",null,null,null,null,null,null,"RANK","W","L","PCT","RANK","W","L","PCT","RANK","W","L","PCT","RANK","W","L","PCT"]
[null,null,null,null,null,null,null,null,null,null,null,null,null,null,null,null,null,null,{"$f":"UPDATE!$D$5","v":"Rays"},{"$f":"VLOOKUP(S6,$L$9:$O$53,2,FALSE)","v":3},{"$f":"VLOOKUP(S6,$L$9:$O$53,3,FALSE)","v":2},{"$f":"T6/(T6+U6)","v":0.6},{"$f":"UPDATE!$D$8","v":"Dodgers"},{"$f":"VLOOKUP(W6,$L$9:$O$53,2,FALSE)","v":5},{"$f":"VLOOKUP(W6,$L$9:$O$53,3,FALSE)","v":0},{"$f":"X6/(X6+Y6)","v":1},{"$f":"UPDATE!$D$11","v":"Braves"},{"$f":"VLOOKUP(AA6,$L$9:$O$53,2,FALSE)","v":4},{"$f":"VLOOKUP(AA6,$L$9:$O$53,3,FALSE)","v":1},{"$f":"AB6/(AB6+AC6)","v":0.8},{"$f":"UPDATE!$D$14","v":0},{"$f":"VLOOKUP(AE6,$L$9:$O$53,2,FALSE)","v":{"$error":"#N/A"}},{"$f":"VLOOKUP(AE6,$L$9:$O$53,3,FALSE)","v":{"$error":"#N/A"}},{"$f":"AF6/(AF6+AG6)","v":{"$error":"#N/A"}}]
[null,"American League",null,null,null,null,"AL EAST",null,null,null,"Times","AL EAST",null,null,null,null,null,null,{"$f":"UPDATE!$E$5","v":"Astros"},3,2,0.6,{"$f":"UPDATE!$E$8","v":"Yankees"},2,3,0.4,{"$f":"UPDATE!$E$11","v":"Cardinals"},3,2,0.6,{"$f":"UPDATE!$E$14","v":0},{"$error":"#N/A"},{"$error":"#N/A"},{"$error":"#N/A"}]
[null,"East","W","L","PCT","Rank","TEAM","W","L","PCT","Picked","TEAM","W","L","PCT","Rank",null,null,{"$f":"UPDATE!$F$5","v":"Brewers"},1,4,0.2,{"$f":"UPDATE!$F$8","v":"Phillies"},1,4,0.2,{"$f":"UPDATE!$F$11","v":"White Sox"},5,0,1,{"$f":"UPDATE!$F$14","v":0},{"$error":"#N/A"},{"$error":"#N/A"},{"$error":"#N/A"}]
[null,"Orioles",{"$f":"VLOOKUP(B9,Append1[],2,FALSE)","v":52},{"$f":"VLOOKUP(B9,Append1[],3,FALSE)","v":109},{"$f":"C9/(C9+D9)","v":0.32298136645962733},{"$f":"RANK(E9,E9:E13)","v":5},"BALTIMORE",50,106,0.32051282051282054,{"$f":"COUNTIFS(UPDATE!$D$5:$I$13,L9)","v":0},"Orioles",{"$f":"C9-H9","v":2},3,{"$f":"M9/(M9+N9)","v":0.4},{"$f":"RANK(O9,O$9:O$13)","v":4},null,null,{"$f":"UPDATE!$G$5","v":"Padres"},1,4,0.2,{"$f":"UPDATE!$G$8","v":"White Sox"},5,0,1,{"$f":"UPDATE!$G$11","v":"Yankees"},2,3,0.4,{"$f":"UPDATE!$G$14","v":0},{"$error":"#N/A"},{"$error":"#N/A"},{"$error":"#N/A"}]
[null,"Red Sox",{"$f":"VLOOKUP(B10,Append1[],2,FALSE)","v":91},{"$f":"VLOOKUP(B10,Append1[],3,FALSE)","v":70},{"$f":"C10/(C10+D10)","v":0.56521739130434778},{"$f":"RANK(E10,E9:E13)","v":2},"BOSTON",88,68,0.5641025641025641,{"$f":"COUNTIFS(UPDATE!$D$5:$I$13,L10)","v":1},"Red Sox",3,2,{"$f":"M10/(M10+N10)","v":0.6},{"$f":"RANK(O10,O$9:O$13)","v":1},null,null,{"$f":"UPDATE!$H$5","v":"Indians"},3,3,0.5,{"$f":"UPDATE!$H$8","v":"Brewers"},1,4,0.2,{"$f":"UPDATE!$H$11","v":"Mariners"},4,1,0.8,{"$f":"UPDATE!$H$14","v":0},{"$error":"#N/A"},{"$error":"#N/A"},{"$error":"#N/A"}]
[null,"Yankees",{"$f":"VLOOKUP(B11,Append1[],2,FALSE)","v":91},{"$f":"VLOOKUP(B11,Append1[],3,FALSE)","v":70},{"$f":"C11/(C11+D11)","v":0.56521739130434778},{"$f":"RANK(E11,E9:E13)","v":2},"NEW YORK",89,67,0.57051282051282048,{"$f":"COUNTIFS(UPDATE!$D$5:$I$13,L11)","v":3},"Yankees",2,3,{"$f":"M11/(M11+N11)","v":0.4},{"$f":"RANK(O11,O$9:O$13)","v":4},null,null,{"$f":"UPDATE!$I$5","v":"Phillies"},1,4,0.2,{"$f":"UPDATE!$I$8","v":"Athletics"},1,4,0.2,{"$f":"UPDATE!$I$11","v":"Dodgers"},5,0,1,{"$f":"UPDATE!$I$14","v":0},{"$error":"#N/A"},{"$error":"#N/A"},{"$error":"#N/A"}]
[null,"Rays",{"$f":"VLOOKUP(B12,Append1[],2,FALSE)","v":100},{"$f":"VLOOKUP(B12,Append1[],3,FALSE)","v":61},{"$f":"C12/(C12+D12)","v":0.6211180124223602},{"$f":"RANK(E12,E9:E13)","v":1},"TAMPA BAY",97,59,0.62179487179487181,{"$f":"COUNTIFS(UPDATE!$D$5:$I$13,L12)","v":4},"Rays",3,2,{"$f":"M12/(M12+N12)","v":0.6},{"$f":"RANK(O12,O$9:O$13)","v":1},"WEEKLY TOTAL",null,null,{"$f":"SUM(T6:T11)","v":12},{"$f":"SUM(U6:U11)","v":19},0.38709677419354838,null,{"$f":"SUM(X6:X11)","v":15},{"$f":"SUM(Y6:Y11)","v":15},0.5,null,{"$f":"SUM(AB6:AB11)","v":23},{"$f":"SUM(AC6:AC11)","v":7},0.76666666666666672,null,{"$f":"SUM(AF6:AF11)","v":{"$error":"#N/A"}},{"$f":"SUM(AG6:AG11)","v":{"$error":"#N/A"}},{"$error":"#N/A"}]
[null,"Blue Jays",{"$f":"VLOOKUP(B13,Append1[],2,FALSE)","v":90},{"$f":"VLOOKUP(B13,Append1[],3,FALSE)","v":71},{"$f":"C13/(C13+D13)","v":0.55900621118012417},{"$f":"RANK(E13,E9:E13)","v":4},"TORONTO",87,69,0.55769230769230771,{"$f":"COUNTIFS(UPDATE!$D$5:$I$13,L13)","v":1},"Blue Jays",3,2,{"$f":"M13/(M13+N13)","v":0.6},{"$f":"RANK(O13,O$9:O$13)","v":1},"PREV WEEK TO DATE",null,"  ",492,446,0.52452025586353945,null,496,442,0.52878464818763327,null,537,402,0.5718849840255591,null,{"$error":"#N/A"},{"$error":"#N/A"},{"$error":"#N/A"}]
[null,null,null," ",null,null,null,null," ",null,null,null,null,null,null,null,"CUR TOTAL TO DATE",null,"  ",{"$f":"SUM(T12:T13)","v":504},{"$f":"SUM(U12:U13)","v":465},{"$f":"IF(T14>0,T14/(T14+U14),0)","v":0.52012383900928794},null,{"$f":"SUM(X12:X13)","v":511},{"$f":"SUM(Y12:Y13)","v":457},{"$f":"X14/(X14+Y14)","v":0.52789256198347112},null,{"$f":"SUM(AB12:AB13)","v":560},{"$f":"SUM(AC12:AC13)","v":409},{"$f":"AB14/(AB14+AC14)","v":0.57791537667698656},null,{"$f":"SUM(AF12:AF13)","v":{"$error":"#N/A"}},{"$f":"SUM(AG12:AG13)","v":{"$error":"#N/A"}},{"$f":"AF14/(AF14+AG14)","v":{"$error":"#N/A"}}]
[null,null,null," ",null,null,"AL CENTRAL",null," ",null,null,"AL CENTRAL"]
[null,"Central","W","L","PCT",null,"TEAM","W","L","PCT",null,"TEAM","W","L","PCT"]
[null,"White Sox",{"$f":"VLOOKUP(B17,Append1[],2,FALSE)","v":93},{"$f":"VLOOKUP(B17,Append1[],3,FALSE)","v":68},{"$f":"C17/(C17+D17)","v":0.57763975155279501},{"$f":"RANK(E17,E17:E21)","v":1},"CHICAGO",88,68,0.5641025641025641,{"$f":"COUNTIFS(UPDATE!$D$5:$I$13,L17)","v":7},"White Sox",{"$f":"C17-H17","v":5},0,{"$f":"M17/(M17+N17)","v":1},{"$f":"RANK(O17,O$17:O$21)","v":1},"SEASON TLT TO DATE",null,"  ",412,371,0.5261813537675607,null,412,375,0.52350698856416777,null,450,338,0.57106598984771573,null,{"$error":"#N/A"},{"$error":"#N/A"},{"$error":"#N/A"}]
[null,"Indians",{"$f":"VLOOKUP(B18,Append1[],2,FALSE)","v":79},{"$f":"VLOOKUP(B18,Append1[],3,FALSE)","v":82},{"$f":"C18/(C18+D18)","v":0.49068322981366458},{"$f":"RANK(E18,E17:E21)","v":2},"CLEVELAND",76,79,0.49032258064516127,{"$f":"COUNTIFS(UPDATE!$D$5:$I$13,L18)","v":2},"Indians",3,3,{"$f":"M18/(M18+N18)","v":0.5},{"$f":"RANK(O18,O$17:O$21)","v":3},{"$f":"$N$3&\" TOTAL TO DATE\"","v":"OCTOBER TOTAL TO DATE"},null,null,{"$f":"T14-T17","v":92},{"$f":"U14-U17","v":94},{"$f":"IF(T18>0,T18/(T18+U18),0)","v":0.4946236559139785},null,{"$f":"X14-X17","v":99},{"$f":"Y14-Y17","v":82},{"$f":"X18/(X18+Y18)","v":0.54696132596685088},null,{"$f":"AB14-AB17","v":110},{"$f":"AC14-AC17","v":71},{"$f":"AB18/(AB18+AC18)","v":0.60773480662983426},null,{"$f":"AF14-AF17","v":{"$error":"#N/A"}},{"$f":"AG14-AG17","v":{"$error":"#N/A"}},{"$f":"AF18/(AF18+AG18)","v":{"$error":"#N/A"}}]
[null,"Tigers",{"$f":"VLOOKUP(B19,Append1[],2,FALSE)","v":76},{"$f":"VLOOKUP(B19,Append1[],3,FALSE)","v":85},{"$f":"C19/(C19+D19)","v":0.47204968944099379},{"$f":"RANK(E19,E17:E21)","v":3},"DETROIT",75,80,0.4838709677419355,{"$f":"COUNTIFS(UPDATE!$D$5:$I$13,L19)","v":0},"Tigers",1,5,{"$f":"M19/(M19+N19)","v":0.16666666666666666},{"$f":"RANK(O19,O$17:O$21)","v":5}]
[null,"Royals",{"$f":"VLOOKUP(B20,Append1[],2,FALSE)","v":74},{"$f":"VLOOKUP(B20,Append1[],3,FALSE)","v":87},{"$f":"C20/(C20+D20)","v":0.45962732919254656},{"$f":"RANK(E20,E17:E21)","v":4},"KANSAS CITY",71,84,0.45806451612903226,{"$f":"COUNTIFS(UPDATE!$D$5:$I$13,L20)","v":0},"Royals",3,3,{"$f":"M20/(M20+N20)","v":0.5},{"$f":"RANK(O20,O$17:O$21)","v":3}]
[null,"Twins",{"$f":"VLOOKUP(B21,Append1[],2,FALSE)","v":72},{"$f":"VLOOKUP(B21,Append1[],3,FALSE)","v":89},{"$f":"C21/(C21+D21)","v":0.44720496894409939},{"$f":"RANK(E21,E17:E21)","v":5},"MINNESOTA",69,87,0.44230769230769229,{"$f":"COUNTIFS(UPDATE!$D$5:$I$13,L21)","v":0},"Twins",3,2,{"$f":"M21/(M21+N21)","v":0.6},{"$f":"RANK(O21,O$17:O$21)","v":2},null,null,{"$f":"UPDATE!$C$6","v":"JIM T."},null,null,null,{"$f":"UPDATE!$C$9","v":"JEAN"},null,null,null,{"$f":"UPDATE!$C$12","v":"DIANE"},null,null,null,{"$f":"UPDATE!$C$15","v":0}]
[null,null,null," ",null,null,null,null," ",null,null,null,null,null,null,null,null,null,"RANK","W","L","PCT","RANK","W","L","PCT","RANK","W","L","PCT","RANK","W","L","PCT"]
[null,null,null," ",null,null,"AL WEST",null," ",null,null,"AL WEST",null,null,null,null,null,null,{"$f":"UPDATE!$D$6","v":"Rays"},{"$f":"VLOOKUP(S23,$L$9:$O$53,2,FALSE)","v":3},{"$f":"VLOOKUP(S23,$L$9:$O$53,3,FALSE)","v":2},{"$f":"T23/(T23+U23)","v":0.6},{"$f":"UPDATE!$D$9","v":"Rays"},{"$f":"VLOOKUP(W23,$L$9:$O$53,2,FALSE)","v":3},{"$f":"VLOOKUP(W23,$L$9:$O$53,3,FALSE)","v":2},{"$f":"X23/(X23+Y23)","v":0.6},{"$f":"UPDATE!$D$12","v":"Brewers"},{"$f":"VLOOKUP(AA23,$L$9:$O$53,2,FALSE)","v":1},{"$f":"VLOOKUP(AA23,$L$9:$O$53,3,FALSE)","v":4},{"$f":"AB23/(AB23+AC23)","v":0.2},{"$f":"UPDATE!$D$15","v":0},{"$f":"VLOOKUP(AE23,$L$9:$O$53,2,FALSE)","v":{"$error":"#N/A"}},{"$f":"VLOOKUP(AE23,$L$9:$O$53,3,FALSE)","v":{"$error":"#N/A"}},{"$f":"AF23/(AF23+AG23)","v":{"$error":"#N/A"}}]
[null,"West","W","L","PCT",null,"TEAM","W","L","PCT",null,"TEAM","W","L","PCT",null,null,null,{"$f":"UPDATE!$E$6","v":"White Sox"},5,0,1,{"$f":"UPDATE!$E$9","v":"Astros"},3,2,0.6,{"$f":"UPDATE!$E$12","v":"White Sox"},5,0,1,{"$f":"UPDATE!$E$15","v":0},{"$error":"#N/A"},{"$error":"#N/A"},{"$error":"#N/A"}]
[null,"Angels",{"$f":"VLOOKUP(B25,Append1[],2,FALSE)","v":76},{"$f":"VLOOKUP(B25,Append1[],3,FALSE)","v":85},{"$f":"C25/(C25+D25)","v":0.47204968944099379},{"$f":"RANK(E25,E25:E29)","v":4},"LOS ANGELES",74,82,0.47435897435897434,{"$f":"COUNTIFS(UPDATE!$D$5:$I$13,L25)","v":0},"Angels",{"$f":"C25-H25","v":2},3,{"$f":"M25/(M25+N25)","v":0.4},{"$f":"RANK(O25,O$25:O$29)","v":4},null,null,{"$f":"UPDATE!$F$6","v":"Astros"},3,2,0.6,{"$f":"UPDATE!$F$9","v":"Phillies"},1,4,0.2,{"$f":"UPDATE!$F$12","v":"Dodgers"},5,0,1,{"$f":"UPDATE!$F$15","v":0},{"$error":"#N/A"},{"$error":"#N/A"},{"$error":"#N/A"}]
[null,"Athletics",{"$f":"VLOOKUP(B26,Append1[],2,FALSE)","v":86},{"$f":"VLOOKUP(B26,Append1[],3,FALSE)","v":75},{"$f":"C26/(C26+D26)","v":0.53416149068322982},{"$f":"RANK(E26,E25:E29)","v":3},"OAKLAND",85,71,0.54487179487179482,{"$f":"COUNTIFS(UPDATE!$D$5:$I$13,L26)","v":2},"Athletics",1,4,{"$f":"M26/(M26+N26)","v":0.2},{"$f":"RANK(O26,O$25:O$29)","v":5},null,null,{"$f":"UPDATE!$G$6","v":"Braves"},4,1,0.8,{"$f":"UPDATE!$G$9","v":"Cardinals"},3,2,0.6,{"$f":"UPDATE!$G$12","v":"Astros"},3,2,0.6,{"$f":"UPDATE!$G$15","v":0},{"$error":"#N/A"},{"$error":"#N/A"},{"$error":"#N/A"}]
[null,"Mariners",{"$f":"VLOOKUP(B27,Append1[],2,FALSE)","v":90},{"$f":"VLOOKUP(B27,Append1[],3,FALSE)","v":71},{"$f":"C27/(C27+D27)","v":0.55900621118012417},{"$f":"RANK(E27,E25:E29)","v":2},"SEATTLE",86,70,0.55128205128205132,{"$f":"COUNTIFS(UPDATE!$D$5:$I$13,L27)","v":1},"Mariners",4,1,{"$f":"M27/(M27+N27)","v":0.8},{"$f":"RANK(O27,O$25:O$29)","v":1},null,null,{"$f":"UPDATE!$H$6","v":"Brewers"},1,4,0.2,{"$f":"UPDATE!$H$9","v":"Padres"},1,4,0.2,{"$f":"UPDATE!$H$12","v":"Yankees"},2,3,0.4,{"$f":"UPDATE!$H$15","v":0},{"$error":"#N/A"},{"$error":"#N/A"},{"$error":"#N/A"}]
[null,"Rangers",{"$f":"VLOOKUP(B28,Append1[],2,FALSE)","v":60},{"$f":"VLOOKUP(B28,Append1[],3,FALSE)","v":101},{"$f":"C28/(C28+D28)","v":0.37267080745341613},{"$f":"RANK(E28,E25:E29)","v":5},"TEXAS",57,99,0.36538461538461536,{"$f":"COUNTIFS(UPDATE!$D$5:$I$13,L28)","v":0},"Rangers",3,2,{"$f":"M28/(M28+N28)","v":0.6},{"$f":"RANK(O28,O$25:O$29)","v":2},null,null,{"$f":"UPDATE!$I$6","v":"Dodgers"},5,0,1,{"$f":"UPDATE!$I$9","v":"White Sox"},5,0,1,{"$f":"UPDATE!$I$12","v":"Phillies"},1,4,0.2,{"$f":"UPDATE!$I$15","v":0},{"$error":"#N/A"},{"$error":"#N/A"},{"$error":"#N/A"}]
[null,"Astros",{"$f":"VLOOKUP(B29,Append1[],2,FALSE)","v":94},{"$f":"VLOOKUP(B29,Append1[],3,FALSE)","v":67},{"$f":"C29/(C29+D29)","v":0.58385093167701863},{"$f":"RANK(E29,E25:E29)","v":1},"HOUSTON",91,65,0.58333333333333337,{"$f":"COUNTIFS(UPDATE!$D$5:$I$13,L29)","v":6},"Astros",3,2,{"$f":"M29/(M29+N29)","v":0.6},{"$f":"RANK(O29,O$25:O$29)","v":2},"WEEKLY TOTAL",null,null,{"$f":"SUM(T23:T28)","v":21},{"$f":"SUM(U23:U28)","v":9},0.7,null,{"$f":"SUM(X23:X28)","v":16},{"$f":"SUM(Y23:Y28)","v":14},0.53333333333333333,null,{"$f":"SUM(AB23:AB28)","v":17},{"$f":"SUM(AC23:AC28)","v":13},0.56666666666666665,null,{"$f":"SUM(AF23:AF28)","v":{"$error":"#N/A"}},{"$f":"SUM(AG23:AG28)","v":{"$error":"#N/A"}},{"$error":"#N/A"}]
[null,null,null,null,null,null,null,null,null,null,null,null,null,null,null,null,"PREV WEEK TO DATE",null,null,520,418,0.55437100213219614,null,487,442,0.5242195909580194,null,502,434,0.53632478632478631,null,{"$error":"#N/A"},{"$error":"#N/A"},{"$error":"#N/A"}]
[null,"National League",null," ",null,null,"NL EAST",null," ",null,null,"NL EAST",null,null,null,null,"CUR TOTAL TO DATE",null,null,{"$f":"SUM(T29:T30)","v":541},{"$f":"SUM(U29:U30)","v":427},{"$f":"T31/(T31+U31)","v":0.55888429752066116},null,{"$f":"SUM(X29:X30)","v":503},{"$f":"SUM(Y29:Y30)","v":456},{"$f":"X31/(X31+Y31)","v":0.52450469238790409},null,{"$f":"SUM(AB29:AB30)","v":519},{"$f":"SUM(AC29:AC30)","v":447},{"$f":"AB31/(AB31+AC31)","v":0.53726708074534157},null,{"$f":"SUM(AF29:AF30)","v":{"$error":"#N/A"}},{"$f":"SUM(AG29:AG30)","v":{"$error":"#N/A"}},{"$f":"AF31/(AF31+AG31)","v":{"$error":"#N/A"}}]
[null,"East","W","L","PCT",null,"TEAM","W","L","PCT",null,"TEAM","W","L","PCT"]
[null,"Braves",{"$f":"VLOOKUP(B33,Append1[],2,FALSE)","v":87},{"$f":"VLOOKUP(B33,Append1[],3,FALSE)","v":73},{"$f":"C33/(C33+D33)","v":0.54374999999999996},{"$f":"RANK(E33,E33:E37)","v":1},"ATLANTA",83,72,0.53548387096774197,{"$f":"COUNTIFS(UPDATE!$D$5:$I$13,L33)","v":3},"Braves",{"$f":"C33-H33","v":4},1,{"$f":"M33/(M33+N33)","v":0.8},{"$f":"RANK(O33,O$33:O$37)","v":1}]
[null,"Marlins",{"$f":"VLOOKUP(B34,Append1[],2,FALSE)","v":66},{"$f":"VLOOKUP(B34,Append1[],3,FALSE)","v":95},{"$f":"C34/(C34+D34)","v":0.40993788819875776},{"$f":"RANK(E34,E33:E37)","v":4},"Miami",64,91,0.41290322580645161,{"$f":"COUNTIFS(UPDATE!$D$5:$I$13,L34)","v":0},"Marlins",2,4,{"$f":"M34/(M34+N34)","v":0.33333333333333331},{"$f":"RANK(O34,O$33:O$37)","v":3},"SEASON TLT TO DATE",null,null,433,353,0.55089058524173029,null,401,374,0.51741935483870971,null,415,369,0.52933673469387754,null,{"$error":"#N/A"},{"$error":"#N/A"},{"$error":"#N/A"}]
[null,"Mets",{"$f":"VLOOKUP(B35,Append1[],2,FALSE)","v":77},{"$f":"VLOOKUP(B35,Append1[],3,FALSE)","v":84},{"$f":"C35/(C35+D35)","v":0.47826086956521741},{"$f":"RANK(E35,E33:E37)","v":3},"NEW YORK",73,82,0.47096774193548385,{"$f":"COUNTIFS(UPDATE!$D$5:$I$13,L35)","v":0},"Mets",4,2,{"$f":"M35/(M35+N35)","v":0.66666666666666663},{"$f":"RANK(O35,O$33:O$37)","v":2},{"$f":"$N$3&\" TOTAL TO DATE\"","v":"OCTOBER TOTAL TO DATE"},null,null,{"$f":"T31-T34","v":108},{"$f":"U31-U34","v":74},{"$f":"T35/(T35+U35)","v":0.59340659340659341},null,{"$f":"X31-X34","v":102},{"$f":"Y31-Y34","v":82},{"$f":"X35/(X35+Y35)","v":0.55434782608695654},null,{"$f":"AB31-AB34","v":104},{"$f":"AC31-AC34","v":78},{"$f":"AB35/(AB35+AC35)","v":0.5714285714285714},null,{"$f":"AF31-AF34","v":{"$error":"#N/A"}},{"$f":"AG31-AG34","v":{"$error":"#N/A"}},{"$f":"AF35/(AF35+AG35)","v":{"$error":"#N/A"}}]
[null,"Phillies",{"$f":"VLOOKUP(B36,Append1[],2,FALSE)","v":82},{"$f":"VLOOKUP(B36,Append1[],3,FALSE)","v":79},{"$f":"C36/(C36+D36)","v":0.50931677018633537},{"$f":"RANK(E36,E33:E37)","v":2},"PHILADELPHIA",81,75,0.51923076923076927,{"$f":"COUNTIFS(UPDATE!$D$5:$I$13,L36)","v":5},"Phillies",1,4,{"$f":"M36/(M36+N36)","v":0.2},{"$f":"RANK(O36,O$33:O$37)","v":4}]
[null,"Nationals",{"$f":"VLOOKUP(B37,Append1[],2,FALSE)","v":65},{"$f":"VLOOKUP(B37,Append1[],3,FALSE)","v":96},{"$f":"C37/(C37+D37)","v":0.40372670807453415},{"$f":"RANK(E37,E33:E37)","v":5},"WASHINGTON",64,92,0.41025641025641024,{"$f":"COUNTIFS(UPDATE!$D$5:$I$13,L37)","v":1},"Nationals",1,4,{"$f":"M37/(M37+N37)","v":0.2},{"$f":"RANK(O37,O$33:O$37)","v":4}]
[null,null,null," ",null,null,null,null," ",null,null,null,null,null,null,null,null,null,{"$f":"UPDATE!$C$7","v":"JIM K."},null,null,null,{"$f":"UPDATE!$C$10","v":"TIM"},null,null,null,{"$f":"UPDATE!$C$13","v":"-----"},null,null,null,{"$f":"UPDATE!$C$16","v":0}]
[null,null,null," ",null,null,"NL CENTRAL",null," ",null,null,"NL CENTRAL",null,null,null,null,null,null,"RANK","W","L","PCT","RANK","W","L","PCT","RANK","W","L","PCT","RANK","W","L","PCT"]
[null,"Central","W","L","PCT",null,"TEAM","W","L","PCT",null,"TEAM","W","L","PCT",null,null,null,{"$f":"UPDATE!$D$7","v":"Giants"},{"$f":"VLOOKUP(S40,$L$9:$O$53,2,FALSE)","v":4},{"$f":"VLOOKUP(S40,$L$9:$O$53,3,FALSE)","v":1},{"$f":"T40/(T40+U40)","v":0.8},{"$f":"UPDATE!$D$10","v":"Giants"},{"$f":"VLOOKUP(W40,$L$9:$O$53,2,FALSE)","v":4},{"$f":"VLOOKUP(W40,$L$9:$O$53,3,FALSE)","v":1},{"$f":"X40/(X40+Y40)","v":0.8},null,null,null,null,{"$f":"UPDATE!$D$16","v":0},{"$f":"VLOOKUP(AE40,$L$9:$O$53,2,FALSE)","v":{"$error":"#N/A"}},{"$f":"VLOOKUP(AE40,$L$9:$O$53,3,FALSE)","v":{"$error":"#N/A"}},{"$f":"AF40/(AF40+AG40)","v":{"$error":"#N/A"}}]
[null,"Cubs",{"$f":"VLOOKUP(B41,Append1[],2,FALSE)","v":70},{"$f":"VLOOKUP(B41,Append1[],3,FALSE)","v":91},{"$f":"C41/(C41+D41)","v":0.43478260869565216},{"$f":"RANK(E41,E41:E45)","v":4},"CHICAGO",67,89,0.42948717948717946,{"$f":"COUNTIFS(UPDATE!$D$5:$I$13,L41)","v":2},"Cubs",{"$f":"C41-H41","v":3},2,{"$f":"M41/(M41+N41)","v":0.6},{"$f":"RANK(O41,O$41:O$45)","v":1},null,null,{"$f":"UPDATE!$E$7","v":"White Sox"},5,0,1,{"$f":"UPDATE!$E$10","v":"Rays"},3,2,0.6,null,null,null,null,{"$f":"UPDATE!$E$16","v":0},{"$error":"#N/A"},{"$error":"#N/A"},{"$error":"#N/A"}]
[null,"Reds",{"$f":"VLOOKUP(B42,Append1[],2,FALSE)","v":82},{"$f":"VLOOKUP(B42,Append1[],3,FALSE)","v":79},{"$f":"C42/(C42+D42)","v":0.50931677018633537},{"$f":"RANK(E42,E41:E45)","v":3},"CINCINNATI",81,75,0.51923076923076927,{"$f":"COUNTIFS(UPDATE!$D$5:$I$13,L42)","v":0},"Reds",1,4,{"$f":"M42/(M42+N42)","v":0.2},{"$f":"RANK(O42,O$41:O$45)","v":4},null,null,{"$f":"UPDATE!$F$7","v":"Red Sox"},3,2,0.6,{"$f":"UPDATE!$F$10","v":"Brewers"},1,4,0.2,null,null,null,null,{"$f":"UPDATE!$F$16","v":0},{"$error":"#N/A"},{"$error":"#N/A"},{"$error":"#N/A"}]
[null,"Brewers",{"$f":"VLOOKUP(B43,Append1[],2,FALSE)","v":95},{"$f":"VLOOKUP(B43,Append1[],3,FALSE)","v":66},{"$f":"C43/(C43+D43)","v":0.59006211180124224},{"$f":"RANK(E43,E41:E45)","v":1},"MILWAUKEE",94,62,0.60256410256410253,{"$f":"COUNTIFS(UPDATE!$D$5:$I$13,L43)","v":5},"Brewers",1,4,{"$f":"M43/(M43+N43)","v":0.2},{"$f":"RANK(O43,O$41:O$45)","v":4},null,null,{"$f":"UPDATE!$G$7","v":"Athletics"},1,4,0.2,{"$f":"UPDATE!$G$10","v":"Astros"},3,2,0.6,null,null,null,null,{"$f":"UPDATE!$G$16","v":0},{"$error":"#N/A"},{"$error":"#N/A"},{"$error":"#N/A"}]
[null,"Pirates",{"$f":"VLOOKUP(B44,Append1[],2,FALSE)","v":61},{"$f":"VLOOKUP(B44,Append1[],3,FALSE)","v":100},{"$f":"C44/(C44+D44)","v":0.37888198757763975},{"$f":"RANK(E44,E41:E45)","v":5},"PITTSBURGH",58,97,0.37419354838709679,{"$f":"COUNTIFS(UPDATE!$D$5:$I$13,L44)","v":0},"Pirates",3,3,{"$f":"M44/(M44+N44)","v":0.5},{"$f":"RANK(O44,O$41:O$45)","v":3},null,null,{"$f":"UPDATE!$H$7","v":"Phillies"},1,4,0.2,{"$f":"UPDATE!$H$10","v":"White Sox"},5,0,1,null,null,null,null,{"$f":"UPDATE!$H$16","v":0},{"$error":"#N/A"},{"$error":"#N/A"},{"$error":"#N/A"}]
[null,"Cardinals",{"$f":"VLOOKUP(B45,Append1[],2,FALSE)","v":90},{"$f":"VLOOKUP(B45,Append1[],3,FALSE)","v":71},{"$f":"C45/(C45+D45)","v":0.55900621118012417},{"$f":"RANK(E45,E41:E45)","v":2},"ST LOUIS",87,69,0.55769230769230771,{"$f":"COUNTIFS(UPDATE!$D$5:$I$13,L45)","v":2},"Cardinals",3,2,{"$f":"M45/(M45+N45)","v":0.6},{"$f":"RANK(O45,O$41:O$45)","v":1},null,null,{"$f":"UPDATE!$I$7","v":"Cubs"},3,2,0.6,{"$f":"UPDATE!$I$10","v":"Braves"},4,1,0.8,null,null,null,null,{"$f":"UPDATE!$I$16","v":0},{"$error":"#N/A"},{"$error":"#N/A"},{"$error":"#N/A"}]
[null,null,null," ",null,null,null,null," ",null,null,null,null,null,null,null,"WEEKLY TOTAL",null,null,{"$f":"SUM(T40:T45)","v":17},{"$f":"SUM(U40:U45)","v":13},0.56666666666666665,null,{"$f":"SUM(X40:X45)","v":20},{"$f":"SUM(Y40:Y45)","v":10},0.66666666666666663,null,{"$f":"SUM(AB40:AB45)","v":0},30,{"$f":"IF(AB46<>0,AB46/(AB46+AC46),\"\")","v":""},null,{"$f":"SUM(AF40:AF45)","v":{"$error":"#N/A"}},{"$f":"SUM(AG40:AG45)","v":{"$error":"#N/A"}},{"$error":"#N/A"}]
[null,null,null," ",null,null,"NL WEST",null," ",null,null,"NL WEST",null,null,null,null,"PREV WEEK TO DATE",null,null,489,440,0.52637244348762113,null,511,435,0.54016913319238902,null,0,760,"",null,{"$error":"#N/A"},{"$error":"#N/A"},{"$error":"#N/A"}]
[null,"West","W","L","PCT",null,"TEAM","W","L","PCT",null,"TEAM","W","L","PCT",null,"CUR TOTAL TO DATE",null,null,{"$f":"SUM(T46:T47)","v":506},{"$f":"SUM(U46:U47)","v":453},{"$f":"T48/(T48+U48)","v":0.52763295099061525},null,{"$f":"SUM(X46:X47)","v":531},{"$f":"SUM(Y46:Y47)","v":445},{"$f":"X48/(X48+Y48)","v":0.54405737704918034},null,{"$f":"SUM(AB46:AB47)","v":0},{"$f":"SUM(AC46:AC47)","v":790},{"$f":"IF(AB48<>0,AB48/(AB48+AC48),\"\")","v":""},null,{"$f":"SUM(AF46:AF47)","v":{"$error":"#N/A"}},{"$f":"SUM(AG46:AG47)","v":{"$error":"#N/A"}},{"$f":"AF48/(AF48+AG48)","v":{"$error":"#N/A"}}]
[null,"Diamondbacks",{"$f":"VLOOKUP(B49,Append1[],2,FALSE)","v":51},{"$f":"VLOOKUP(B49,Append1[],3,FALSE)","v":110},{"$f":"C49/(C49+D49)","v":0.31677018633540371},{"$f":"RANK(E49,E49:E53)","v":5},"ARIZONA",50,106,0.32051282051282054,{"$f":"COUNTIFS(UPDATE!$D$5:$I$13,L49)","v":0},"Diamondbacks",{"$f":"C49-H49","v":1},4,{"$f":"M49/(M49+N49)","v":0.2},{"$f":"RANK(O49,O$49:O$53)","v":4}]
[null,"Rockies",{"$f":"VLOOKUP(B50,Append1[],2,FALSE)","v":74},{"$f":"VLOOKUP(B50,Append1[],3,FALSE)","v":86},{"$f":"C50/(C50+D50)","v":0.46250000000000002},{"$f":"RANK(E50,E49:E53)","v":4},"COLORADO",71,84,0.45806451612903226,{"$f":"COUNTIFS(UPDATE!$D$5:$I$13,L50)","v":0},"Rockies",3,2,{"$f":"M50/(M50+N50)","v":0.6},{"$f":"RANK(O50,O$49:O$53)","v":3}]
[null,"Dodgers",{"$f":"VLOOKUP(B51,Append1[],2,FALSE)","v":105},{"$f":"VLOOKUP(B51,Append1[],3,FALSE)","v":56},{"$f":"C51/(C51+D51)","v":0.65217391304347827},{"$f":"RANK(E51,E49:E53)","v":2},"LOS ANGELES",100,56,0.64102564102564108,{"$f":"COUNTIFS(UPDATE!$D$5:$I$13,L51)","v":4},"Dodgers",5,0,{"$f":"M51/(M51+N51)","v":1},{"$f":"RANK(O51,O$49:O$53)","v":1},"SEASON TLT TO DATE",null,null,408,372,0.52307692307692311,null,424,369,0.53467843631778056,null,0,640,"",null,{"$error":"#N/A"},{"$error":"#N/A"},{"$error":"#N/A"}]
[null,"Padres",{"$f":"VLOOKUP(B52,Append1[],2,FALSE)","v":79},{"$f":"VLOOKUP(B52,Append1[],3,FALSE)","v":82},{"$f":"C52/(C52+D52)","v":0.49068322981366458},{"$f":"RANK(E52,E49:E53)","v":3},"SAN DIEGO",78,78,0.5,{"$f":"COUNTIFS(UPDATE!$D$5:$I$13,L52)","v":3},"Padres",1,4,{"$f":"M52/(M52+N52)","v":0.2},{"$f":"RANK(O52,O$49:O$53)","v":4},{"$f":"$N$3&\" TOTAL TO DATE\"","v":"OCTOBER TOTAL TO DATE"},null,null,{"$f":"T48-T51","v":98},{"$f":"U48-U51","v":81},{"$f":"T52/(T52+U52)","v":0.54748603351955305},null,{"$f":"X48-X51","v":107},{"$f":"Y48-Y51","v":76},{"$f":"X52/(X52+Y52)","v":0.58469945355191255},null,{"$f":"AB48-AB51","v":0},{"$f":"AC48-AC51","v":150},{"$f":"IF(AB52<>0,AB52/(AB52+AC52),\"\")","v":""},null,{"$f":"AF48-AF51","v":{"$error":"#N/A"}},{"$f":"AG48-AG51","v":{"$error":"#N/A"}},{"$f":"AF52/(AF52+AG52)","v":{"$error":"#N/A"}}]
[null,"Giants",{"$f":"VLOOKUP(B53,Append1[],2,FALSE)","v":106},{"$f":"VLOOKUP(B53,Append1[],3,FALSE)","v":55},{"$f":"C53/(C53+D53)","v":0.65838509316770188},{"$f":"RANK(E53,E49:E53)","v":1},"SAN FRANCISCO",102,54,0.65384615384615385,{"$f":"COUNTIFS(UPDATE!$D$5:$I$13,L53)","v":2},"Giants",4,1,{"$f":"M53/(M53+N53)","v":0.8},{"$f":"RANK(O53,O$49:O$53)","v":2}]
[null,null,null,null,null,null,null,null,null,null,null,null,{"$f":"SUM(M9:M53)","v":78},{"$f":"SUM(N9:N53)","v":78}]
[null,null,null,{"$f":"TODAY()","v":"2022-03-05"},{"$f":"\" Morning\"","v":" Morning"}]
[]
[null,null,{"$f":"\"WEEK \"  & M3","v":"WEEK 26"}]
[null," ","NAME","W","L","PCT","GB"]
[null,null,{"$f":"UPDATE!$C$11","v":"LARRY"},{"$f":"$AB$12","v":23},{"$f":"$AC$12","v":7},{"$f":"IF(E59+D59<>0,D59/(D59+E59))","v":0.76666666666666672},{"$f":"IF(C59=\"-----\",\"-----\",SUM($D$59,-D59,E59,-$E$59)/2)","v":0}]
[null," ",{"$f":"UPDATE!$C$6","v":"JIM T."},{"$f":"$T$29","v":21},{"$f":"$U$29","v":9},0.7,2]
[null," ",{"$f":"UPDATE!$C$10","v":"TIM"},{"$f":"$X$46","v":20},{"$f":"$Y$46","v":10},0.66666666666666663,3]
[null," ",{"$f":"IF(UPDATE!$C$12<>\"\",UPDATE!$C$12,\"\")","v":"DIANE"},{"$f":"$AB$29","v":17},{"$f":"$AC$29","v":13},0.56666666666666665,6]
[null," ",{"$f":"UPDATE!$C$7","v":"JIM K."},{"$f":"$T$46","v":17},{"$f":"$U$46","v":13},0.56666666666666665,6]
[null,null,{"$f":"UPDATE!$C$9","v":"JEAN"},{"$f":"$X$29","v":16},{"$f":"$Y$29","v":14},0.53333333333333333,7]
[null,null,{"$f":"UPDATE!$C$8","v":"JOHN"},{"$f":"$X$12","v":15},{"$f":"$Y$12","v":15},0.5,8]
[null,null,{"$f":"UPDATE!$C$5","v":"MIKE"},{"$f":"$T$12","v":12},{"$f":"$U$12","v":19},0.38709677419354838,11.5]
[null,null,{"$f":"IF(UPDATE!$C$13<>\"\",UPDATE!$C$13,\"\")","v":"-----"},{"$f":"IF(UPDATE!$C$13<>\"\",$AB$46,\"\")","v":0},{"$f":"IF(UPDATE!$C$13<>\"\",$AC$46,\"\")","v":30},0,{"$f":"IF(C67=\"-----\",\"-----\",SUM($D$59,-D67,E67,-$E$59)/2)","v":"-----"}]
[null,null,{"$f":"IF(UPDATE!$C$14<>\"\",UPDATE!$C$14,\"\")","v":""},{"$f":"IF(UPDATE!$C$14<>\"\",$AB$46,\"\")","v":""},{"$f":"IF(UPDATE!$C$14<>\"\",$AC$46,\"\")","v":""},{"$f":"IF(UPDATE!$C$14<>\"\",D68/(D68+E68),\"\")","v":""},{"$f":"IF(UPDATE!$C$14<>\"\",SUM($D$59,-D68,E68,-$E$59)/2,\"\")","v":""}]
[null,null,{"$f":"IF(UPDATE!$C$15<>\"\",UPDATE!$C$15,\"\")","v":""},{"$f":"IF(UPDATE!$C$15<>\"\",$AB$46,\"\")","v":""},{"$f":"IF(UPDATE!$C$15<>\"\",$AC$46,\"\")","v":""},{"$f":"IF(UPDATE!$C$15<>\"\",D69/(D69+E69),\"\")","v":""},{"$f":"IF(UPDATE!$C$15<>\"\",SUM($D$59,-D69,E69,-$E$59)/2,\"\")","v":""}]
[null,null,{"$f":"IF(UPDATE!$C$16<>\"\",UPDATE!$C$16,\"\")","v":""},{"$f":"IF(UPDATE!$C$16<>\"\",$AB$46,\"\")","v":""},{"$f":"IF(UPDATE!$C$16<>\"\",$AC$46,\"\")","v":""},{"$f":"IF(UPDATE!$C$16<>\"\",D70/(D70+E70),\"\")","v":""},{"$f":"IF(UPDATE!$C$16<>\"\",SUM($D$59,-D70,E70,-$E$59)/2,\"\")","v":""}]
[]
[null,null,{"$f":"\"MONTH OF  \" & $N$3","v":"MONTH OF  OCTOBER"}]
[null,null,"NAME","W","L","PCT","GB"]
[null,null,{"$f":"UPDATE!$C$11","v":"LARRY"},{"$f":"$AB$18","v":110},{"$f":"$AC$18","v":71},{"$f":"IF(E74+D74<>0,D74/(D74+E74))","v":0.60773480662983426},{"$f":"IF(C74=\"-----\",\"-----\",SUM($D$74,-D74,E74,-$E$74)/2)","v":0}]
[null,null,{"$f":"UPDATE!$C$6","v":"JIM T."},{"$f":"$T$35","v":108},{"$f":"$U$35","v":74},0.59340659340659341,{"$f":"IF(C75=\"-----\",\"-----\",SUM($D$74,-D75,E75,-$E$74)/2)","v":2.5}]
[null,null,{"$f":"UPDATE!$C$10","v":"TIM"},{"$f":"$X$52","v":107},{"$f":"$Y$52","v":76},0.58469945355191255,4]
[null,null,{"$f":"UPDATE!$C$12","v":"DIANE"},{"$f":"$AB$35","v":104},{"$f":"$AC$35","v":78},0.5714285714285714,6.5]
[null,null,{"$f":"UPDATE!$C$9","v":"JEAN"},{"$f":"$X$35","v":102},{"$f":"$Y$35","v":82},0.55434782608695654,9.5]
[null,null,{"$f":"UPDATE!$C$7","v":"JIM K."},{"$f":"$T$52","v":98},{"$f":"$U$52","v":81},0.54748603351955305,11]
[null,null,{"$f":"UPDATE!$C$8","v":"JOHN"},{"$f":"$X$18","v":99},{"$f":"$Y$18","v":82},0.54696132596685088,11]
[null,null,{"$f":"UPDATE!$C$5","v":"MIKE"},{"$f":"$T$18","v":92},{"$f":"$U$18","v":94},0.4946236559139785,20.5]
[null,null,{"$f":"UPDATE!$C$13","v":"-----"},{"$f":"$AB$52","v":0},{"$f":"$AC$52","v":150},0,"-----"]
[null,null,{"$f":"IF(UPDATE!$C$14<>\"\",UPDATE!$C$14,\"\")","v":""},{"$f":"IF(UPDATE!$C$14<>\"\",$AF$12,\"\")","v":""},{"$f":"IF(UPDATE!$C$14<>\"\",$AG$12,\"\")","v":""},{"$f":"IF(UPDATE!$C$14<>\"\",D83/(D83+E83),\"\")","v":""},{"$f":"IF(UPDATE!$C$14<>\"\",SUM($D$74,-D83,E83,-$E$74)/2,\"\")","v":""}]
[null,null,{"$f":"IF(UPDATE!$C$15<>\"\",UPDATE!$C$15,\"\")","v":""},{"$f":"IF(UPDATE!$C$15<>\"\",$AF$35,\"\")","v":""},{"$f":"IF(UPDATE!$C$15<>\"\",$AG$35,\"\")","v":""},{"$f":"IF(UPDATE!$C$15<>\"\",D84/(D84+E84),\"\")","v":""},{"$f":"IF(UPDATE!$C$14<>\"\",SUM($D$74,-D84,E84,-$E$74)/2,\"\")","v":""}]
[null,null,{"$f":"IF(UPDATE!$C$16<>\"\",UPDATE!$C$16,\"\")","v":""},{"$f":"IF(UPDATE!$C$16<>\"\",$AF$52,\"\")","v":""},{"$f":"IF(UPDATE!$C$16<>\"\",$AG$52,\"\")","v":""},{"$f":"IF(UPDATE!$C$16<>\"\",D85/(D85+E85),\"\")","v":""},{"$f":"IF(UPDATE!$C$14<>\"\",SUM($D$74,-D85,E85,-$E$74)/2,\"\")","v":""}]
[null,null,{"$f":"YEAR(TODAY())","v":2022},null,"SEASON"]
[null,null,"NAME","W","L","PCT","GB"]
[null,null,{"$f":"UPDATE!$C$11","v":"LARRY"},{"$f":"$AB$14","v":560},{"$f":"$AC$14","v":409},{"$f":"IF(E88<>0,D88/(D88+E88))","v":0.57791537667698656},{"$f":"IF(C88=\"-----\",\"-----\",SUM($D$88,-D88,E88,-$E$88)/2)","v":0}]
[null,null,{"$f":"UPDATE!$C$6","v":"JIM T."},{"$f":"$T$31","v":541},{"$f":"$U$31","v":427},0.55888429752066116,{"$f":"IF(C89=\"-----\",\"-----\",SUM($D$88,-D89,E89,-$E$88)/2)","v":18.5}]
[null,null,{"$f":"UPDATE!$C$10","v":"TIM"},{"$f":"$X$48","v":531},{"$f":"$Y$48","v":445},0.54405737704918034,32.5]
[null,null,{"$f":"UPDATE!$C$12","v":"DIANE"},{"$f":"$AB$31","v":519},{"$f":"$AC$31","v":447},0.53726708074534157,39.5]
[null,null,{"$f":"UPDATE!$C$8","v":"JOHN"},{"$f":"$X$14","v":511},{"$f":"$Y$14","v":457},0.52789256198347112,48.5]
[null,null,{"$f":"UPDATE!$C$7","v":"JIM K."},{"$f":"$T$48","v":506},{"$f":"$U$48","v":453},0.52763295099061525,49]
[null,null,{"$f":"UPDATE!$C$9","v":"JEAN"},{"$f":"$X$31","v":503},{"$f":"$Y$31","v":456},0.52450469238790409,52]
[null,null,{"$f":"UPDATE!$C$5","v":"MIKE"},{"$f":"$T$14","v":504},{"$f":"$U$14","v":465},0.52012383900928794,56,null," "]
[null,null,{"$f":"UPDATE!$C$13","v":"-----"},{"$f":"$AB$48","v":0},{"$f":"$AC$48","v":790},0,"-----",null," "]
[null,null,{"$f":"IF(UPDATE!$C$14<>\"\",UPDATE!$C$14,\"\")","v":""},{"$f":"IF(UPDATE!$C$14<>\"\",$AF$14,\"\")","v":""},{"$f":"IF(UPDATE!$C$14<>\"\",$AG$14,\"\")","v":""},{"$f":"IF(UPDATE!$C$14<>\"\",D97/(D97+E97),\"\")","v":""},{"$f":"IF(UPDATE!$C$14<>\"\",SUM($D$88,-D97,E97,-$E$88)/2,\"\")","v":""},null," "]
[null,null,{"$f":"IF(UPDATE!$C$15<>\"\",UPDATE!$C$15,\"\")","v":""},{"$f":"IF(UPDATE!$C$15<>\"\",$AF$31,\"\")","v":""},{"$f":"IF(UPDATE!$C$15<>\"\",$AG$31,\"\")","v":""},{"$f":"IF(UPDATE!$C$15<>\"\",D98/(D98+E98),\"\")","v":""},{"$f":"IF(UPDATE!$C$14<>\"\",SUM($D$88,-D98,E98,-$E$88)/2,\"\")","v":""}]
[null,null,{"$f":"IF(UPDATE!$C$16<>\"\",UPDATE!$C$16,\"\")","v":""},{"$f":"IF(UPDATE!$C$16<>\"\",$AF$48,\"\")","v":""},{"$f":"IF(UPDATE!$C$16<>\"\",$AG$48,\"\")","v":""},{"$f":"IF(UPDATE!$C$16<>\"\",D99/(D99+E99),\"\")","v":""},{"$f":"IF(UPDATE!$C$14<>\"\",SUM($D$88,-D99,E99,-$E$88)/2,\"\")","v":""}]
[]
[]
[]
[]
[]
[]
[]
[null,null,null,null,"CURRENT WEEK",null,null,null,null,null,null,"THIS WEEK"]
[null,null,"WEEK ENDING",null,"THIS WEEK","SEASON",null,null,null,null,null,"AL",null,"RANK"]
[null,null,{"$f":"$D$3","v":"2021-10-03"},null,"RANK","RANK",null,null,null,null,null,"CHICAGO A",{"$f":"VLOOKUP(L109,$C$110:$D$139,2,FALSE)","v":1},{"$f":"RANK(M109,$M$109:$M$123)","v":1}]
[null,null,"LOS ANGELES N",{"$f":"$O$51","v":1},{"$f":"RANK(D110,D110:D139)","v":1},{"$f":"VLOOKUP(C110,$C$144:$E$173,3,FALSE)","v":2},null,null,null,null,null,"SEATTLE",0.8,2]
[null,null,"CHICAGO A",{"$f":"$O$17","v":1},{"$f":"RANK(D111,D110:D139)","v":1},{"$f":"VLOOKUP(C111,$C$144:$E$173,3,FALSE)","v":6},null,null,null,null,null,"MINNESOTA",0.6,3]
[null,null,"SAN FRANCISCO",{"$f":"$O$53","v":0.8},{"$f":"RANK(D112,D110:D139)","v":3},1,null,null,null,null,null,"HOUSTON",0.6,3]
[null,null,"ATLANTA",{"$f":"$O$33","v":0.8},{"$f":"RANK(D113,D110:D139)","v":3},12,null,null,null,null,null,"TEXAS",0.6,3]
[null,null,"SEATTLE",{"$f":"$O$27","v":0.8},{"$f":"RANK(D114,D110:D139)","v":3},9,null,null,null,null,null,"TAMPA BAY",0.6,3]
[null,null,"NEW YORK N",{"$f":"$O$35","v":0.66666666666666663},{"$f":"RANK(D115,D110:D139)","v":6},18,null,null,null,null,null,"TORONTO",0.6,3]
[null,null,"COLORADO",{"$f":"$O$50","v":0.6},{"$f":"RANK(D116,D110:D139)","v":7},21,null,null,null,null,null,"BOSTON",0.6,3]
[null,null,"ST LOUIS",{"$f":"$O$45","v":0.6},{"$f":"RANK(D117,D110:D139)","v":7},9,null,null,null,null,null,"KANSAS CITY",0.5,9]
[null,null,"MINNESOTA",{"$f":"$O$21","v":0.6},{"$f":"RANK(D118,D110:D139)","v":7},23,null,null,null,null,null,"CLEVELAND",0.5,9]
[null,null,"HOUSTON",{"$f":"$O$29","v":0.6},{"$f":"RANK(D119,D110:D139)","v":7},5,null,null,null,null,null,"NEW YORK A",0.4,11]
[null,null,"TEXAS",{"$f":"$O$28","v":0.6},{"$f":"RANK(D120,D110:D139)","v":7},28,null,null,null,null,null,"BALTIMORE",0.4,11]
[null,null,"CHICAGO N",{"$f":"$O$41","v":0.6},{"$f":"RANK(D121,D110:D139)","v":7},24,null,null,null,null,null,"LOS ANGELES A",0.4,11]
[null,null,"TAMPA BAY",{"$f":"$O$12","v":0.6},{"$f":"RANK(D122,D110:D139)","v":7},3,null,null,null,null,null,"OAKLAND",0.2,{"$f":"RANK(M122,$M$109:$M$123)","v":14}]
[null,null,"TORONTO",{"$f":"$O$13","v":0.6},{"$f":"RANK(D123,D110:D139)","v":7},9,null,null,null,null,null,"DETROIT",0.16666666666666666,15]
[null,null,"BOSTON",{"$f":"$O$10","v":0.6},{"$f":"RANK(D124,D110:D139)","v":7},7,null,null,null,null,null,"NL"]
[null,null,"KANSAS CITY",{"$f":"$O$20","v":0.5},{"$f":"RANK(D125,D110:D139)","v":16},22,null,null,null,null,null,"LOS ANGELES N",{"$f":"VLOOKUP(L125,$C$110:$D$139,2,FALSE)","v":1},{"$f":"RANK(M125,L125:M139)","v":1}]
[null,null,"CLEVELAND",{"$f":"$O$18","v":0.5},{"$f":"RANK(D126,D110:D139)","v":16},16,null,null,null,null,null,"SAN FRANCISCO",0.8,{"$f":"RANK(M126,L125:M139)","v":2}]
[null,null,"PITTSBURGH",{"$f":"$O$44","v":0.5},{"$f":"RANK(D127,D110:D139)","v":16},27,null,null,null,null,null,"ATLANTA",0.8,{"$f":"RANK(M127,L125:M139)","v":2}]
[null,null,"NEW YORK A",{"$f":"$O$11","v":0.4},{"$f":"RANK(D128,D110:D139)","v":19},7,null,null,null,null,null,"NEW YORK N",0.66666666666666663,{"$f":"RANK(M128,L125:M139)","v":4}]
[null,null,"BALTIMORE",{"$f":"$O$9","v":0.4},{"$f":"RANK(D129,D110:D139)","v":19},29,null,null,null,null,null,"COLORADO",0.6,{"$f":"RANK(M129,L125:M139)","v":5}]
[null,null,"LOS ANGELES A",{"$f":"$O$25","v":0.4},{"$f":"RANK(D130,D110:D139)","v":19},19,null,null,null,null,null,"ST LOUIS",0.6,{"$f":"RANK(M130,L125:M139)","v":5}]
[null,null,"MIAMI",{"$f":"$O$34","v":0.33333333333333331},{"$f":"RANK(D131,D110:D139)","v":22},25,null,null,null,null,null,"CHICAGO N",0.6,{"$f":"RANK(M131,L125:M139)","v":5}]
[null,null,"MILWAUKEE",{"$f":"$O$43","v":0.2},{"$f":"RANK(D132,D110:D139)","v":23},4,null,null,null,null,null,"PITTSBURGH",0.5,{"$f":"RANK(M132,L125:M139)","v":8}]
[null,null,"CINCINNATI",{"$f":"$O$42","v":0.2},{"$f":"RANK(D133,D110:D139)","v":23},14,null,null,null,null,null,"MIAMI",0.33333333333333331,{"$f":"RANK(M133,L125:M139)","v":9}]
[null,null,"WASHINGTON",{"$f":"$O$37","v":0.2},{"$f":"RANK(D134,D110:D139)","v":23},26,null,null,null,null,null,"MILWAUKEE",0.2,{"$f":"RANK(M134,L125:M139)","v":10}]
[null,null,"PHILADELPHIA",{"$f":"$O$36","v":0.2},{"$f":"RANK(D135,D110:D139)","v":23},14,null,null,null,null,null,"CINCINNATI",0.2,{"$f":"RANK(M135,L125:M139)","v":10}]
[null,null,"OAKLAND",{"$f":"$O$26","v":0.2},{"$f":"RANK(D136,D110:D139)","v":23},13,null,null,null,null,null,"WASHINGTON",0.2,{"$f":"RANK(M136,L125:M139)","v":10}]
[null,null,"SAN DIEGO",{"$f":"$O$52","v":0.2},{"$f":"RANK(D137,D110:D139)","v":23},16,null,null,null,null,null,"PHILADELPHIA",0.2,{"$f":"RANK(M137,L125:M139)","v":10}]
[null,null,"ARIZONA",{"$f":"$O$49","v":0.2},{"$f":"RANK(D138,D110:D139)","v":23},{"$f":"VLOOKUP(C138,$C$144:$E$173,3,FALSE)","v":30},null,null,null,null,null,"SAN DIEGO",0.2,{"$f":"RANK(M138,L125:M139)","v":10}]
[null,null,"DETROIT",{"$f":"$O$19","v":0.16666666666666666},{"$f":"RANK(D139,D110:D139)","v":30},19,null,null,null,null,null,"ARIZONA",0.2,{"$f":"RANK(M139,L125:M139)","v":10}]
[]
[null,null,null,null,"SEASON TO DATE",null,null,null,null,null,null,"SEASON TO DATE"]
[null,null,null,null,null,null,null,null,null,null,null,"AL"]
[null,null,"SEASON TO-DATE",null,"RANK",null,null,null,null,null,null,"TAMPA BAY",{"$f":"VLOOKUP(L143,$C$144:$D$173,2,FALSE)","v":0.6211180124223602},{"$f":"RANK(M143,$M$143:$M$157)","v":1}]
[null,null,"SAN FRANCISCO",{"$f":"$E$53","v":0.65838509316770188},{"$f":"RANK(D144,D144:D173)","v":1},null,null,null,null,null,null,"HOUSTON",0.58385093167701863,2]
[null,null,"LOS ANGELES N",{"$f":"$E$51","v":0.65217391304347827},{"$f":"RANK(D145,D144:D173)","v":2},null,null,null,null,null,null,"CHICAGO A",0.57763975155279501,3]
[null,null,"TAMPA BAY",{"$f":"$E$12","v":0.6211180124223602},{"$f":"RANK(D146,D144:D173)","v":3},null,null,null,null,null,null,"NEW YORK A",0.56521739130434778,4]
[null,null,"MILWAUKEE",{"$f":"$E$43","v":0.59006211180124224},{"$f":"RANK(D147,D144:D173)","v":4},null,null,null,null,null,null,"BOSTON",0.56521739130434778,4]
[null,null,"HOUSTON",{"$f":"$E$29","v":0.58385093167701863},{"$f":"RANK(D148,D144:D173)","v":5},null,null,null,null,null,null,"SEATTLE",0.55900621118012417,6]
[null,null,"CHICAGO A",{"$f":"$E$17","v":0.57763975155279501},{"$f":"RANK(D149,D144:D173)","v":6},null,null,null,null,null,null,"TORONTO",0.55900621118012417,6]
[null,null,"NEW YORK A",{"$f":"$E$11","v":0.56521739130434778},{"$f":"RANK(D150,D144:D173)","v":7},null,null,null,null,null,null,"OAKLAND",0.53416149068322982,8]
[null,null,"BOSTON",{"$f":"$E$10","v":0.56521739130434778},{"$f":"RANK(D151,D144:D173)","v":7},null,null,null,null,null,null,"CLEVELAND",0.49068322981366458,9]
[null,null,"ST LOUIS",{"$f":"$E$45","v":0.55900621118012417},{"$f":"RANK(D152,D144:D173)","v":9},null,null,null,null,null,null,"DETROIT",0.47204968944099379,10]
[null,null,"SEATTLE",{"$f":"$E$27","v":0.55900621118012417},{"$f":"RANK(D153,D144:D173)","v":9},null,null,null,null,null,null,"LOS ANGELES A",0.47204968944099379,10]
[null,null,"TORONTO",{"$f":"$E$13","v":0.55900621118012417},{"$f":"RANK(D154,D144:D173)","v":9},null,null,null,null,null,null,"KANSAS CITY",0.45962732919254656,12]
[null,null,"ATLANTA",{"$f":"$E$33","v":0.54374999999999996},{"$f":"RANK(D155,D144:D173)","v":12},null,null,null,null,null,null,"MINNESOTA",0.44720496894409939,13]
[null,null,"OAKLAND",{"$f":"$E$26","v":0.53416149068322982},{"$f":"RANK(D156,D144:D173)","v":13},null,null,null,null,null,null,"TEXAS",0.37267080745341613,{"$f":"RANK(M156,$M$143:$M$157)","v":14}]
[null,null,"CINCINNATI",{"$f":"$E$42","v":0.50931677018633537},{"$f":"RANK(D157,D144:D173)","v":14},null,null,null,null,null,null,"BALTIMORE",0.32298136645962733,15]
[null,null,"PHILADELPHIA",{"$f":"$E$36","v":0.50931677018633537},{"$f":"RANK(D158,D144:D173)","v":14},null,null,null,null,null,null,"NL"]
[null,null,"CLEVELAND",{"$f":"$E$18","v":0.49068322981366458},{"$f":"RANK(D159,D144:D173)","v":16},null,null,null,null,null,null,"SAN FRANCISCO",{"$f":"VLOOKUP(L159,$C$144:$D$173,2,FALSE)","v":0.65838509316770188},{"$f":"RANK(M159,L159:M173)","v":1}]
[null,null,"SAN DIEGO",{"$f":"$E$52","v":0.49068322981366458},{"$f":"RANK(D160,D144:D173)","v":16},null,null,null,null,null,null,"LOS ANGELES N",0.65217391304347827,{"$f":"RANK(M160,L159:M173)","v":2}]
[null,null,"NEW YORK N",{"$f":"$E$35","v":0.47826086956521741},{"$f":"RANK(D161,D144:D173)","v":18},null,null,null,null,null,null,"MILWAUKEE",0.59006211180124224,{"$f":"RANK(M161,L159:M173)","v":3}]
[null,null,"DETROIT",{"$f":"$E$19","v":0.47204968944099379},{"$f":"RANK(D162,D144:D173)","v":19},null,null,null,null,null,null,"ST LOUIS",0.55900621118012417,{"$f":"RANK(M162,L159:M173)","v":4}]
[null,null,"LOS ANGELES A",{"$f":"$E$25","v":0.47204968944099379},{"$f":"RANK(D163,D144:D173)","v":19},null,null,null,null,null,null,"ATLANTA",0.54374999999999996,{"$f":"RANK(M163,L159:M173)","v":5}]
[null,null,"COLORADO",{"$f":"$E$50","v":0.46250000000000002},{"$f":"RANK(D164,D144:D173)","v":21},null,null,null,null,null,null,"CINCINNATI",0.50931677018633537,{"$f":"RANK(M164,L159:M173)","v":6}]
[null,null,"KANSAS CITY",{"$f":"$E$20","v":0.45962732919254656},{"$f":"RANK(D165,D144:D173)","v":22},null,null,null,null,null,null,"PHILADELPHIA",0.50931677018633537,{"$f":"RANK(M165,L159:M173)","v":6}]
[null,null,"MINNESOTA",{"$f":"$E$21","v":0.44720496894409939},{"$f":"RANK(D166,D144:D173)","v":23},null,null,null,null,null,null,"SAN DIEGO",0.49068322981366458,{"$f":"RANK(M166,L159:M173)","v":8}]
[null,null,"CHICAGO N",{"$f":"$E$41","v":0.43478260869565216},{"$f":"RANK(D167,D144:D173)","v":24},null,null,null,null,null,null,"NEW YORK N",0.47826086956521741,{"$f":"RANK(M167,L159:M173)","v":9}]
[null,null,"MIAMI",{"$f":"$E$34","v":0.40993788819875776},{"$f":"RANK(D168,D144:D173)","v":25},null,null,null,null,null,null,"COLORADO",0.46250000000000002,{"$f":"RANK(M168,L159:M173)","v":10}]
[null,null,"WASHINGTON",{"$f":"$E$37","v":0.40372670807453415},{"$f":"RANK(D169,D144:D173)","v":26},null,null,null,null,null,null,"CHICAGO N",0.43478260869565216,{"$f":"RANK(M169,L159:M173)","v":11}]
[null,null,"PITTSBURGH",{"$f":"$E$44","v":0.37888198757763975},{"$f":"RANK(D170,D144:D173)","v":27},null,null,null,null,null,null,"MIAMI",0.40993788819875776,{"$f":"RANK(M170,L159:M173)","v":12}]
[null,null,"TEXAS",{"$f":"$E$28","v":0.37267080745341613},{"$f":"RANK(D171,D144:D173)","v":28},null,null,null,null,null,null,"WASHINGTON",0.40372670807453415,{"$f":"RANK(M171,L159:M173)","v":13}]
[null,null,"BALTIMORE",{"$f":"$E$9","v":0.32298136645962733},{"$f":"RANK(D172,D144:D173)","v":29},null,null,null,null,null,null,"PITTSBURGH",0.37888198757763975,{"$f":"RANK(M172,L159:M173)","v":14}]
[null,null,"ARIZONA",{"$f":"$E$49","v":0.31677018633540371},{"$f":"RANK(D173,D144:D173)","v":30},null,null,null,null,null,null,"ARIZONA",0.31677018633540371,{"$f":"RANK(M173,L159:M173)","v":15}]

{"sheet":"26-Sep","index":13,"n_rows":172,"n_cols":34,"rows_kept":172,"cut":false,"hidden":false,"merged":[[1,16,1,33],[2,13,2,14],[3,18,3,21],[3,22,3,25],[3,26,3,29],[3,30,3,33],[20,30,20,33],[4,2,4,4],[4,6,4,9],[4,11,4,14],[11,16,11,17],[12,16,12,17],[13,16,13,17],[16,16,16,17],[17,16,17,17],[20,18,20,21],[20,22,20,25],[20,26,20,29],[47,16,47,17],[28,16,28,17],[29,16,29,17],[30,16,30,17],[33,16,33,17],[34,16,34,17],[37,22,37,25],[37,26,37,29],[37,30,37,33],[45,16,45,17],[46,16,46,17],[37,18,37,21],[50,16,50,17],[51,16,51,17],[56,2,56,6],[71,2,71,6],[85,2,85,3],[85,4,85,5],[94,9,94,13],[95,9,95,13],[102,16,102,20],[106,4,106,5],[107,2,107,3],[107,11,107,12],[141,11,141,12],[142,2,142,3],[157,11,157,12],[108,2,108,3],[113,16,113,20],[123,11,123,12],[124,16,124,20],[140,4,140,5],[140,11,140,12]]}
[null,2021,"STANDINGS"]
[null,null,null,null,null,null,null,null,null,null,null,null,null,null,null,null,"CURRENT WEEK RESULTS"]
[null,"WEEK ENDING "," ","2021-09-26",null,null,null," ",null,null,null,"WEEK",25,"SEPTEMBER",null," "]
[null,null,null,null,null,null,null,null,null,null,null,null,null,null,null,null,null,null,"MIKE",null,null,null,"JOHN",null,null,null,"LARRY",null,null,null,0]
[null,null,"CURRENT WEEK-SEASON TO DATE",null,null,null,"PREVIOUS WEEK-SEASON TO DATE",null,null,null,null,"CURRENT WEEK TOTALS",null,null,null,null,null,null,"RANK","W","L","PCT","RANK","W","L","PCT","RANK","W","L","PCT","RANK","W","L","PCT"]
[null,null,null,null,null,null,null,null,null,null,null,null,null,null,null,null,null,null,"Rays",5,1,0.83333333333333337,"Dodgers",4,2,0.66666666666666663,"Braves",6,2,0.75,0,{"$error":"#N/A"},{"$error":"#N/A"},{"$error":"#N/A"}]
[null,"American League",null,null,null,null,"AL EAST",null,null,null,"Times","AL EAST",null,null,null,null,null,null,"Astros",3,4,0.42857142857142855,"Yankees",6,0,1,"Brewers",3,4,0.42857142857142855,0,{"$error":"#N/A"},{"$error":"#N/A"},{"$error":"#N/A"}]
[null,"East","W","L","PCT","Rank","TEAM","W","L","PCT","Picked","TEAM","W","L","PCT","Rank",null,null,"Brewers",3,4,0.42857142857142855,"Phillies",5,2,0.7142857142857143,"White Sox",3,4,0.42857142857142855,0,{"$error":"#N/A"},{"$error":"#N/A"},{"$error":"#N/A"}]
[null,"Orioles",50,106,0.32051282051282054,5,"BALTIMORE",47,102,0.31543624161073824,0,"Orioles",3,4,0.42857142857142855,3,null,null,"Padres",2,5,0.2857142857142857,"White Sox",3,4,0.42857142857142855,"Yankees",6,0,1,0,{"$error":"#N/A"},{"$error":"#N/A"},{"$error":"#N/A"}]
[null,"Red Sox",88,68,0.5641025641025641,3,"BOSTON",86,65,0.56953642384105962,1,"Red Sox",2,3,0.4,5,null,null,"Indians",3,5,0.375,"Brewers",3,4,0.42857142857142855,"Mariners",6,1,0.8571428571428571,0,{"$error":"#N/A"},{"$error":"#N/A"},{"$error":"#N/A"}]
[null,"Yankees",89,67,0.57051282051282048,2,"NEW YORK",83,67,0.55333333333333334,3,"Yankees",6,0,1,1,null,null,"Phillies",5,2,0.7142857142857143,"Athletics",3,4,0.42857142857142855,"Dodgers",4,2,0.66666666666666663,0,{"$error":"#N/A"},{"$error":"#N/A"},{"$error":"#N/A"}]
[null,"Rays",97,59,0.62179487179487181,1,"TAMPA BAY",92,58,0.61333333333333329,4,"Rays",5,1,0.83333333333333337,2,"WEEKLY TOTAL",null,null,21,21,0.5,null,24,16,0.6,null,28,13,0.68292682926829273,null,{"$error":"#N/A"},{"$error":"#N/A"},{"$error":"#N/A"}]
[null,"Blue Jays",87,69,0.55769230769230771,4,"TORONTO",84,65,0.56375838926174493,1,"Blue Jays",3,4,0.42857142857142855,3,"PREV WEEK TO DATE",null,"  ",471,425,0.5256696428571429,null,472,426,0.52561247216035634,null,509,389,0.56681514476614703,null,{"$error":"#N/A"},{"$error":"#N/A"},{"$error":"#N/A"}]
[null,null,null," ",null,null,null,null," ",null,null,null,null,null,null,null,"CUR TOTAL TO DATE",null,"  ",492,446,0.52452025586353945,null,496,442,0.52878464818763327,null,537,402,0.5718849840255591,null,{"$error":"#N/A"},{"$error":"#N/A"},{"$error":"#N/A"}]
[null,null,null," ",null,null,"AL CENTRAL",null," ",null,null,"AL CENTRAL"]
[null,"Central","W","L","PCT",null,"TEAM","W","L","PCT",null,"TEAM","W","L","PCT"]
[null,"White Sox",88,68,0.5641025641025641,1,"CHICAGO",85,64,0.57046979865771807,7,"White Sox",3,4,0.42857142857142855,4,"SEASON TLT TO DATE",null,"  ",412,371,0.5261813537675607,null,412,375,0.52350698856416777,null,450,338,0.57106598984771573,null,{"$error":"#N/A"},{"$error":"#N/A"},{"$error":"#N/A"}]
[null,"Indians",76,79,0.49032258064516127,2,"CLEVELAND",73,74,0.49659863945578231,2,"Indians",3,5,0.375,5,"SEPTEMBER TOTAL TO DATE",null,null,80,75,0.5161290322580645,null,84,67,0.55629139072847678,null,87,64,0.57615894039735094,null,{"$error":"#N/A"},{"$error":"#N/A"},{"$error":"#N/A"}]
[null,"Tigers",75,80,0.4838709677419355,3,"DETROIT",72,78,0.48,0,"Tigers",3,2,0.6,3]
[null,"Royals",71,84,0.45806451612903226,4,"KANSAS CITY",67,82,0.44966442953020136,0,"Royals",4,2,0.66666666666666663,1]
[null,"Twins",69,87,0.44230769230769229,5,"MINNESOTA",65,85,0.43333333333333335,0,"Twins",4,2,0.66666666666666663,1,null,null,"JIM T.",null,null,null,"JEAN",null,null,null,"DIANE",null,null,null,0]
[null,null,null," ",null,null,null,null," ",null,null,null,null,null,null,null,null,null,"RANK","W","L","PCT","RANK","W","L","PCT","RANK","W","L","PCT","RANK","W","L","PCT"]
[null,null,null," ",null,null,"AL WEST",null," ",null,null,"AL WEST",null,null,null,null,null,null,"Rays",5,1,0.83333333333333337,"Rays",5,1,0.83333333333333337,"Brewers",3,4,0.42857142857142855,0,{"$error":"#N/A"},{"$error":"#N/A"},{"$error":"#N/A"}]
[null,"West","W","L","PCT",null,"TEAM","W","L","PCT",null,"TEAM","W","L","PCT",null,null,null,"White Sox",3,4,0.42857142857142855,"Astros",3,4,0.42857142857142855,"White Sox",3,4,0.42857142857142855,0,{"$error":"#N/A"},{"$error":"#N/A"},{"$error":"#N/A"}]
[null,"Angels",74,82,0.47435897435897434,4,"LOS ANGELES",72,77,0.48322147651006714,0,"Angels",2,5,0.2857142857142857,4,null,null,"Astros",3,4,0.42857142857142855,"Phillies",5,2,0.7142857142857143,"Dodgers",4,2,0.66666666666666663,0,{"$error":"#N/A"},{"$error":"#N/A"},{"$error":"#N/A"}]
[null,"Athletics",85,71,0.54487179487179482,3,"OAKLAND",82,67,0.55033557046979864,2,"Athletics",3,4,0.42857142857142855,2,null,null,"Braves",6,2,0.75,"Cardinals",8,0,1,"Astros",3,4,0.42857142857142855,0,{"$error":"#N/A"},{"$error":"#N/A"},{"$error":"#N/A"}]
[null,"Mariners",86,70,0.55128205128205132,2,"SEATTLE",80,69,0.53691275167785235,1,"Mariners",6,1,0.8571428571428571,1,null,null,"Brewers",3,4,0.42857142857142855,"Padres",2,5,0.2857142857142857,"Yankees",6,0,1,0,{"$error":"#N/A"},{"$error":"#N/A"},{"$error":"#N/A"}]
[null,"Rangers",57,99,0.36538461538461536,5,"TEXAS",55,94,0.36912751677852351,0,"Rangers",2,5,0.2857142857142857,4,null,null,"Dodgers",4,2,0.66666666666666663,"White Sox",3,4,0.42857142857142855,"Phillies",5,2,0.7142857142857143,0,{"$error":"#N/A"},{"$error":"#N/A"},{"$error":"#N/A"}]
[null,"Astros",91,65,0.58333333333333337,1,"HOUSTON",88,61,0.59060402684563762,6,"Astros",3,4,0.42857142857142855,2,"WEEKLY TOTAL",null,null,24,17,0.58536585365853655,null,26,16,0.61904761904761907,null,24,16,0.6,null,{"$error":"#N/A"},{"$error":"#N/A"},{"$error":"#N/A"}]
[null,null,null,null,null,null,null,null,null,null,null,null,null,null,null,null,"PREV WEEK TO DATE",null,null,496,401,0.55295429208472691,null,461,426,0.51972942502818487,null,478,418,0.5334821428571429,null,{"$error":"#N/A"},{"$error":"#N/A"},{"$error":"#N/A"}]
[null,"National League",null," ",null,null,"NL EAST",null," ",null,null,"NL EAST",null,null,null,null,"CUR TOTAL TO DATE",null,null,520,418,0.55437100213219614,null,487,442,0.5242195909580194,null,502,434,0.53632478632478631,null,{"$error":"#N/A"},{"$error":"#N/A"},{"$error":"#N/A"}]
[null,"East","W","L","PCT",null,"TEAM","W","L","PCT",null,"TEAM","W","L","PCT"]
[null,"Braves",83,72,0.53548387096774197,1,"ATLANTA",77,70,0.52380952380952384,3,"Braves",6,2,0.75,1]
[null,"Marlins",64,91,0.41290322580645161,4,"Miami",63,86,0.42281879194630873,0,"Marlins",1,5,0.16666666666666666,4,"SEASON TLT TO DATE",null,null,433,353,0.55089058524173029,null,401,374,0.51741935483870971,null,415,369,0.52933673469387754,null,{"$error":"#N/A"},{"$error":"#N/A"},{"$error":"#N/A"}]
[null,"Mets",73,82,0.47096774193548385,3,"NEW YORK",73,77,0.48666666666666669,0,"Mets",0,5,0,5,"SEPTEMBER TOTAL TO DATE",null,null,87,65,0.57236842105263153,null,86,68,0.55844155844155841,null,87,65,0.57236842105263153,null,{"$error":"#N/A"},{"$error":"#N/A"},{"$error":"#N/A"}]
[null,"Phillies",81,75,0.51923076923076927,2,"PHILADELPHIA",76,73,0.51006711409395977,5,"Phillies",5,2,0.7142857142857143,2]
[null,"Nationals",64,92,0.41025641025641024,5,"WASHINGTON",61,88,0.40939597315436244,1,"Nationals",3,4,0.42857142857142855,3]
[null,null,null," ",null,null,null,null," ",null,null,null,null,null,null,null,null,null,"JIM K.",null,null,null,"TIM",null,null,null,"-----",null,null,null,0]
[null,null,null," ",null,null,"NL CENTRAL",null," ",null,null,"NL CENTRAL",null,null,null,null,null,null,"RANK","W","L","PCT","RANK","W","L","PCT","RANK","W","L","PCT","RANK","W","L","PCT"]
[null,"Central","W","L","PCT",null,"TEAM","W","L","PCT",null,"TEAM","W","L","PCT",null,null,null,"Giants",5,1,0.83333333333333337,"Giants",5,1,0.83333333333333337,null,null,null,null,0,{"$error":"#N/A"},{"$error":"#N/A"},{"$error":"#N/A"}]
[null,"Cubs",67,89,0.42948717948717946,4,"CHICAGO",67,83,0.44666666666666666,2,"Cubs",0,6,0,5,null,null,"White Sox",3,4,0.42857142857142855,"Rays",5,1,0.83333333333333337,null,null,null,null,0,{"$error":"#N/A"},{"$error":"#N/A"},{"$error":"#N/A"}]
[null,"Reds",81,75,0.51923076923076927,3,"CINCINNATI",77,73,0.51333333333333331,0,"Reds",4,2,0.66666666666666663,2,null,null,"Red Sox",2,3,0.4,"Brewers",3,4,0.42857142857142855,null,null,null,null,0,{"$error":"#N/A"},{"$error":"#N/A"},{"$error":"#N/A"}]
[null,"Brewers",94,62,0.60256410256410253,1,"MILWAUKEE",91,58,0.61073825503355705,6,"Brewers",3,4,0.42857142857142855,3,null,null,"Athletics",3,4,0.42857142857142855,"Astros",3,4,0.42857142857142855,null,null,null,null,0,{"$error":"#N/A"},{"$error":"#N/A"},{"$error":"#N/A"}]
[null,"Pirates",58,97,0.37419354838709679,5,"PITTSBURGH",56,93,0.37583892617449666,0,"Pirates",2,4,0.33333333333333331,4,null,null,"Phillies",5,2,0.7142857142857143,"White Sox",3,4,0.42857142857142855,null,null,null,null,0,{"$error":"#N/A"},{"$error":"#N/A"},{"$error":"#N/A"}]
[null,"Cardinals",87,69,0.55769230769230771,2,"ST LOUIS",79,69,0.53378378378378377,1,"Cardinals",8,0,1,1,null,null,"Cubs",0,6,0,"Braves",6,2,0.75,null,null,null,null,0,{"$error":"#N/A"},{"$error":"#N/A"},{"$error":"#N/A"}]
[null,null,null," ",null,null,null,null," ",null,null,null,null,null,null,null,"WEEKLY TOTAL",null,null,18,20,0.47368421052631576,null,25,16,0.6097560975609756,null,0,30,"",null,{"$error":"#N/A"},{"$error":"#N/A"},{"$error":"#N/A"}]
[null,null,null," ",null,null,"NL WEST",null," ",null,null,"NL WEST",null,null,null,null,"PREV WEEK TO DATE",null,null,471,420,0.52861952861952866,null,486,419,0.53701657458563534,null,0,730,"",null,{"$error":"#N/A"},{"$error":"#N/A"},{"$error":"#N/A"}]
[null,"West","W","L","PCT",null,"TEAM","W","L","PCT",null,"TEAM","W","L","PCT",null,"CUR TOTAL TO DATE",null,null,489,440,0.52637244348762113,null,511,435,0.54016913319238902,null,0,760,"",null,{"$error":"#N/A"},{"$error":"#N/A"},{"$error":"#N/A"}]
[null,"Diamondbacks",50,106,0.32051282051282054,5,"ARIZONA",48,101,0.32214765100671139,0,"Diamondbacks",2,5,0.2857142857142857,3]
[null,"Rockies",71,84,0.45806451612903226,4,"COLORADO",70,79,0.46979865771812079,0,"Rockies",1,5,0.16666666666666666,5]
[null,"Dodgers",100,56,0.64102564102564108,2,"LOS ANGELES",96,54,0.64,4,"Dodgers",4,2,0.66666666666666663,2,"SEASON TLT TO DATE",null,null,408,372,0.52307692307692311,null,424,369,0.53467843631778056,null,0,640,"",null,{"$error":"#N/A"},{"$error":"#N/A"},{"$error":"#N/A"}]
[null,"Padres",78,78,0.5,3,"SAN DIEGO",76,73,0.51006711409395977,3,"Padres",2,5,0.2857142857142857,3,"SEPTEMBER TOTAL TO DATE",null,null,81,68,0.5436241610738255,null,87,66,0.56862745098039214,null,0,120,"",null,{"$error":"#N/A"},{"$error":"#N/A"},{"$error":"#N/A"}]
[null,"Giants",102,54,0.65384615384615385,1,"SAN FRANCISCO",97,53,0.64666666666666661,2,"Giants",5,1,0.83333333333333337,1]
[null,null,null,null,null,null,null,null,null,null,null,null,98,98]
[null,null,null,"2021-09-27"," Morning"]
[]
[null,null,"WEEK 25"]
[null," ","NAME","W","L","PCT","GB"]
[null,null,"LARRY",28,13,0.68292682926829273,0]
[null," ","JEAN",26,16,0.61904761904761907,2.5]
[null," ","TIM",25,16,0.6097560975609756,3]
[null," ","DIANE",24,16,0.6,3.5]
[null," ","JOHN",24,16,0.6,3.5]
[null,null,"JIM T.",24,17,0.58536585365853655,4]
[null,null,"MIKE",21,21,0.5,7.5]
[null,null,"JIM K.",18,20,0.47368421052631576,8.5]
[null,null,"-----",0,30,0,"-----"]
[null,null,"","","","",""]
[null,null,"","","","",""]
[null,null,"","","","",""]
[]
[null,null,"MONTH OF  SEPTEMBER"]
[null,null,"NAME","W","L","PCT","GB"]
[null,null,"LARRY",87,64,0.57615894039735094,0]
[null,null,"DIANE",87,65,0.57236842105263153,0.5]
[null,null,"JIM T.",87,65,0.57236842105263153,0.5]
[null,null,"TIM",87,66,0.56862745098039214,1]
[null,null,"JEAN",86,68,0.55844155844155841,2.5]
[null,null,"JOHN",84,67,0.55629139072847678,3]
[null,null,"JIM K.",81,68,0.5436241610738255,5]
[null,null,"MIKE",80,75,0.5161290322580645,9]
[null,null,"-----",0,120,0,"-----"]
[null,null,"","","","",""]
[null,null,"","","","",""]
[null,null,"","","","",""]
[null,null,2021,null,"SEASON"]
[null,null,"NAME","W","L","PCT","GB"]
[null,null,"LARRY",537,402,0.5718849840255591,0]
[null,null,"JIM T.",520,418,0.55437100213219614,16.5]
[null,null,"TIM",511,435,0.54016913319238902,29.5]
[null,null,"DIANE",502,434,0.53632478632478631,33.5]
[null,null,"JOHN",496,442,0.52878464818763327,40.5]
[null,null,"JIM K.",489,440,0.52637244348762113,43]
[null,null,"MIKE",492,446,0.52452025586353945,44.5]
[null,null,"JEAN",487,442,0.5242195909580194,45,null," "]
[null,null,"-----",0,760,0,"-----",null," "]
[null,null,"","","","","",null," "]
[null,null,"","","","",""]
[null,null,"","","","",""]
[]
[]
[]
[]
[]
[]
[]
[null,null,null,null,"CURRENT WEEK",null,null,null,null,null,null,"THIS WEEK"]
[null,null,"WEEK ENDING",null,"THIS WEEK","SEASON",null,null,null,null,null,"AL",null,"RANK"]
[null,null,"2021-09-26",null,"RANK","RANK",null,null,null,null,null,"NEW YORK A",1,1]
[null,null,"ST LOUIS",1,1,9,null,null,null,null,null,"SEATTLE",0.8571428571428571,2]
[null,null,"NEW YORK A",1,1,6,null,null,null,null,null,"TAMPA BAY",0.83333333333333337,3]
[null,null,"SEATTLE",0.8571428571428571,3,11,null,null,null,null,null,"MINNESOTA",0.66666666666666663,4]
[null,null,"SAN FRANCISCO",0.83333333333333337,4,1,null,null,null,null,null,"KANSAS CITY",0.66666666666666663,4]
[null,null,"TAMPA BAY",0.83333333333333337,4,3,null,null,null,null,null,"DETROIT",0.6,6]
[null,null,"ATLANTA",0.75,6,13,null,null,null,null,null,"HOUSTON",0.42857142857142855,7]
[null,null,"PHILADELPHIA",0.7142857142857143,7,14,null,null,null,null,null,"BALTIMORE",0.42857142857142855,7]
[null,null,"MINNESOTA",0.66666666666666663,8,23,null,null,null,null,null,"CHICAGO A",0.42857142857142855,7]
[null,null,"KANSAS CITY",0.66666666666666663,8,21,null,null,null,null,null,"TORONTO",0.42857142857142855,7]
[null,null,"LOS ANGELES N",0.66666666666666663,8,2,null,null,null,null,null,"OAKLAND",0.42857142857142855,7]
[null,null,"CINCINNATI",0.66666666666666663,8,14,null,null,null,null,null,"BOSTON",0.4,12]
[null,null,"DETROIT",0.6,12,18,null,null,null,null,null,"CLEVELAND",0.375,13]
[null,null,"HOUSTON",0.42857142857142855,13,5,null,null,null,null,null,"LOS ANGELES A",0.2857142857142857,14]
[null,null,"WASHINGTON",0.42857142857142855,13,26,null,null,null,null,null,"TEXAS",0.2857142857142857,14]
[null,null,"BALTIMORE",0.42857142857142855,13,29,null,null,null,null,null,"NL"]
[null,null,"CHICAGO A",0.42857142857142855,13,7,null,null,null,null,null,"ST LOUIS",1,1]
[null,null,"TORONTO",0.42857142857142855,13,9,null,null,null,null,null,"SAN FRANCISCO",0.83333333333333337,2]
[null,null,"OAKLAND",0.42857142857142855,13,12,null,null,null,null,null,"ATLANTA",0.75,3]
[null,null,"MILWAUKEE",0.42857142857142855,13,4,null,null,null,null,null,"PHILADELPHIA",0.7142857142857143,4]
[null,null,"BOSTON",0.4,20,7,null,null,null,null,null,"LOS ANGELES N",0.66666666666666663,5]
[null,null,"CLEVELAND",0.375,21,17,null,null,null,null,null,"CINCINNATI",0.66666666666666663,5]
[null,null,"PITTSBURGH",0.33333333333333331,22,27,null,null,null,null,null,"WASHINGTON",0.42857142857142855,7]
[null,null,"SAN DIEGO",0.2857142857142857,23,16,null,null,null,null,null,"MILWAUKEE",0.42857142857142855,7]
[null,null,"LOS ANGELES A",0.2857142857142857,23,19,null,null,null,null,null,"PITTSBURGH",0.33333333333333331,9]
[null,null,"ARIZONA",0.2857142857142857,23,29,null,null,null,null,null,"SAN DIEGO",0.2857142857142857,10]
[null,null,"TEXAS",0.2857142857142857,23,28,null,null,null,null,null,"ARIZONA",0.2857142857142857,10]
[null,null,"COLORADO",0.16666666666666666,27,21,null,null,null,null,null,"COLORADO",0.16666666666666666,12]
[null,null,"MIAMI",0.16666666666666666,27,25,null,null,null,null,null,"MIAMI",0.16666666666666666,12]
[null,null,"CHICAGO N",0,29,24,null,null,null,null,null,"CHICAGO N",0,14]
[null,null,"NEW YORK N",0,29,20,null,null,null,null,null,"NEW YORK N",0,14]
[]
[null,null,null,null,"SEASON TO DATE",null,null,null,null,null,null,"SEASON TO DATE"]
[null,null,null,null,null,null,null,null,null,null,null,"AL"]
[null,null,"SEASON TO-DATE",null,"RANK",null,null,null,null,null,null,"TAMPA BAY",0.62179487179487181,1]
[null,null,"SAN FRANCISCO",0.65384615384615385,1,null,null,null,null,null,null,"HOUSTON",0.58333333333333337,2]
[null,null,"LOS ANGELES N",0.64102564102564108,2,null,null,null,null,null,null,"NEW YORK A",0.57051282051282048,3]
[null,null,"TAMPA BAY",0.62179487179487181,3,null,null,null,null,null,null,"BOSTON",0.5641025641025641,4]
[null,null,"MILWAUKEE",0.60256410256410253,4,null,null,null,null,null,null,"CHICAGO A",0.5641025641025641,4]
[null,null,"HOUSTON",0.58333333333333337,5,null,null,null,null,null,null,"TORONTO",0.55769230769230771,6]
[null,null,"NEW YORK A",0.57051282051282048,6,null,null,null,null,null,null,"SEATTLE",0.55128205128205132,7]
[null,null,"BOSTON",0.5641025641025641,7,null,null,null,null,null,null,"OAKLAND",0.54487179487179482,8]
[null,null,"CHICAGO A",0.5641025641025641,7,null,null,null,null,null,null,"CLEVELAND",0.49032258064516127,9]
[null,null,"TORONTO",0.55769230769230771,9,null,null,null,null,null,null,"DETROIT",0.4838709677419355,10]
[null,null,"ST LOUIS",0.55769230769230771,9,null,null,null,null,null,null,"LOS ANGELES A",0.47435897435897434,11]
[null,null,"SEATTLE",0.55128205128205132,11,null,null,null,null,null,null,"KANSAS CITY",0.45806451612903226,12]
[null,null,"OAKLAND",0.54487179487179482,12,null,null,null,null,null,null,"MINNESOTA",0.44230769230769229,13]
[null,null,"ATLANTA",0.53548387096774197,13,null,null,null,null,null,null,"TEXAS",0.36538461538461536,14]
[null,null,"PHILADELPHIA",0.51923076923076927,14,null,null,null,null,null,null,"BALTIMORE",0.32051282051282054,15]
[null,null,"CINCINNATI",0.51923076923076927,14,null,null,null,null,null,null,"NL"]
[null,null,"SAN DIEGO",0.5,16,null,null,null,null,null,null,"SAN FRANCISCO",0.65384615384615385,1]
[null,null,"CLEVELAND",0.49032258064516127,17,null,null,null,null,null,null,"LOS ANGELES N",0.64102564102564108,2]
[null,null,"DETROIT",0.4838709677419355,18,null,null,null,null,null,null,"MILWAUKEE",0.60256410256410253,3]
[null,null,"LOS ANGELES A",0.47435897435897434,19,null,null,null,null,null,null,"ST LOUIS",0.55769230769230771,4]
[null,null,"NEW YORK N",0.47096774193548385,20,null,null,null,null,null,null,"ATLANTA",0.53548387096774197,5]
[null,null,"COLORADO",0.45806451612903226,21,null,null,null,null,null,null,"PHILADELPHIA",0.51923076923076927,6]
[null,null,"KANSAS CITY",0.45806451612903226,21,null,null,null,null,null,null,"CINCINNATI",0.51923076923076927,6]
[null,null,"MINNESOTA",0.44230769230769229,23,null,null,null,null,null,null,"SAN DIEGO",0.5,8]
[null,null,"CHICAGO N",0.42948717948717946,24,null,null,null,null,null,null,"NEW YORK N",0.47096774193548385,9]
[null,null,"MIAMI",0.41290322580645161,25,null,null,null,null,null,null,"COLORADO",0.45806451612903226,10]
[null,null,"WASHINGTON",0.41025641025641024,26,null,null,null,null,null,null,"CHICAGO N",0.42948717948717946,11]
[null,null,"PITTSBURGH",0.37419354838709679,27,null,null,null,null,null,null,"MIAMI",0.41290322580645161,12]
[null,null,"TEXAS",0.36538461538461536,28,null,null,null,null,null,null,"WASHINGTON",0.41025641025641024,13]
[null,null,"ARIZONA",0.32051282051282054,29,null,null,null,null,null,null,"PITTSBURGH",0.37419354838709679,14]

{"sheet":"19-Sep","index":14,"n_rows":172,"n_cols":34,"rows_kept":172,"cut":false,"hidden":false,"merged":[[141,11,141,12],[142,2,142,3],[157,11,157,12],[108,2,108,3],[113,16,113,20],[123,11,123,12],[124,16,124,20],[140,4,140,5],[140,11,140,12],[94,9,94,13],[95,9,95,13],[102,16,102,20],[106,4,106,5],[107,2,107,3],[107,11,107,12],[50,16,50,17],[51,16,51,17],[56,2,56,6],[71,2,71,6],[85,2,85,3],[85,4,85,5],[37,22,37,25],[37,26,37,29],[37,30,37,33],[45,16,45,17],[46,16,46,17],[37,18,37,21],[47,16,47,17],[28,16,28,17],[29,16,29,17],[30,16,30,17],[33,16,33,17],[34,16,34,17],[20,30,20,33],[4,2,4,4],[4,6,4,9],[4,11,4,14],[11,16,11,17],[12,16,12,17],[13,16,13,17],[16,16,16,17],[17,16,17,17],[20,18,20,21],[20,22,20,25],[20,26,20,29],[1,16,1,33],[2,13,2,14],[3,18,3,21],[3,22,3,25],[3,26,3,29],[3,30,3,33]]}
[null,2021,"STANDINGS"]
[null,null,null,null,null,null,null,null,null,null,null,null,null,null,null,null,"CURRENT WEEK RESULTS"]
[null,"WEEK ENDING "," ","2021-09-19",null,null,null," ",null,null,null,"WEEK",24,"SEPTEMBER",null," "]
[null,null,null,null,null,null,null,null,null,null,null,null,null,null,null,null,null,null,"MIKE",null,null,null,"JOHN",null,null,null,"LARRY",null,null,null,0]
[null,null,"CURRENT WEEK-SEASON TO DATE",null,null,null,"PREVIOUS WEEK-SEASON TO DATE",null,null,null,null,"CURRENT WEEK TOTALS",null,null,null,null,null,null,"RANK","W","L","PCT","RANK","W","L","PCT","RANK","W","L","PCT","RANK","W","L","PCT"]
[null,null,null,null,null,null,null,null,null,null,null,null,null,null,null,null,null,null,"Rays",3,4,0.42857142857142855,"Dodgers",5,1,0.83333333333333337,"Braves",1,4,0.2,0,{"$error":"#N/A"},{"$error":"#N/A"},{"$error":"#N/A"}]
[null,"American League",null,null,null,null,"AL EAST",null,null,null,"Times","AL EAST",null,null,null,null,null,null,"Astros",5,2,0.7142857142857143,"Yankees",4,3,0.5714285714285714,"Brewers",2,3,0.4,0,{"$error":"#N/A"},{"$error":"#N/A"},{"$error":"#N/A"}]
[null,"East","W","L","PCT","Rank","TEAM","W","L","PCT","Picked","TEAM","W","L","PCT","Rank",null,null,"Brewers",2,3,0.4,"Astros",5,2,0.7142857142857143,"White Sox",3,3,0.5,0,{"$error":"#N/A"},{"$error":"#N/A"},{"$error":"#N/A"}]
[null,"Orioles",47,102,0.31543624161073824,5,"BALTIMORE",46,97,0.32167832167832167,0,"Orioles",1,5,0.16666666666666666,5,null,null,"Padres",2,5,0.2857142857142857,"White Sox",3,3,0.5,"Yankees",4,3,0.5714285714285714,0,{"$error":"#N/A"},{"$error":"#N/A"},{"$error":"#N/A"}]
[null,"Red Sox",86,65,0.56953642384105962,2,"BOSTON",81,64,0.55862068965517242,1,"Red Sox",5,1,0.83333333333333337,1,null,null,"Indians",4,2,0.66666666666666663,"Brewers",2,3,0.4,"Mariners",3,3,0.5,0,{"$error":"#N/A"},{"$error":"#N/A"},{"$error":"#N/A"}]
[null,"Yankees",83,67,0.55333333333333334,4,"NEW YORK",79,64,0.55244755244755239,3,"Yankees",4,3,0.5714285714285714,3,null,null,"Phillies",4,2,0.66666666666666663,"Braves",1,4,0.2,"Dodgers",5,1,0.83333333333333337,0,{"$error":"#N/A"},{"$error":"#N/A"},{"$error":"#N/A"}]
[null,"Rays",92,58,0.61333333333333329,1,"TAMPA BAY",89,54,0.6223776223776224,4,"Rays",3,4,0.42857142857142855,4,"WEEKLY TOTAL",null,null,20,18,0.52631578947368418,null,20,16,0.55555555555555558,null,18,17,0.51428571428571423,null,{"$error":"#N/A"},{"$error":"#N/A"},{"$error":"#N/A"}]
[null,"Blue Jays",84,65,0.56375838926174493,3,"TORONTO",80,63,0.55944055944055948,1,"Blue Jays",4,2,0.66666666666666663,2,"PREV WEEK TO DATE",null,"  ",451,407,0.52564102564102566,null,452,410,0.52436194895591648,null,491,372,0.56894553881807652,null,{"$error":"#N/A"},{"$error":"#N/A"},{"$error":"#N/A"}]
[null,null,null," ",null,null,null,null," ",null,null,null,null,null,null,null,"CUR TOTAL TO DATE",null,"  ",471,425,0.5256696428571429,null,472,426,0.52561247216035634,null,509,389,0.56681514476614703,null,{"$error":"#N/A"},{"$error":"#N/A"},{"$error":"#N/A"}]
[null,null,null," ",null,null,"AL CENTRAL",null," ",null,null,"AL CENTRAL"]
[null,"Central","W","L","PCT",null,"TEAM","W","L","PCT",null,"TEAM","W","L","PCT"]
[null,"White Sox",85,64,0.57046979865771807,1,"CHICAGO",82,61,0.57342657342657344,7,"White Sox",3,3,0.5,3,"SEASON TLT TO DATE",null,"  ",412,371,0.5261813537675607,null,412,375,0.52350698856416777,null,450,338,0.57106598984771573,null,{"$error":"#N/A"},{"$error":"#N/A"},{"$error":"#N/A"}]
[null,"Indians",73,74,0.49659863945578231,2,"CLEVELAND",69,72,0.48936170212765956,2,"Indians",4,2,0.66666666666666663,1,"SEPTEMBER TOTAL TO DATE",null,null,59,54,0.52212389380530977,null,60,51,0.54054054054054057,null,59,51,0.53636363636363638,null,{"$error":"#N/A"},{"$error":"#N/A"},{"$error":"#N/A"}]
[null,"Tigers",72,78,0.48,3,"DETROIT",68,76,0.47222222222222221,0,"Tigers",4,2,0.66666666666666663,1]
[null,"Royals",67,82,0.44966442953020136,4,"KANSAS CITY",65,78,0.45454545454545453,0,"Royals",2,4,0.33333333333333331,4]
[null,"Twins",65,85,0.43333333333333335,5,"MINNESOTA",63,80,0.44055944055944057,0,"Twins",2,5,0.2857142857142857,5,null,null,"JIM T.",null,null,null,"JEAN",null,null,null,"DIANE",null,null,null,0]
[null,null,null," ",null,null,null,null," ",null,null,null,null,null,null,null,null,null,"RANK","W","L","PCT","RANK","W","L","PCT","RANK","W","L","PCT","RANK","W","L","PCT"]
[null,null,null," ",null,null,"AL WEST",null," ",null,null,"AL WEST",null,null,null,null,null,null,"Rays",3,4,0.42857142857142855,"Rays",3,4,0.42857142857142855,"Brewers",2,3,0.4,0,{"$error":"#N/A"},{"$error":"#N/A"},{"$error":"#N/A"}]
[null,"West","W","L","PCT",null,"TEAM","W","L","PCT",null,"TEAM","W","L","PCT",null,null,null,"White Sox",3,3,0.5,"Astros",5,2,0.7142857142857143,"White Sox",3,3,0.5,0,{"$error":"#N/A"},{"$error":"#N/A"},{"$error":"#N/A"}]
[null,"Angels",72,77,0.48322147651006714,4,"LOS ANGELES",70,73,0.48951048951048953,0,"Angels",2,4,0.33333333333333331,4,null,null,"Astros",5,2,0.7142857142857143,"Phillies",4,2,0.66666666666666663,"Dodgers",5,1,0.83333333333333337,0,{"$error":"#N/A"},{"$error":"#N/A"},{"$error":"#N/A"}]
[null,"Athletics",82,67,0.55033557046979864,2,"OAKLAND",77,66,0.53846153846153844,1,"Athletics",5,1,0.83333333333333337,1,null,null,"Braves",1,4,0.2,"Cardinals",6,0,1,"Astros",5,2,0.7142857142857143,0,{"$error":"#N/A"},{"$error":"#N/A"},{"$error":"#N/A"}]
[null,"Mariners",80,69,0.53691275167785235,3,"SEATTLE",77,66,0.53846153846153844,1,"Mariners",3,3,0.5,3,null,null,"Brewers",2,3,0.4,"Padres",2,5,0.2857142857142857,"Yankees",4,3,0.5714285714285714,0,{"$error":"#N/A"},{"$error":"#N/A"},{"$error":"#N/A"}]
[null,"Rangers",55,94,0.36912751677852351,5,"TEXAS",53,89,0.37323943661971831,0,"Rangers",2,5,0.2857142857142857,5,null,null,"Dodgers",5,1,0.83333333333333337,"White Sox",3,3,0.5,"Phillies",4,2,0.66666666666666663,0,{"$error":"#N/A"},{"$error":"#N/A"},{"$error":"#N/A"}]
[null,"Astros",88,61,0.59060402684563762,1,"HOUSTON",83,59,0.58450704225352113,7,"Astros",5,2,0.7142857142857143,2,"WEEKLY TOTAL",null,null,19,17,0.52777777777777779,null,23,16,0.58974358974358976,null,23,14,0.6216216216216216,null,{"$error":"#N/A"},{"$error":"#N/A"},{"$error":"#N/A"}]
[null,null,null,null,null,null,null,null,null,null,null,null,null,null,null,null,"PREV WEEK TO DATE",null,null,477,384,0.55400696864111498,null,438,410,0.51650943396226412,null,455,404,0.52968568102444702,null,{"$error":"#N/A"},{"$error":"#N/A"},{"$error":"#N/A"}]
[null,"National League",null," ",null,null,"NL EAST",null," ",null,null,"NL EAST",null,null,null,null,"CUR TOTAL TO DATE",null,null,496,401,0.55295429208472691,null,461,426,0.51972942502818487,null,478,418,0.5334821428571429,null,{"$error":"#N/A"},{"$error":"#N/A"},{"$error":"#N/A"}]
[null,"East","W","L","PCT",null,"TEAM","W","L","PCT",null,"TEAM","W","L","PCT"]
[null,"Braves",77,70,0.52380952380952384,1,"ATLANTA",76,66,0.53521126760563376,4,"Braves",1,4,0.2,4]
[null,"Marlins",63,86,0.42281879194630873,4,"Miami",60,83,0.41958041958041958,0,"Marlins",3,3,0.5,2,"SEASON TLT TO DATE",null,null,433,353,0.55089058524173029,null,401,374,0.51741935483870971,null,415,369,0.52933673469387754,null,{"$error":"#N/A"},{"$error":"#N/A"},{"$error":"#N/A"}]
[null,"Mets",73,77,0.48666666666666669,3,"NEW YORK",72,72,0.5,0,"Mets",1,5,0.16666666666666666,5,"SEPTEMBER TOTAL TO DATE",null,null,63,48,0.56756756756756754,null,60,52,0.5357142857142857,null,63,49,0.5625,null,{"$error":"#N/A"},{"$error":"#N/A"},{"$error":"#N/A"}]
[null,"Phillies",76,73,0.51006711409395977,2,"PHILADELPHIA",72,71,0.50349650349650354,4,"Phillies",4,2,0.66666666666666663,1]
[null,"Nationals",61,88,0.40939597315436244,5,"WASHINGTON",59,84,0.41258741258741261,1,"Nationals",2,4,0.33333333333333331,3]
[null,null,null," ",null,null,null,null," ",null,null,null,null,null,null,null,null,null,"JIM K.",null,null,null,"TIM",null,null,null,"-----",null,null,null,0]
[null,null,null," ",null,null,"NL CENTRAL",null," ",null,null,"NL CENTRAL",null,null,null,null,null,null,"RANK","W","L","PCT","RANK","W","L","PCT","RANK","W","L","PCT","RANK","W","L","PCT"]
[null,"Central","W","L","PCT",null,"TEAM","W","L","PCT",null,"TEAM","W","L","PCT",null,null,null,"Giants",4,3,0.5714285714285714,"Giants",4,3,0.5714285714285714,null,null,null,null,0,{"$error":"#N/A"},{"$error":"#N/A"},{"$error":"#N/A"}]
[null,"Cubs",67,83,0.44666666666666666,4,"CHICAGO",65,79,0.4513888888888889,2,"Cubs",2,4,0.33333333333333331,4,null,null,"White Sox",3,3,0.5,"Rays",3,4,0.42857142857142855,null,null,null,null,0,{"$error":"#N/A"},{"$error":"#N/A"},{"$error":"#N/A"}]
[null,"Reds",77,73,0.51333333333333331,3,"CINCINNATI",75,69,0.52083333333333337,0,"Reds",2,4,0.33333333333333331,4,null,null,"Red Sox",5,1,0.83333333333333337,"Brewers",2,3,0.4,null,null,null,null,0,{"$error":"#N/A"},{"$error":"#N/A"},{"$error":"#N/A"}]
[null,"Brewers",91,58,0.61073825503355705,1,"MILWAUKEE",89,55,0.61805555555555558,6,"Brewers",2,3,0.4,3,null,null,"Athletics",5,1,0.83333333333333337,"Astros",5,2,0.7142857142857143,null,null,null,null,0,{"$error":"#N/A"},{"$error":"#N/A"},{"$error":"#N/A"}]
[null,"Pirates",56,93,0.37583892617449666,5,"PITTSBURGH",52,91,0.36363636363636365,0,"Pirates",4,2,0.66666666666666663,2,null,null,"Phillies",4,2,0.66666666666666663,"White Sox",3,3,0.5,null,null,null,null,0,{"$error":"#N/A"},{"$error":"#N/A"},{"$error":"#N/A"}]
[null,"Cardinals",79,69,0.53378378378378377,2,"ST LOUIS",73,69,0.5140845070422535,1,"Cardinals",6,0,1,1,null,null,"Cubs",2,4,0.33333333333333331,"Braves",1,4,0.2,null,null,null,null,0,{"$error":"#N/A"},{"$error":"#N/A"},{"$error":"#N/A"}]
[null,null,null," ",null,null,null,null," ",null,null,null,null,null,null,null,"WEEKLY TOTAL",null,null,23,14,0.6216216216216216,null,18,19,0.48648648648648651,null,0,30,"",null,{"$error":"#N/A"},{"$error":"#N/A"},{"$error":"#N/A"}]
[null,null,null," ",null,null,"NL WEST",null," ",null,null,"NL WEST",null,null,null,null,"PREV WEEK TO DATE",null,null,448,406,0.52459016393442626,null,468,400,0.53917050691244239,null,0,700,"",null,{"$error":"#N/A"},{"$error":"#N/A"},{"$error":"#N/A"}]
[null,"West","W","L","PCT",null,"TEAM","W","L","PCT",null,"TEAM","W","L","PCT",null,"CUR TOTAL TO DATE",null,null,471,420,0.52861952861952866,null,486,419,0.53701657458563534,null,0,730,"",null,{"$error":"#N/A"},{"$error":"#N/A"},{"$error":"#N/A"}]
[null,"Diamondbacks",48,101,0.32214765100671139,5,"ARIZONA",47,96,0.32867132867132864,0,"Diamondbacks",1,5,0.16666666666666666,5]
[null,"Rockies",70,79,0.46979865771812079,4,"COLORADO",66,78,0.45833333333333331,0,"Rockies",4,1,0.8,2]
[null,"Dodgers",96,54,0.64,2,"LOS ANGELES",91,53,0.63194444444444442,4,"Dodgers",5,1,0.83333333333333337,1,"SEASON TLT TO DATE",null,null,408,372,0.52307692307692311,null,424,369,0.53467843631778056,null,0,640,"",null,{"$error":"#N/A"},{"$error":"#N/A"},{"$error":"#N/A"}]
[null,"Padres",76,73,0.51006711409395977,3,"SAN DIEGO",74,68,0.52112676056338025,3,"Padres",2,5,0.2857142857142857,4,"SEPTEMBER TOTAL TO DATE",null,null,63,48,0.56756756756756754,null,62,50,0.5535714285714286,null,0,90,"",null,{"$error":"#N/A"},{"$error":"#N/A"},{"$error":"#N/A"}]
[null,"Giants",97,53,0.64666666666666661,1,"SAN FRANCISCO",93,50,0.65034965034965031,2,"Giants",4,3,0.5714285714285714,3]
[null,null,null,null,null,null,null,null,null,null,null,null,92,92]
[null,null,null,"2021-09-21"," Morning"]
[]
[null,null,"WEEK 24"]
[null," ","NAME","W","L","PCT","GB"]
[null,null,"DIANE",23,14,0.6216216216216216,0]
[null," ","JIM K.",23,14,0.6216216216216216,0]
[null," ","JEAN",23,16,0.58974358974358976,1]
[null," ","JOHN",20,16,0.55555555555555558,2.5]
[null," ","JIM T.",19,17,0.52777777777777779,3.5]
[null,null,"MIKE",20,18,0.52631578947368418,3.5]
[null,null,"LARRY",18,17,0.51428571428571423,4]
[null,null,"TIM",18,19,0.48648648648648651,5]
[null,null,"-----",0,30,0,"-----"]
[null,null,"","","","",""]
[null,null,"","","","",""]
[null,null,"","","","",""]
[]
[null,null,"MONTH OF  SEPTEMBER"]
[null,null,"NAME","W","L","PCT","GB"]
[null,null,"JIM T.",63,48,0.56756756756756754,0]
[null,null,"JIM K.",63,48,0.56756756756756754,0]
[null,null,"DIANE",63,49,0.5625,0.5]
[null,null,"TIM",62,50,0.5535714285714286,1.5]
[null,null,"JOHN",60,51,0.54054054054054057,3]
[null,null,"LARRY",59,51,0.53636363636363638,3.5]
[null,null,"JEAN",60,52,0.5357142857142857,3.5]
[null,null,"MIKE",59,54,0.52212389380530977,5]
[null,null,"-----",0,90,0,"-----"]
[null,null,"","","","",""]
[null,null,"","","","",""]
[null,null,"","","","",""]
[null,null,2021,null,"SEASON"]
[null,null,"NAME","W","L","PCT","GB"]
[null,null,"LARRY",509,389,0.56681514476614703,0]
[null,null,"JIM T.",496,401,0.55295429208472691,12.5]
[null,null,"TIM",486,419,0.53701657458563534,26.5]
[null,null,"DIANE",478,418,0.5334821428571429,30]
[null,null,"JIM K.",471,420,0.52861952861952866,34.5]
[null,null,"MIKE",471,425,0.5256696428571429,37]
[null,null,"JOHN",472,426,0.52561247216035634,37]
[null,null,"JEAN",461,426,0.51972942502818487,42.5,null," "]
[null,null,"-----",0,730,0,"-----",null," "]
[null,null,"","","","","",null," "]
[null,null,"","","","",""]
[null,null,"","","","",""]
[]
[]
[]
[]
[]
[]
[]
[null,null,null,null,"CURRENT WEEK",null,null,null,null,null,null,"THIS WEEK"]
[null,null,"WEEK ENDING",null,"THIS WEEK","SEASON",null,null,null,null,null,"AL",null,"RANK"]
[null,null,"2021-09-19",null,"RANK","RANK",null,null,null,null,null,"BOSTON",0.83333333333333337,1]
[null,null,"ST LOUIS",1,1,12,null,null,null,null,null,"OAKLAND",0.83333333333333337,1]
[null,null,"LOS ANGELES N",0.83333333333333337,2,2,null,null,null,null,null,"HOUSTON",0.7142857142857143,3]
[null,null,"BOSTON",0.83333333333333337,2,7,null,null,null,null,null,"DETROIT",0.66666666666666663,4]
[null,null,"OAKLAND",0.83333333333333337,2,10,null,null,null,null,null,"TORONTO",0.66666666666666663,4]
[null,null,"COLORADO",0.8,5,21,null,null,null,null,null,"CLEVELAND",0.66666666666666663,4]
[null,null,"HOUSTON",0.7142857142857143,6,5,null,null,null,null,null,"NEW YORK A",0.5714285714285714,7]
[null,null,"PITTSBURGH",0.66666666666666663,7,27,null,null,null,null,null,"CHICAGO A",0.5,8]
[null,null,"PHILADELPHIA",0.66666666666666663,7,15,null,null,null,null,null,"SEATTLE",0.5,8]
[null,null,"DETROIT",0.66666666666666663,7,20,null,null,null,null,null,"TAMPA BAY",0.42857142857142855,10]
[null,null,"TORONTO",0.66666666666666663,7,8,null,null,null,null,null,"LOS ANGELES A",0.33333333333333331,11]
[null,null,"CLEVELAND",0.66666666666666663,7,17,null,null,null,null,null,"KANSAS CITY",0.33333333333333331,11]
[null,null,"NEW YORK A",0.5714285714285714,12,9,null,null,null,null,null,"MINNESOTA",0.2857142857142857,13]
[null,null,"SAN FRANCISCO",0.5714285714285714,12,1,null,null,null,null,null,"TEXAS",0.2857142857142857,13]
[null,null,"MIAMI",0.5,14,25,null,null,null,null,null,"BALTIMORE",0.16666666666666666,15]
[null,null,"CHICAGO A",0.5,14,6,null,null,null,null,null,"NL"]
[null,null,"SEATTLE",0.5,14,11,null,null,null,null,null,"ST LOUIS",1,1]
[null,null,"TAMPA BAY",0.42857142857142855,17,3,null,null,null,null,null,"LOS ANGELES N",0.83333333333333337,2]
[null,null,"MILWAUKEE",0.4,18,4,null,null,null,null,null,"COLORADO",0.8,3]
[null,null,"LOS ANGELES A",0.33333333333333331,19,19,null,null,null,null,null,"PITTSBURGH",0.66666666666666663,4]
[null,null,"CINCINNATI",0.33333333333333331,19,14,null,null,null,null,null,"PHILADELPHIA",0.66666666666666663,4]
[null,null,"KANSAS CITY",0.33333333333333331,19,22,null,null,null,null,null,"SAN FRANCISCO",0.5714285714285714,6]
[null,null,"CHICAGO N",0.33333333333333331,19,23,null,null,null,null,null,"MIAMI",0.5,7]
[null,null,"WASHINGTON",0.33333333333333331,19,26,null,null,null,null,null,"MILWAUKEE",0.4,8]
[null,null,"SAN DIEGO",0.2857142857142857,24,15,null,null,null,null,null,"CINCINNATI",0.33333333333333331,9]
[null,null,"MINNESOTA",0.2857142857142857,24,24,null,null,null,null,null,"CHICAGO N",0.33333333333333331,9]
[null,null,"TEXAS",0.2857142857142857,24,28,null,null,null,null,null,"WASHINGTON",0.33333333333333331,9]
[null,null,"ATLANTA",0.2,27,13,null,null,null,null,null,"SAN DIEGO",0.2857142857142857,12]
[null,null,"BALTIMORE",0.16666666666666666,28,30,null,null,null,null,null,"ATLANTA",0.2,13]
[null,null,"ARIZONA",0.16666666666666666,28,29,null,null,null,null,null,"ARIZONA",0.16666666666666666,14]
[null,null,"NEW YORK N",0.16666666666666666,28,18,null,null,null,null,null,"NEW YORK N",0.16666666666666666,14]
[]
[null,null,null,null,"SEASON TO DATE",null,null,null,null,null,null,"SEASON TO DATE"]
[null,null,null,null,null,null,null,null,null,null,null,"AL"]
[null,null,"SEASON TO-DATE",null,"RANK",null,null,null,null,null,null,"TAMPA BAY",0.61333333333333329,1]
[null,null,"SAN FRANCISCO",0.64666666666666661,1,null,null,null,null,null,null,"HOUSTON",0.59060402684563762,2]
[null,null,"LOS ANGELES N",0.64,2,null,null,null,null,null,null,"CHICAGO A",0.57046979865771807,3]
[null,null,"TAMPA BAY",0.61333333333333329,3,null,null,null,null,null,null,"BOSTON",0.56953642384105962,4]
[null,null,"MILWAUKEE",0.61073825503355705,4,null,null,null,null,null,null,"TORONTO",0.56375838926174493,5]
[null,null,"HOUSTON",0.59060402684563762,5,null,null,null,null,null,null,"NEW YORK A",0.55333333333333334,6]
[null,null,"CHICAGO A",0.57046979865771807,6,null,null,null,null,null,null,"OAKLAND",0.55033557046979864,7]
[null,null,"BOSTON",0.56953642384105962,7,null,null,null,null,null,null,"SEATTLE",0.53691275167785235,8]
[null,null,"TORONTO",0.56375838926174493,8,null,null,null,null,null,null,"CLEVELAND",0.49659863945578231,9]
[null,null,"NEW YORK A",0.55333333333333334,9,null,null,null,null,null,null,"LOS ANGELES A",0.48322147651006714,10]
[null,null,"OAKLAND",0.55033557046979864,10,null,null,null,null,null,null,"DETROIT",0.48,11]
[null,null,"SEATTLE",0.53691275167785235,11,null,null,null,null,null,null,"KANSAS CITY",0.44966442953020136,12]
[null,null,"ST LOUIS",0.53378378378378377,12,null,null,null,null,null,null,"MINNESOTA",0.43333333333333335,13]
[null,null,"ATLANTA",0.52380952380952384,13,null,null,null,null,null,null,"TEXAS",0.36912751677852351,14]
[null,null,"CINCINNATI",0.51333333333333331,14,null,null,null,null,null,null,"BALTIMORE",0.31543624161073824,15]
[null,null,"SAN DIEGO",0.51006711409395977,15,null,null,null,null,null,null,"NL"]
[null,null,"PHILADELPHIA",0.51006711409395977,15,null,null,null,null,null,null,"SAN FRANCISCO",0.64666666666666661,1]
[null,null,"CLEVELAND",0.49659863945578231,17,null,null,null,null,null,null,"LOS ANGELES N",0.64,2]
[null,null,"NEW YORK N",0.48666666666666669,18,null,null,null,null,null,null,"MILWAUKEE",0.61073825503355705,3]
[null,null,"LOS ANGELES A",0.48322147651006714,19,null,null,null,null,null,null,"ST LOUIS",0.53378378378378377,4]
[null,null,"DETROIT",0.48,20,null,null,null,null,null,null,"ATLANTA",0.52380952380952384,5]
[null,null,"COLORADO",0.46979865771812079,21,null,null,null,null,null,null,"CINCINNATI",0.51333333333333331,6]
[null,null,"KANSAS CITY",0.44966442953020136,22,null,null,null,null,null,null,"SAN DIEGO",0.51006711409395977,7]
[null,null,"CHICAGO N",0.44666666666666666,23,null,null,null,null,null,null,"PHILADELPHIA",0.51006711409395977,7]
[null,null,"MINNESOTA",0.43333333333333335,24,null,null,null,null,null,null,"NEW YORK N",0.48666666666666669,9]
[null,null,"MIAMI",0.42281879194630873,25,null,null,null,null,null,null,"COLORADO",0.46979865771812079,10]
[null,null,"WASHINGTON",0.40939597315436244,26,null,null,null,null,null,null,"CHICAGO N",0.44666666666666666,11]
[null,null,"PITTSBURGH",0.37583892617449666,27,null,null,null,null,null,null,"MIAMI",0.42281879194630873,12]
[null,null,"TEXAS",0.36912751677852351,28,null,null,null,null,null,null,"WASHINGTON",0.40939597315436244,13]
[null,null,"ARIZONA",0.32214765100671139,29,null,null,null,null,null,null,"PITTSBURGH",0.37583892617449666,14]

{"sheet":"12-Sep","index":15,"n_rows":172,"n_cols":34,"rows_kept":172,"cut":false,"hidden":false,"merged":[[141,11,141,12],[142,2,142,3],[157,11,157,12],[108,2,108,3],[113,16,113,20],[123,11,123,12],[124,16,124,20],[140,4,140,5],[140,11,140,12],[94,9,94,13],[95,9,95,13],[102,16,102,20],[106,4,106,5],[107,2,107,3],[107,11,107,12],[50,16,50,17],[51,16,51,17],[56,2,56,6],[71,2,71,6],[85,2,85,3],[85,4,85,5],[37,22,37,25],[37,26,37,29],[37,30,37,33],[45,16,45,17],[46,16,46,17],[37,18,37,21],[47,16,47,17],[28,16,28,17],[29,16,29,17],[30,16,30,17],[33,16,33,17],[34,16,34,17],[20,30,20,33],[4,2,4,4],[4,6,4,9],[4,11,4,14],[11,16,11,17],[12,16,12,17],[13,16,13,17],[16,16,16,17],[17,16,17,17],[20,18,20,21],[20,22,20,25],[20,26,20,29],[1,16,1,33],[2,13,2,14],[3,18,3,21],[3,22,3,25],[3,26,3,29],[3,30,3,33]]}
[null,2021,"STANDINGS"]
[null,null,null,null,null,null,null,null,null,null,null,null,null,null,null,null,"CURRENT WEEK RESULTS"]
[null,"WEEK ENDING "," ","2021-09-12",null,null,null," ",null,null,null,"WEEK",23,"SEPTEMBER",null," "]
[null,null,null,null,null,null,null,null,null,null,null,null,null,null,null,null,null,null,"MIKE",null,null,null,"JOHN",null,null,null,"LARRY",null,null,null,0]
[null,null,"CURRENT WEEK-SEASON TO DATE",null,null,null,"PREVIOUS WEEK-SEASON TO DATE",null,null,null,null,"CURRENT WEEK TOTALS",null,null,null,null,null,null,"RANK","W","L","PCT","RANK","W","L","PCT","RANK","W","L","PCT","RANK","W","L","PCT"]
[null,null,null,null,null,null,null,null,null,null,null,null,null,null,null,null,null,null,"Rays",3,3,0.5,"Dodgers",5,2,0.7142857142857143,"Braves",4,2,0.66666666666666663,0,{"$error":"#N/A"},{"$error":"#N/A"},{"$error":"#N/A"}]
[null,"American League",null,null,null,null,"AL EAST",null,null,null,"Times","AL EAST",null,null,null,null,null,null,"Astros",4,2,0.66666666666666663,"Yankees",1,6,0.14285714285714285,"Brewers",5,1,0.83333333333333337,0,{"$error":"#N/A"},{"$error":"#N/A"},{"$error":"#N/A"}]
[null,"East","W","L","PCT","Rank","TEAM","W","L","PCT","Picked","TEAM","W","L","PCT","Rank",null,null,"Brewers",5,1,0.83333333333333337,"Astros",4,2,0.66666666666666663,"White Sox",3,3,0.5,0,{"$error":"#N/A"},{"$error":"#N/A"},{"$error":"#N/A"}]
[null,"Orioles",46,97,0.32167832167832167,5,"BALTIMORE",43,92,0.31851851851851853,0,"Orioles",3,5,0.375,3,null,null,"Padres",1,4,0.2,"White Sox",3,3,0.5,"Yankees",1,6,0.14285714285714285,0,{"$error":"#N/A"},{"$error":"#N/A"},{"$error":"#N/A"}]
[null,"Red Sox",81,64,0.55862068965517242,3,"BOSTON",79,60,0.56834532374100721,1,"Red Sox",2,4,0.33333333333333331,4,null,null,"Indians",1,6,0.14285714285714285,"Brewers",5,1,0.83333333333333337,"Mariners",2,4,0.33333333333333331,0,{"$error":"#N/A"},{"$error":"#N/A"},{"$error":"#N/A"}]
[null,"Yankees",79,64,0.55244755244755239,4,"NEW YORK",78,58,0.57352941176470584,3,"Yankees",1,6,0.14285714285714285,5,null,null,"Phillies",2,5,0.2857142857142857,"Braves",4,2,0.66666666666666663,"Dodgers",5,2,0.7142857142857143,0,{"$error":"#N/A"},{"$error":"#N/A"},{"$error":"#N/A"}]
[null,"Rays",89,54,0.6223776223776224,1,"TAMPA BAY",86,51,0.62773722627737227,4,"Rays",3,3,0.5,2,"WEEKLY TOTAL",null,null,16,21,0.43243243243243246,null,22,16,0.57894736842105265,null,20,18,0.52631578947368418,null,{"$error":"#N/A"},{"$error":"#N/A"},{"$error":"#N/A"}]
[null,"Blue Jays",80,63,0.55944055944055948,2,"TORONTO",73,62,0.54074074074074074,1,"Blue Jays",7,1,0.875,1,"PREV WEEK TO DATE",null,"  ",435,386,0.52984165651644333,null,430,394,0.52184466019417475,null,471,354,0.57090909090909092,null,{"$error":"#N/A"},{"$error":"#N/A"},{"$error":"#N/A"}]
[null,null,null," ",null,null,null,null," ",null,null,null,null,null,null,null,"CUR TOTAL TO DATE",null,"  ",451,407,0.52564102564102566,null,452,410,0.52436194895591648,null,491,372,0.56894553881807652,null,{"$error":"#N/A"},{"$error":"#N/A"},{"$error":"#N/A"}]
[null,null,null," ",null,null,"AL CENTRAL",null," ",null,null,"AL CENTRAL"]
[null,"Central","W","L","PCT",null,"TEAM","W","L","PCT",null,"TEAM","W","L","PCT"]
[null,"White Sox",82,61,0.57342657342657344,1,"CHICAGO",79,58,0.57664233576642332,7,"White Sox",3,3,0.5,3,"SEASON TLT TO DATE",null,"  ",412,371,0.5261813537675607,null,412,375,0.52350698856416777,null,450,338,0.57106598984771573,null,{"$error":"#N/A"},{"$error":"#N/A"},{"$error":"#N/A"}]
[null,"Indians",69,72,0.48936170212765956,2,"CLEVELAND",68,66,0.5074626865671642,2,"Indians",1,6,0.14285714285714285,5,"SEPTEMBER TOTAL TO DATE",null,null,39,36,0.52,null,40,35,0.53333333333333333,null,41,34,0.54666666666666663,null,{"$error":"#N/A"},{"$error":"#N/A"},{"$error":"#N/A"}]
[null,"Tigers",68,76,0.47222222222222221,3,"DETROIT",65,73,0.47101449275362317,0,"Tigers",3,3,0.5,3]
[null,"Royals",65,78,0.45454545454545453,4,"KANSAS CITY",61,75,0.4485294117647059,0,"Royals",4,3,0.5714285714285714,1]
[null,"Twins",63,80,0.44055944055944057,5,"MINNESOTA",59,77,0.43382352941176472,0,"Twins",4,3,0.5714285714285714,1,null,null,"JIM T.",null,null,null,"JEAN",null,null,null,"DIANE",null,null,null,0]
[null,null,null," ",null,null,null,null," ",null,null,null,null,null,null,null,null,null,"RANK","W","L","PCT","RANK","W","L","PCT","RANK","W","L","PCT","RANK","W","L","PCT"]
[null,null,null," ",null,null,"AL WEST",null," ",null,null,"AL WEST",null,null,null,null,null,null,"Rays",3,3,0.5,"Rays",3,3,0.5,"Brewers",5,1,0.83333333333333337,0,{"$error":"#N/A"},{"$error":"#N/A"},{"$error":"#N/A"}]
[null,"West","W","L","PCT",null,"TEAM","W","L","PCT",null,"TEAM","W","L","PCT",null,null,null,"White Sox",3,3,0.5,"Astros",4,2,0.66666666666666663,"White Sox",3,3,0.5,0,{"$error":"#N/A"},{"$error":"#N/A"},{"$error":"#N/A"}]
[null,"Angels",70,73,0.48951048951048953,4,"LOS ANGELES",68,69,0.49635036496350365,0,"Angels",2,4,0.33333333333333331,4,null,null,"Astros",4,2,0.66666666666666663,"Phillies",2,5,0.2857142857142857,"Dodgers",5,2,0.7142857142857143,0,{"$error":"#N/A"},{"$error":"#N/A"},{"$error":"#N/A"}]
[null,"Athletics",77,66,0.53846153846153844,2,"OAKLAND",74,63,0.54014598540145986,1,"Athletics",3,3,0.5,3,null,null,"Braves",4,2,0.66666666666666663,"Cardinals",4,3,0.5714285714285714,"Astros",4,2,0.66666666666666663,0,{"$error":"#N/A"},{"$error":"#N/A"},{"$error":"#N/A"}]
[null,"Mariners",77,66,0.53846153846153844,2,"SEATTLE",75,62,0.54744525547445255,1,"Mariners",2,4,0.33333333333333331,4,null,null,"Brewers",5,1,0.83333333333333337,"Padres",1,4,0.2,"Yankees",1,6,0.14285714285714285,0,{"$error":"#N/A"},{"$error":"#N/A"},{"$error":"#N/A"}]
[null,"Rangers",53,89,0.37323943661971831,5,"TEXAS",48,88,0.35294117647058826,0,"Rangers",5,1,0.83333333333333337,1,null,null,"Dodgers",5,2,0.7142857142857143,"White Sox",3,3,0.5,"Phillies",2,5,0.2857142857142857,0,{"$error":"#N/A"},{"$error":"#N/A"},{"$error":"#N/A"}]
[null,"Astros",83,59,0.58450704225352113,1,"HOUSTON",79,57,0.58088235294117652,7,"Astros",4,2,0.66666666666666663,2,"WEEKLY TOTAL",null,null,24,13,0.64864864864864868,null,17,20,0.45945945945945948,null,20,19,0.51282051282051277,null,{"$error":"#N/A"},{"$error":"#N/A"},{"$error":"#N/A"}]
[null,null,null,null,null,null,null,null,null,null,null,null,null,null,null,null,"PREV WEEK TO DATE",null,null,453,371,0.54975728155339809,null,421,390,0.51911220715166462,null,435,385,0.53048780487804881,null,{"$error":"#N/A"},{"$error":"#N/A"},{"$error":"#N/A"}]
[null,"National League",null," ",null,null,"NL EAST",null," ",null,null,"NL EAST",null,null,null,null,"CUR TOTAL TO DATE",null,null,477,384,0.55400696864111498,null,438,410,0.51650943396226412,null,455,404,0.52968568102444702,null,{"$error":"#N/A"},{"$error":"#N/A"},{"$error":"#N/A"}]
[null,"East","W","L","PCT",null,"TEAM","W","L","PCT",null,"TEAM","W","L","PCT"]
[null,"Braves",76,66,0.53521126760563376,1,"ATLANTA",72,64,0.52941176470588236,4,"Braves",4,2,0.66666666666666663,1]
[null,"Marlins",60,83,0.41958041958041958,4,"Miami",57,80,0.41605839416058393,0,"Marlins",3,3,0.5,2,"SEASON TLT TO DATE",null,null,433,353,0.55089058524173029,null,401,374,0.51741935483870971,null,415,369,0.52933673469387754,null,{"$error":"#N/A"},{"$error":"#N/A"},{"$error":"#N/A"}]
[null,"Mets",72,72,0.5,3,"NEW YORK",69,68,0.5036496350364964,0,"Mets",3,4,0.42857142857142855,3,"SEPTEMBER TOTAL TO DATE",null,null,44,31,0.58666666666666667,null,37,36,0.50684931506849318,null,40,35,0.53333333333333333,null,{"$error":"#N/A"},{"$error":"#N/A"},{"$error":"#N/A"}]
[null,"Phillies",72,71,0.50349650349650354,2,"PHILADELPHIA",70,66,0.51470588235294112,4,"Phillies",2,5,0.2857142857142857,5]
[null,"Nationals",59,84,0.41258741258741261,5,"WASHINGTON",56,80,0.41176470588235292,1,"Nationals",3,4,0.42857142857142855,3]
[null,null,null," ",null,null,null,null," ",null,null,null,null,null,null,null,null,null,"JIM K.",null,null,null,"TIM",null,null,null,"-----",null,null,null,0]
[null,null,null," ",null,null,"NL CENTRAL",null," ",null,null,"NL CENTRAL",null,null,null,null,null,null,"RANK","W","L","PCT","RANK","W","L","PCT","RANK","W","L","PCT","RANK","W","L","PCT"]
[null,"Central","W","L","PCT",null,"TEAM","W","L","PCT",null,"TEAM","W","L","PCT",null,null,null,"Giants",6,0,1,"Giants",6,0,1,null,null,null,null,0,{"$error":"#N/A"},{"$error":"#N/A"},{"$error":"#N/A"}]
[null,"Cubs",65,79,0.4513888888888889,4,"CHICAGO",63,75,0.45652173913043476,2,"Cubs",2,4,0.33333333333333331,4,null,null,"White Sox",3,3,0.5,"Rays",3,3,0.5,null,null,null,null,0,{"$error":"#N/A"},{"$error":"#N/A"},{"$error":"#N/A"}]
[null,"Reds",75,69,0.52083333333333337,2,"CINCINNATI",73,65,0.52898550724637683,0,"Reds",2,4,0.33333333333333331,4,null,null,"Red Sox",2,4,0.33333333333333331,"Brewers",5,1,0.83333333333333337,null,null,null,null,0,{"$error":"#N/A"},{"$error":"#N/A"},{"$error":"#N/A"}]
[null,"Brewers",89,55,0.61805555555555558,1,"MILWAUKEE",84,54,0.60869565217391308,6,"Brewers",5,1,0.83333333333333337,1,null,null,"Athletics",3,3,0.5,"Astros",4,2,0.66666666666666663,null,null,null,null,0,{"$error":"#N/A"},{"$error":"#N/A"},{"$error":"#N/A"}]
[null,"Pirates",52,91,0.36363636363636365,5,"PITTSBURGH",48,89,0.35036496350364965,0,"Pirates",4,2,0.66666666666666663,2,null,null,"Phillies",2,5,0.2857142857142857,"White Sox",3,3,0.5,null,null,null,null,0,{"$error":"#N/A"},{"$error":"#N/A"},{"$error":"#N/A"}]
[null,"Cardinals",73,69,0.5140845070422535,3,"ST LOUIS",69,66,0.51111111111111107,1,"Cardinals",4,3,0.5714285714285714,3,null,null,"Cubs",2,4,0.33333333333333331,"Braves",4,2,0.66666666666666663,null,null,null,null,0,{"$error":"#N/A"},{"$error":"#N/A"},{"$error":"#N/A"}]
[null,null,null," ",null,null,null,null," ",null,null,null,null,null,null,null,"WEEKLY TOTAL",null,null,18,19,0.48648648648648651,null,25,11,0.69444444444444442,null,0,30,"",null,{"$error":"#N/A"},{"$error":"#N/A"},{"$error":"#N/A"}]
[null,null,null," ",null,null,"NL WEST",null," ",null,null,"NL WEST",null,null,null,null,"PREV WEEK TO DATE",null,null,430,387,0.52631578947368418,null,443,389,0.53245192307692313,null,0,670,"",null,{"$error":"#N/A"},{"$error":"#N/A"},{"$error":"#N/A"}]
[null,"West","W","L","PCT",null,"TEAM","W","L","PCT",null,"TEAM","W","L","PCT",null,"CUR TOTAL TO DATE",null,null,448,406,0.52459016393442626,null,468,400,0.53917050691244239,null,0,700,"",null,{"$error":"#N/A"},{"$error":"#N/A"},{"$error":"#N/A"}]
[null,"Diamondbacks",47,96,0.32867132867132864,5,"ARIZONA",45,93,0.32608695652173914,0,"Diamondbacks",2,3,0.4,4]
[null,"Rockies",66,78,0.45833333333333331,4,"COLORADO",63,74,0.45985401459854014,0,"Rockies",3,4,0.42857142857142855,3]
[null,"Dodgers",91,53,0.63194444444444442,2,"LOS ANGELES",86,51,0.62773722627737227,4,"Dodgers",5,2,0.7142857142857143,2,"SEASON TLT TO DATE",null,null,408,372,0.52307692307692311,null,424,369,0.53467843631778056,null,0,640,"",null,{"$error":"#N/A"},{"$error":"#N/A"},{"$error":"#N/A"}]
[null,"Padres",74,68,0.52112676056338025,3,"SAN DIEGO",73,64,0.53284671532846717,3,"Padres",1,4,0.2,5,"SEPTEMBER TOTAL TO DATE",null,null,40,34,0.54054054054054057,null,44,31,0.58666666666666667,null,0,60,"",null,{"$error":"#N/A"},{"$error":"#N/A"},{"$error":"#N/A"}]
[null,"Giants",93,50,0.65034965034965031,1,"SAN FRANCISCO",87,50,0.63503649635036497,2,"Giants",6,0,1,1]
[null,null,null,null,null,null,null,null,null,null,null,null,96,96]
[null,null,null,"2021-09-15"," Morning"]
[]
[null,null,"WEEK 23"]
[null," ","NAME","W","L","PCT","GB"]
[null,null,"TIM",25,11,0.69444444444444442,0]
[null," ","JIM T.",24,13,0.64864864864864868,1.5]
[null," ","JOHN",22,16,0.57894736842105265,4]
[null," ","LARRY",20,18,0.52631578947368418,6]
[null," ","DIANE",20,19,0.51282051282051277,6.5]
[null,null,"JIM K.",18,19,0.48648648648648651,7.5]
[null,null,"JEAN",17,20,0.45945945945945948,8.5]
[null,null,"MIKE",16,21,0.43243243243243246,9.5]
[null,null,"-----",0,30,0,"-----"]
[null,null,"","","","",""]
[null,null,"","","","",""]
[null,null,"","","","",""]
[]
[null,null,"MONTH OF  SEPTEMBER"]
[null,null,"NAME","W","L","PCT","GB"]
[null,null,"JIM T.",44,31,0.58666666666666667,0]
[null,null,"TIM",44,31,0.58666666666666667,0]
[null,null,"LARRY",41,34,0.54666666666666663,3]
[null,null,"JIM K.",40,34,0.54054054054054057,3.5]
[null,null,"DIANE",40,35,0.53333333333333333,4]
[null,null,"JOHN",40,35,0.53333333333333333,4]
[null,null,"MIKE",39,36,0.52,5]
[null,null,"JEAN",37,36,0.50684931506849318,6]
[null,null,"-----",0,60,0,"-----"]
[null,null,"","","","",""]
[null,null,"","","","",""]
[null,null,"","","","",""]
[null,null,2021,null,"SEASON"]
[null,null,"NAME","W","L","PCT","GB"]
[null,null,"LARRY",491,372,0.56894553881807652,0]
[null,null,"JIM T.",477,384,0.55400696864111498,13]
[null,null,"TIM",468,400,0.53917050691244239,25.5]
[null,null,"DIANE",455,404,0.52968568102444702,34]
[null,null,"MIKE",451,407,0.52564102564102566,37.5]
[null,null,"JIM K.",448,406,0.52459016393442626,38.5]
[null,null,"JOHN",452,410,0.52436194895591648,38.5]
[null,null,"JEAN",438,410,0.51650943396226412,45.5,null," "]
[null,null,"-----",0,700,0,"-----",null," "]
[null,null,"","","","","",null," "]
[null,null,"","","","",""]
[null,null,"","","","",""]
[]
[]
[]
[]
[]
[]
[]
[null,null,null,null,"CURRENT WEEK",null,null,null,null,null,null,"THIS WEEK"]
[null,null,"WEEK ENDING",null,"THIS WEEK","SEASON",null,null,null,null,null,"AL",null,"RANK"]
[null,null,"2021-09-12",null,"RANK","RANK",null,null,null,null,null,"TORONTO",0.875,1]
[null,null,"SAN FRANCISCO",1,1,1,null,null,null,null,null,"TEXAS",0.83333333333333337,2]
[null,null,"TORONTO",0.875,2,7,null,null,null,null,null,"HOUSTON",0.66666666666666663,3]
[null,null,"TEXAS",0.83333333333333337,3,27,null,null,null,null,null,"MINNESOTA",0.5714285714285714,4]
[null,null,"MILWAUKEE",0.83333333333333337,3,4,null,null,null,null,null,"KANSAS CITY",0.5714285714285714,4]
[null,null,"LOS ANGELES N",0.7142857142857143,5,2,null,null,null,null,null,"OAKLAND",0.5,6]
[null,null,"PITTSBURGH",0.66666666666666663,6,28,null,null,null,null,null,"TAMPA BAY",0.5,6]
[null,null,"HOUSTON",0.66666666666666663,6,5,null,null,null,null,null,"CHICAGO A",0.5,6]
[null,null,"ATLANTA",0.66666666666666663,6,12,null,null,null,null,null,"DETROIT",0.5,6]
[null,null,"MINNESOTA",0.5714285714285714,9,24,null,null,null,null,null,"BALTIMORE",0.375,10]
[null,null,"KANSAS CITY",0.5714285714285714,9,22,null,null,null,null,null,"SEATTLE",0.33333333333333331,11]
[null,null,"ST LOUIS",0.5714285714285714,9,15,null,null,null,null,null,"LOS ANGELES A",0.33333333333333331,11]
[null,null,"OAKLAND",0.5,12,10,null,null,null,null,null,"BOSTON",0.33333333333333331,11]
[null,null,"TAMPA BAY",0.5,12,3,null,null,null,null,null,"CLEVELAND",0.14285714285714285,14]
[null,null,"MIAMI",0.5,12,25,null,null,null,null,null,"NEW YORK A",0.14285714285714285,14]
[null,null,"CHICAGO A",0.5,12,6,null,null,null,null,null,"NL"]
[null,null,"DETROIT",0.5,12,20,null,null,null,null,null,"SAN FRANCISCO",1,1]
[null,null,"WASHINGTON",0.42857142857142855,17,26,null,null,null,null,null,"MILWAUKEE",0.83333333333333337,2]
[null,null,"NEW YORK N",0.42857142857142855,17,17,null,null,null,null,null,"LOS ANGELES N",0.7142857142857143,3]
[null,null,"COLORADO",0.42857142857142855,17,21,null,null,null,null,null,"PITTSBURGH",0.66666666666666663,4]
[null,null,"ARIZONA",0.4,20,29,null,null,null,null,null,"ATLANTA",0.66666666666666663,4]
[null,null,"BALTIMORE",0.375,21,30,null,null,null,null,null,"ST LOUIS",0.5714285714285714,6]
[null,null,"CHICAGO N",0.33333333333333331,22,23,null,null,null,null,null,"MIAMI",0.5,7]
[null,null,"CINCINNATI",0.33333333333333331,22,14,null,null,null,null,null,"WASHINGTON",0.42857142857142855,8]
[null,null,"SEATTLE",0.33333333333333331,22,10,null,null,null,null,null,"NEW YORK N",0.42857142857142855,8]
[null,null,"LOS ANGELES A",0.33333333333333331,22,18,null,null,null,null,null,"COLORADO",0.42857142857142855,8]
[null,null,"BOSTON",0.33333333333333331,22,8,null,null,null,null,null,"ARIZONA",0.4,11]
[null,null,"PHILADELPHIA",0.2857142857142857,27,16,null,null,null,null,null,"CHICAGO N",0.33333333333333331,12]
[null,null,"SAN DIEGO",0.2,28,13,null,null,null,null,null,"CINCINNATI",0.33333333333333331,12]
[null,null,"CLEVELAND",0.14285714285714285,29,19,null,null,null,null,null,"PHILADELPHIA",0.2857142857142857,14]
[null,null,"NEW YORK A",0.14285714285714285,29,9,null,null,null,null,null,"SAN DIEGO",0.2,15]
[]
[null,null,null,null,"SEASON TO DATE",null,null,null,null,null,null,"SEASON TO DATE"]
[null,null,null,null,null,null,null,null,null,null,null,"AL"]
[null,null,"SEASON TO-DATE",null,"RANK",null,null,null,null,null,null,"TAMPA BAY",0.6223776223776224,1]
[null,null,"SAN FRANCISCO",0.65034965034965031,1,null,null,null,null,null,null,"HOUSTON",0.58450704225352113,2]
[null,null,"LOS ANGELES N",0.63194444444444442,2,null,null,null,null,null,null,"CHICAGO A",0.57342657342657344,3]
[null,null,"TAMPA BAY",0.6223776223776224,3,null,null,null,null,null,null,"TORONTO",0.55944055944055948,4]
[null,null,"MILWAUKEE",0.61805555555555558,4,null,null,null,null,null,null,"BOSTON",0.55862068965517242,5]
[null,null,"HOUSTON",0.58450704225352113,5,null,null,null,null,null,null,"NEW YORK A",0.55244755244755239,6]
[null,null,"CHICAGO A",0.57342657342657344,6,null,null,null,null,null,null,"SEATTLE",0.53846153846153844,7]
[null,null,"TORONTO",0.55944055944055948,7,null,null,null,null,null,null,"OAKLAND",0.53846153846153844,7]
[null,null,"BOSTON",0.55862068965517242,8,null,null,null,null,null,null,"LOS ANGELES A",0.48951048951048953,9]
[null,null,"NEW YORK A",0.55244755244755239,9,null,null,null,null,null,null,"CLEVELAND",0.48936170212765956,10]
[null,null,"SEATTLE",0.53846153846153844,10,null,null,null,null,null,null,"DETROIT",0.47222222222222221,11]
[null,null,"OAKLAND",0.53846153846153844,10,null,null,null,null,null,null,"KANSAS CITY",0.45454545454545453,12]
[null,null,"ATLANTA",0.53521126760563376,12,null,null,null,null,null,null,"MINNESOTA",0.44055944055944057,13]
[null,null,"SAN DIEGO",0.52112676056338025,13,null,null,null,null,null,null,"TEXAS",0.37323943661971831,14]
[null,null,"CINCINNATI",0.52083333333333337,14,null,null,null,null,null,null,"BALTIMORE",0.32167832167832167,15]
[null,null,"ST LOUIS",0.5140845070422535,15,null,null,null,null,null,null,"NL"]
[null,null,"PHILADELPHIA",0.50349650349650354,16,null,null,null,null,null,null,"SAN FRANCISCO",0.65034965034965031,1]
[null,null,"NEW YORK N",0.5,17,null,null,null,null,null,null,"LOS ANGELES N",0.63194444444444442,2]
[null,null,"LOS ANGELES A",0.48951048951048953,18,null,null,null,null,null,null,"MILWAUKEE",0.61805555555555558,3]
[null,null,"CLEVELAND",0.48936170212765956,19,null,null,null,null,null,null,"ATLANTA",0.53521126760563376,4]
[null,null,"DETROIT",0.47222222222222221,20,null,null,null,null,null,null,"SAN DIEGO",0.52112676056338025,5]
[null,null,"COLORADO",0.45833333333333331,21,null,null,null,null,null,null,"CINCINNATI",0.52083333333333337,6]
[null,null,"KANSAS CITY",0.45454545454545453,22,null,null,null,null,null,null,"ST LOUIS",0.5140845070422535,7]
[null,null,"CHICAGO N",0.4513888888888889,23,null,null,null,null,null,null,"PHILADELPHIA",0.50349650349650354,8]
[null,null,"MINNESOTA",0.44055944055944057,24,null,null,null,null,null,null,"NEW YORK N",0.5,9]
[null,null,"MIAMI",0.41958041958041958,25,null,null,null,null,null,null,"COLORADO",0.45833333333333331,10]
[null,null,"WASHINGTON",0.41258741258741261,26,null,null,null,null,null,null,"CHICAGO N",0.4513888888888889,11]
[null,null,"TEXAS",0.37323943661971831,27,null,null,null,null,null,null,"MIAMI",0.41958041958041958,12]
[null,null,"PITTSBURGH",0.36363636363636365,28,null,null,null,null,null,null,"WASHINGTON",0.41258741258741261,13]
[null,null,"ARIZONA",0.32867132867132864,29,null,null,null,null,null,null,"PITTSBURGH",0.36363636363636365,14]

{"sheet":"5-Sep","index":16,"n_rows":172,"n_cols":34,"rows_kept":172,"cut":false,"hidden":false,"merged":[[1,16,1,33],[2,13,2,14],[3,18,3,21],[3,22,3,25],[3,26,3,29],[3,30,3,33],[20,30,20,33],[4,2,4,4],[4,6,4,9],[4,11,4,14],[11,16,11,17],[12,16,12,17],[13,16,13,17],[16,16,16,17],[17,16,17,17],[20,18,20,21],[20,22,20,25],[20,26,20,29],[47,16,47,17],[28,16,28,17],[29,16,29,17],[30,16,30,17],[33,16,33,17],[34,16,34,17],[37,22,37,25],[37,26,37,29],[37,30,37,33],[45,16,45,17],[46,16,46,17],[37,18,37,21],[50,16,50,17],[51,16,51,17],[56,2,56,6],[71,2,71,6],[85,2,85,3],[85,4,85,5],[94,9,94,13],[95,9,95,13],[102,16,102,20],[106,4,106,5],[107,2,107,3],[107,11,107,12],[141,11,141,12],[142,2,142,3],[157,11,157,12],[108,2,108,3],[113,16,113,20],[123,11,123,12],[124,16,124,20],[140,4,140,5],[140,11,140,12]]}
[null,2021,"STANDINGS"]
[null,null,null,null,null,null,null,null,null,null,null,null,null,null,null,null,"CURRENT WEEK RESULTS"]
[null,"WEEK ENDING "," ","2021-09-05",null,null,null," ",null,null,null,"WEEK",22,"SEPTEMBER",null," "]
[null,null,null,null,null,null,null,null,null,null,null,null,null,null,null,null,null,null,"MIKE",null,null,null,"JOHN",null,null,null,"LARRY",null,null,null,0]
[null,null,"CURRENT WEEK-SEASON TO DATE",null,null,null,"PREVIOUS WEEK-SEASON TO DATE",null,null,null,null,"CURRENT WEEK TOTALS",null,null,null,null,null,null,"RANK","W","L","PCT","RANK","W","L","PCT","RANK","W","L","PCT","RANK","W","L","PCT"]
[null,null,null,null,null,null,null,null,null,null,null,null,null,null,null,null,null,null,"Rays",4,3,0.5714285714285714,"Dodgers",4,2,0.66666666666666663,"Braves",2,5,0.2857142857142857,0,{"$error":"#N/A"},{"$error":"#N/A"},{"$error":"#N/A"}]
[null,"American League",null,null,null,null,"AL EAST",null,null,null,"Times","AL EAST",null,null,null,null,null,null,"Astros",2,4,0.33333333333333331,"Yankees",2,4,0.33333333333333331,"Brewers",5,2,0.7142857142857143,0,{"$error":"#N/A"},{"$error":"#N/A"},{"$error":"#N/A"}]
[null,"East","W","L","PCT","Rank","TEAM","W","L","PCT","Picked","TEAM","W","L","PCT","Rank",null,null,"Brewers",5,2,0.7142857142857143,"Astros",2,4,0.33333333333333331,"White Sox",3,2,0.6,0,{"$error":"#N/A"},{"$error":"#N/A"},{"$error":"#N/A"}]
[null,"Orioles",43,92,0.31851851851851853,5,"BALTIMORE",40,89,0.31007751937984496,0,"Orioles",3,3,0.5,4,null,null,"Padres",4,2,0.66666666666666663,"White Sox",3,2,0.6,"Yankees",2,4,0.33333333333333331,0,{"$error":"#N/A"},{"$error":"#N/A"},{"$error":"#N/A"}]
[null,"Red Sox",79,60,0.56834532374100721,3,"BOSTON",75,57,0.56818181818181823,1,"Red Sox",4,3,0.5714285714285714,2,null,null,"Indians",4,2,0.66666666666666663,"Brewers",5,2,0.7142857142857143,"Mariners",5,1,0.83333333333333337,0,{"$error":"#N/A"},{"$error":"#N/A"},{"$error":"#N/A"}]
[null,"Yankees",78,58,0.57352941176470584,2,"NEW YORK",76,54,0.58461538461538465,3,"Yankees",2,4,0.33333333333333331,5,null,null,"Phillies",4,2,0.66666666666666663,"Braves",2,5,0.2857142857142857,"Dodgers",4,2,0.66666666666666663,0,{"$error":"#N/A"},{"$error":"#N/A"},{"$error":"#N/A"}]
[null,"Rays",86,51,0.62773722627737227,1,"TAMPA BAY",82,48,0.63076923076923075,4,"Rays",4,3,0.5714285714285714,2,"WEEKLY TOTAL",null,null,23,15,0.60526315789473684,null,18,19,0.48648648648648651,null,21,16,0.56756756756756754,null,{"$error":"#N/A"},{"$error":"#N/A"},{"$error":"#N/A"}]
[null,"Blue Jays",73,62,0.54074074074074074,4,"TORONTO",68,61,0.52713178294573648,1,"Blue Jays",5,1,0.83333333333333337,1,"PREV WEEK TO DATE",null,"  ",412,371,0.5261813537675607,null,412,375,0.52350698856416777,null,450,338,0.57106598984771573,null,{"$error":"#N/A"},{"$error":"#N/A"},{"$error":"#N/A"}]
[null,null,null," ",null,null,null,null," ",null,null,null,null,null,null,null,"CUR TOTAL TO DATE",null,"  ",435,386,0.52984165651644333,null,430,394,0.52184466019417475,null,471,354,0.57090909090909092,null,{"$error":"#N/A"},{"$error":"#N/A"},{"$error":"#N/A"}]
[null,null,null," ",null,null,"AL CENTRAL",null," ",null,null,"AL CENTRAL"]
[null,"Central","W","L","PCT",null,"TEAM","W","L","PCT",null,"TEAM","W","L","PCT"]
[null,"White Sox",79,58,0.57664233576642332,1,"CHICAGO",76,56,0.5757575757575758,7,"White Sox",3,2,0.6,2,"SEASON TLT TO DATE",null,"  ",412,371,0.5261813537675607,null,412,375,0.52350698856416777,null,450,338,0.57106598984771573,null,{"$error":"#N/A"},{"$error":"#N/A"},{"$error":"#N/A"}]
[null,"Indians",68,66,0.5074626865671642,2,"CLEVELAND",64,64,0.5,2,"Indians",4,2,0.66666666666666663,1,"SEPTEMBER TOTAL TO DATE",null,null,23,15,0.60526315789473684,null,18,19,0.48648648648648651,null,21,16,0.56756756756756754,null,{"$error":"#N/A"},{"$error":"#N/A"},{"$error":"#N/A"}]
[null,"Tigers",65,73,0.47101449275362317,3,"DETROIT",62,69,0.47328244274809161,0,"Tigers",3,4,0.42857142857142855,3]
[null,"Royals",61,75,0.4485294117647059,4,"KANSAS CITY",59,71,0.45384615384615384,0,"Royals",2,4,0.33333333333333331,4]
[null,"Twins",59,77,0.43382352941176472,5,"MINNESOTA",57,73,0.43846153846153846,0,"Twins",2,4,0.33333333333333331,4,null,null,"JIM T.",null,null,null,"JEAN",null,null,null,"DIANE",null,null,null,0]
[null,null,null," ",null,null,null,null," ",null,null,null,null,null,null,null,null,null,"RANK","W","L","PCT","RANK","W","L","PCT","RANK","W","L","PCT","RANK","W","L","PCT"]
[null,null,null," ",null,null,"AL WEST",null," ",null,null,"AL WEST",null,null,null,null,null,null,"Rays",4,3,0.5714285714285714,"Rays",4,3,0.5714285714285714,"Brewers",5,2,0.7142857142857143,0,{"$error":"#N/A"},{"$error":"#N/A"},{"$error":"#N/A"}]
[null,"West","W","L","PCT",null,"TEAM","W","L","PCT",null,"TEAM","W","L","PCT",null,null,null,"White Sox",3,2,0.6,"Astros",2,4,0.33333333333333331,"White Sox",3,2,0.6,0,{"$error":"#N/A"},{"$error":"#N/A"},{"$error":"#N/A"}]
[null,"Angels",68,69,0.49635036496350365,4,"LOS ANGELES",64,67,0.48854961832061067,0,"Angels",4,2,0.66666666666666663,2,null,null,"Astros",2,4,0.33333333333333331,"Phillies",4,2,0.66666666666666663,"Dodgers",4,2,0.66666666666666663,0,{"$error":"#N/A"},{"$error":"#N/A"},{"$error":"#N/A"}]
[null,"Athletics",74,63,0.54014598540145986,3,"OAKLAND",72,59,0.54961832061068705,1,"Athletics",2,4,0.33333333333333331,4,null,null,"Braves",2,5,0.2857142857142857,"Cardinals",3,3,0.5,"Astros",2,4,0.33333333333333331,0,{"$error":"#N/A"},{"$error":"#N/A"},{"$error":"#N/A"}]
[null,"Mariners",75,62,0.54744525547445255,2,"SEATTLE",70,61,0.53435114503816794,1,"Mariners",5,1,0.83333333333333337,1,null,null,"Brewers",5,2,0.7142857142857143,"Padres",4,2,0.66666666666666663,"Yankees",2,4,0.33333333333333331,0,{"$error":"#N/A"},{"$error":"#N/A"},{"$error":"#N/A"}]
[null,"Rangers",48,88,0.35294117647058826,5,"TEXAS",45,85,0.34615384615384615,0,"Rangers",3,3,0.5,3,null,null,"Dodgers",4,2,0.66666666666666663,"White Sox",3,2,0.6,"Phillies",4,2,0.66666666666666663,0,{"$error":"#N/A"},{"$error":"#N/A"},{"$error":"#N/A"}]
[null,"Astros",79,57,0.58088235294117652,1,"HOUSTON",77,53,0.59230769230769231,7,"Astros",2,4,0.33333333333333331,4,"WEEKLY TOTAL",null,null,20,18,0.52631578947368418,null,20,16,0.55555555555555558,null,20,16,0.55555555555555558,null,{"$error":"#N/A"},{"$error":"#N/A"},{"$error":"#N/A"}]
[null,null,null,null,null,null,null,null,null,null,null,null,null,null,null,null,"PREV WEEK TO DATE",null,null,433,353,0.55089058524173029,null,401,374,0.51741935483870971,null,415,369,0.52933673469387754,null,{"$error":"#N/A"},{"$error":"#N/A"},{"$error":"#N/A"}]
[null,"National League",null," ",null,null,"NL EAST",null," ",null,null,"NL EAST",null,null,null,null,"CUR TOTAL TO DATE",null,null,453,371,0.54975728155339809,null,421,390,0.51911220715166462,null,435,385,0.53048780487804881,null,{"$error":"#N/A"},{"$error":"#N/A"},{"$error":"#N/A"}]
[null,"East","W","L","PCT",null,"TEAM","W","L","PCT",null,"TEAM","W","L","PCT"]
[null,"Braves",72,64,0.52941176470588236,1,"ATLANTA",70,59,0.54263565891472865,4,"Braves",2,5,0.2857142857142857,4]
[null,"Marlins",57,80,0.41605839416058393,4,"Miami",55,76,0.41984732824427479,0,"Marlins",2,4,0.33333333333333331,3,"SEASON TLT TO DATE",null,null,433,353,0.55089058524173029,null,401,374,0.51741935483870971,null,415,369,0.52933673469387754,null,{"$error":"#N/A"},{"$error":"#N/A"},{"$error":"#N/A"}]
[null,"Mets",69,68,0.5036496350364964,3,"NEW YORK",63,67,0.48461538461538461,0,"Mets",6,1,0.8571428571428571,1,"SEPTEMBER TOTAL TO DATE",null,null,20,18,0.52631578947368418,null,20,16,0.55555555555555558,null,20,16,0.55555555555555558,null,{"$error":"#N/A"},{"$error":"#N/A"},{"$error":"#N/A"}]
[null,"Phillies",70,66,0.51470588235294112,2,"PHILADELPHIA",66,64,0.50769230769230766,4,"Phillies",4,2,0.66666666666666663,2]
[null,"Nationals",56,80,0.41176470588235292,5,"WASHINGTON",55,74,0.4263565891472868,1,"Nationals",1,6,0.14285714285714285,5]
[null,null,null," ",null,null,null,null," ",null,null,null,null,null,null,null,null,null,"JIM K.",null,null,null,"TIM",null,null,null,"-----",null,null,null,0]
[null,null,null," ",null,null,"NL CENTRAL",null," ",null,null,"NL CENTRAL",null,null,null,null,null,null,"RANK","W","L","PCT","RANK","W","L","PCT","RANK","W","L","PCT","RANK","W","L","PCT"]
[null,"Central","W","L","PCT",null,"TEAM","W","L","PCT",null,"TEAM","W","L","PCT",null,null,null,"Giants",3,4,0.42857142857142855,"Giants",3,4,0.42857142857142855,null,null,null,null,0,{"$error":"#N/A"},{"$error":"#N/A"},{"$error":"#N/A"}]
[null,"Cubs",63,75,0.45652173913043476,4,"CHICAGO",57,75,0.43181818181818182,2,"Cubs",6,0,1,1,null,null,"White Sox",3,2,0.6,"Rays",4,3,0.5714285714285714,null,null,null,null,0,{"$error":"#N/A"},{"$error":"#N/A"},{"$error":"#N/A"}]
[null,"Reds",73,65,0.52898550724637683,2,"CINCINNATI",71,61,0.53787878787878785,0,"Reds",2,4,0.33333333333333331,4,null,null,"Red Sox",4,3,0.5714285714285714,"Brewers",5,2,0.7142857142857143,null,null,null,null,0,{"$error":"#N/A"},{"$error":"#N/A"},{"$error":"#N/A"}]
[null,"Brewers",84,54,0.60869565217391308,1,"MILWAUKEE",79,52,0.60305343511450382,6,"Brewers",5,2,0.7142857142857143,2,null,null,"Athletics",2,4,0.33333333333333331,"Astros",2,4,0.33333333333333331,null,null,null,null,0,{"$error":"#N/A"},{"$error":"#N/A"},{"$error":"#N/A"}]
[null,"Pirates",48,89,0.35036496350364965,5,"PITTSBURGH",48,83,0.36641221374045801,0,"Pirates",0,6,0,5,null,null,"Phillies",4,2,0.66666666666666663,"White Sox",3,2,0.6,null,null,null,null,0,{"$error":"#N/A"},{"$error":"#N/A"},{"$error":"#N/A"}]
[null,"Cardinals",69,66,0.51111111111111107,3,"ST LOUIS",66,63,0.51162790697674421,1,"Cardinals",3,3,0.5,3,null,null,"Cubs",6,0,1,"Braves",2,5,0.2857142857142857,null,null,null,null,0,{"$error":"#N/A"},{"$error":"#N/A"},{"$error":"#N/A"}]
[null,null,null," ",null,null,null,null," ",null,null,null,null,null,null,null,"WEEKLY TOTAL",null,null,22,15,0.59459459459459463,null,19,20,0.48717948717948717,null,0,30,"",null,{"$error":"#N/A"},{"$error":"#N/A"},{"$error":"#N/A"}]
[null,null,null," ",null,null,"NL WEST",null," ",null,null,"NL WEST",null,null,null,null,"PREV WEEK TO DATE",null,null,408,372,0.52307692307692311,null,424,369,0.53467843631778056,null,0,640,"",null,{"$error":"#N/A"},{"$error":"#N/A"},{"$error":"#N/A"}]
[null,"West","W","L","PCT",null,"TEAM","W","L","PCT",null,"TEAM","W","L","PCT",null,"CUR TOTAL TO DATE",null,null,430,387,0.52631578947368418,null,443,389,0.53245192307692313,null,0,670,"",null,{"$error":"#N/A"},{"$error":"#N/A"},{"$error":"#N/A"}]
[null,"Diamondbacks",45,93,0.32608695652173914,5,"ARIZONA",44,88,0.33333333333333331,0,"Diamondbacks",1,5,0.16666666666666666,5]
[null,"Rockies",63,74,0.45985401459854014,4,"COLORADO",60,70,0.46153846153846156,0,"Rockies",3,4,0.42857142857142855,3]
[null,"Dodgers",86,51,0.62773722627737227,2,"LOS ANGELES",82,49,0.62595419847328249,4,"Dodgers",4,2,0.66666666666666663,1,"SEASON TLT TO DATE",null,null,408,372,0.52307692307692311,null,424,369,0.53467843631778056,null,0,640,"",null,{"$error":"#N/A"},{"$error":"#N/A"},{"$error":"#N/A"}]
[null,"Padres",73,64,0.53284671532846717,3,"SAN DIEGO",69,62,0.52671755725190839,3,"Padres",4,2,0.66666666666666663,1,"SEPTEMBER TOTAL TO DATE",null,null,22,15,0.59459459459459463,null,19,20,0.48717948717948717,null,0,30,"",null,{"$error":"#N/A"},{"$error":"#N/A"},{"$error":"#N/A"}]
[null,"Giants",87,50,0.63503649635036497,1,"SAN FRANCISCO",84,46,0.64615384615384619,2,"Giants",3,4,0.42857142857142855,3]
[null,null,null,null,null,null,null,null,null,null,null,null,94,94]
[null,null,null,"2021-09-07"," Morning"]
[]
[null,null,"WEEK 22"]
[null," ","NAME","W","L","PCT","GB"]
[null,null,"MIKE",23,15,0.60526315789473684,0]
[null," ","JIM K.",22,15,0.59459459459459463,0.5]
[null," ","LARRY",21,16,0.56756756756756754,1.5]
[null," ","DIANE",20,16,0.55555555555555558,2]
[null," ","JEAN",20,16,0.55555555555555558,2]
[null,null,"JIM T.",20,18,0.52631578947368418,3]
[null,null,"TIM",19,20,0.48717948717948717,4.5]
[null,null,"JOHN",18,19,0.48648648648648651,4.5]
[null,null,"-----",0,30,0,"-----"]
[null,null,"","","","",""]
[null,null,"","","","",""]
[null,null,"","","","",""]
[]
[null,null,"MONTH OF  SEPTEMBER"]
[null,null,"NAME","W","L","PCT","GB"]
[null,null,"MIKE",23,15,0.60526315789473684,0]
[null,null,"JIM K.",22,15,0.59459459459459463,0.5]
[null,null,"LARRY",21,16,0.56756756756756754,1.5]
[null,null,"DIANE",20,16,0.55555555555555558,2]
[null,null,"JEAN",20,16,0.55555555555555558,2]
[null,null,"JIM T.",20,18,0.52631578947368418,3]
[null,null,"TIM",19,20,0.48717948717948717,4.5]
[null,null,"JOHN",18,19,0.48648648648648651,4.5]
[null,null,"-----",0,30,0,"-----"]
[null,null,"","","","",""]
[null,null,"","","","",""]
[null,null,"","","","",""]
[null,null,2021,null,"SEASON"]
[null,null,"NAME","W","L","PCT","GB"]
[null,null,"LARRY",471,354,0.57090909090909092,0]
[null,null,"JIM T.",453,371,0.54975728155339809,17.5]
[null,null,"TIM",443,389,0.53245192307692313,31.5]
[null,null,"DIANE",435,385,0.53048780487804881,33.5]
[null,null,"MIKE",435,386,0.52984165651644333,34]
[null,null,"JIM K.",430,387,0.52631578947368418,37]
[null,null,"JOHN",430,394,0.52184466019417475,40.5]
[null,null,"JEAN",421,390,0.51911220715166462,43,null," "]
[null,null,"-----",0,670,0,"-----",null," "]
[null,null,"","","","","",null," "]
[null,null,"","","","",""]
[null,null,"","","","",""]
[]
[]
[]
[]
[]
[]
[]
[null,null,null,null,"CURRENT WEEK",null,null,null,null,null,null,"THIS WEEK"]
[null,null,"WEEK ENDING",null,"THIS WEEK","SEASON",null,null,null,null,null,"AL",null,"RANK"]
[null,null,"2021-09-05",null,"RANK","RANK",null,null,null,null,null,"TORONTO",0.83333333333333337,1]
[null,null,"CHICAGO N",1,1,22,null,null,null,null,null,"SEATTLE",0.83333333333333337,1]
[null,null,"NEW YORK N",0.8571428571428571,2,18,null,null,null,null,null,"LOS ANGELES A",0.66666666666666663,3]
[null,null,"TORONTO",0.83333333333333337,3,10,null,null,null,null,null,"CLEVELAND",0.66666666666666663,3]
[null,null,"SEATTLE",0.83333333333333337,3,9,null,null,null,null,null,"CHICAGO A",0.6,5]
[null,null,"MILWAUKEE",0.7142857142857143,5,4,null,null,null,null,null,"TAMPA BAY",0.5714285714285714,6]
[null,null,"LOS ANGELES N",0.66666666666666663,6,2,null,null,null,null,null,"BOSTON",0.5714285714285714,6]
[null,null,"LOS ANGELES A",0.66666666666666663,6,19,null,null,null,null,null,"TEXAS",0.5,8]
[null,null,"CLEVELAND",0.66666666666666663,6,17,null,null,null,null,null,"BALTIMORE",0.5,8]
[null,null,"PHILADELPHIA",0.66666666666666663,6,15,null,null,null,null,null,"DETROIT",0.42857142857142855,10]
[null,null,"SAN DIEGO",0.66666666666666663,6,12,null,null,null,null,null,"OAKLAND",0.33333333333333331,11]
[null,null,"CHICAGO A",0.6,11,6,null,null,null,null,null,"HOUSTON",0.33333333333333331,11]
[null,null,"TAMPA BAY",0.5714285714285714,12,2,null,null,null,null,null,"NEW YORK A",0.33333333333333331,11]
[null,null,"BOSTON",0.5714285714285714,12,8,null,null,null,null,null,"MINNESOTA",0.33333333333333331,11]
[null,null,"ST LOUIS",0.5,14,16,null,null,null,null,null,"KANSAS CITY",0.33333333333333331,11]
[null,null,"TEXAS",0.5,14,27,null,null,null,null,null,"NL"]
[null,null,"BALTIMORE",0.5,14,30,null,null,null,null,null,"CHICAGO N",1,1]
[null,null,"COLORADO",0.42857142857142855,17,21,null,null,null,null,null,"NEW YORK N",0.8571428571428571,2]
[null,null,"DETROIT",0.42857142857142855,17,20,null,null,null,null,null,"MILWAUKEE",0.7142857142857143,3]
[null,null,"SAN FRANCISCO",0.42857142857142855,17,1,null,null,null,null,null,"LOS ANGELES N",0.66666666666666663,4]
[null,null,"OAKLAND",0.33333333333333331,20,11,null,null,null,null,null,"PHILADELPHIA",0.66666666666666663,4]
[null,null,"HOUSTON",0.33333333333333331,20,5,null,null,null,null,null,"SAN DIEGO",0.66666666666666663,4]
[null,null,"NEW YORK A",0.33333333333333331,20,7,null,null,null,null,null,"ST LOUIS",0.5,7]
[null,null,"CINCINNATI",0.33333333333333331,20,14,null,null,null,null,null,"COLORADO",0.42857142857142855,8]
[null,null,"MIAMI",0.33333333333333331,20,25,null,null,null,null,null,"SAN FRANCISCO",0.42857142857142855,8]
[null,null,"MINNESOTA",0.33333333333333331,20,24,null,null,null,null,null,"CINCINNATI",0.33333333333333331,10]
[null,null,"KANSAS CITY",0.33333333333333331,20,23,null,null,null,null,null,"MIAMI",0.33333333333333331,10]
[null,null,"ATLANTA",0.2857142857142857,27,13,null,null,null,null,null,"ATLANTA",0.2857142857142857,12]
[null,null,"ARIZONA",0.16666666666666666,28,29,null,null,null,null,null,"ARIZONA",0.16666666666666666,13]
[null,null,"WASHINGTON",0.14285714285714285,29,26,null,null,null,null,null,"WASHINGTON",0.14285714285714285,14]
[null,null,"PITTSBURGH",0,30,28,null,null,null,null,null,"PITTSBURGH",0,15]
[]
[null,null,null,null,"SEASON TO DATE",null,null,null,null,null,null,"SEASON TO DATE"]
[null,null,null,null,null,null,null,null,null,null,null,"AL"]
[null,null,"SEASON TO-DATE",null,"RANK",null,null,null,null,null,null,"TAMPA BAY",0.62773722627737227,1]
[null,null,"SAN FRANCISCO",0.63503649635036497,1,null,null,null,null,null,null,"HOUSTON",0.58088235294117652,2]
[null,null,"LOS ANGELES N",0.62773722627737227,2,null,null,null,null,null,null,"CHICAGO A",0.57664233576642332,3]
[null,null,"TAMPA BAY",0.62773722627737227,2,null,null,null,null,null,null,"NEW YORK A",0.57352941176470584,4]
[null,null,"MILWAUKEE",0.60869565217391308,4,null,null,null,null,null,null,"BOSTON",0.56834532374100721,5]
[null,null,"HOUSTON",0.58088235294117652,5,null,null,null,null,null,null,"SEATTLE",0.54744525547445255,6]
[null,null,"CHICAGO A",0.57664233576642332,6,null,null,null,null,null,null,"TORONTO",0.54074074074074074,7]
[null,null,"NEW YORK A",0.57352941176470584,7,null,null,null,null,null,null,"OAKLAND",0.54014598540145986,8]
[null,null,"BOSTON",0.56834532374100721,8,null,null,null,null,null,null,"CLEVELAND",0.5074626865671642,9]
[null,null,"SEATTLE",0.54744525547445255,9,null,null,null,null,null,null,"LOS ANGELES A",0.49635036496350365,10]
[null,null,"TORONTO",0.54074074074074074,10,null,null,null,null,null,null,"DETROIT",0.47101449275362317,11]
[null,null,"OAKLAND",0.54014598540145986,11,null,null,null,null,null,null,"KANSAS CITY",0.4485294117647059,12]
[null,null,"SAN DIEGO",0.53284671532846717,12,null,null,null,null,null,null,"MINNESOTA",0.43382352941176472,13]
[null,null,"ATLANTA",0.52941176470588236,13,null,null,null,null,null,null,"TEXAS",0.35294117647058826,14]
[null,null,"CINCINNATI",0.52898550724637683,14,null,null,null,null,null,null,"BALTIMORE",0.31851851851851853,15]
[null,null,"PHILADELPHIA",0.51470588235294112,15,null,null,null,null,null,null,"NL"]
[null,null,"ST LOUIS",0.51111111111111107,16,null,null,null,null,null,null,"SAN FRANCISCO",0.63503649635036497,1]
[null,null,"CLEVELAND",0.5074626865671642,17,null,null,null,null,null,null,"LOS ANGELES N",0.62773722627737227,2]
[null,null,"NEW YORK N",0.5036496350364964,18,null,null,null,null,null,null,"MILWAUKEE",0.60869565217391308,3]
[null,null,"LOS ANGELES A",0.49635036496350365,19,null,null,null,null,null,null,"SAN DIEGO",0.53284671532846717,4]
[null,null,"DETROIT",0.47101449275362317,20,null,null,null,null,null,null,"ATLANTA",0.52941176470588236,5]
[null,null,"COLORADO",0.45985401459854014,21,null,null,null,null,null,null,"CINCINNATI",0.52898550724637683,6]
[null,null,"CHICAGO N",0.45652173913043476,22,null,null,null,null,null,null,"PHILADELPHIA",0.51470588235294112,7]
[null,null,"KANSAS CITY",0.4485294117647059,23,null,null,null,null,null,null,"ST LOUIS",0.51111111111111107,8]
[null,null,"MINNESOTA",0.43382352941176472,24,null,null,null,null,null,null,"NEW YORK N",0.5036496350364964,9]
[null,null,"MIAMI",0.41605839416058393,25,null,null,null,null,null,null,"COLORADO",0.45985401459854014,10]
[null,null,"WASHINGTON",0.41176470588235292,26,null,null,null,null,null,null,"CHICAGO N",0.45652173913043476,11]
[null,null,"TEXAS",0.35294117647058826,27,null,null,null,null,null,null,"MIAMI",0.41605839416058393,12]
[null,null,"PITTSBURGH",0.35036496350364965,28,null,null,null,null,null,null,"WASHINGTON",0.41176470588235292,13]
[null,null,"ARIZONA",0.32608695652173914,29,null,null,null,null,null,null,"PITTSBURGH",0.35036496350364965,14]

{"sheet":"29-Aug","index":17,"n_rows":172,"n_cols":34,"rows_kept":172,"cut":false,"hidden":false,"merged":[[141,11,141,12],[142,2,142,3],[157,11,157,12],[108,2,108,3],[113,16,113,20],[123,11,123,12],[124,16,124,20],[140,4,140,5],[140,11,140,12],[94,9,94,13],[95,9,95,13],[102,16,102,20],[106,4,106,5],[107,2,107,3],[107,11,107,12],[50,16,50,17],[51,16,51,17],[56,2,56,6],[71,2,71,6],[85,2,85,3],[85,4,85,5],[37,22,37,25],[37,26,37,29],[37,30,37,33],[45,16,45,17],[46,16,46,17],[37,18,37,21],[47,16,47,17],[28,16,28,17],[29,16,29,17],[30,16,30,17],[33,16,33,17],[34,16,34,17],[20,30,20,33],[4,2,4,4],[4,6,4,9],[4,11,4,14],[11,16,11,17],[12,16,12,17],[13,16,13,17],[16,16,16,17],[17,16,17,17],[20,18,20,21],[20,22,20,25],[20,26,20,29],[1,16,1,33],[2,13,2,14],[3,18,3,21],[3,22,3,25],[3,26,3,29],[3,30,3,33]]}
[null,2021,"STANDINGS"]
[null,null,null,null,null,null,null,null,null,null,null,null,null,null,null,null,"CURRENT WEEK RESULTS"]
[null,"WEEK ENDING "," ","2021-08-29",null,null,null," ",null,null,null,"WEEK",21,"AUGUST",null," "]
[null,null,null,null,null,null,null,null,null,null,null,null,null,null,null,null,null,null,"MIKE",null,null,null,"JOHN",null,null,null,"LARRY",null,null,null,0]
[null,null,"CURRENT WEEK-SEASON TO DATE",null,null,null,"PREVIOUS WEEK-SEASON TO DATE",null,null,null,null,"CURRENT WEEK TOTALS",null,null,null,null,null,null,"RANK","W","L","PCT","RANK","W","L","PCT","RANK","W","L","PCT","RANK","W","L","PCT"]
[null,null,null,null,null,null,null,null,null,null,null,null,null,null,null,null,null,null,"Twins",3,3,0.5,"White Sox",4,3,0.5714285714285714,"Astros",4,2,0.66666666666666663,0,{"$error":"#N/A"},{"$error":"#N/A"},{"$error":"#N/A"}]
[null,"American League",null,null,null,null,"AL EAST",null,null,null,"Times","AL EAST",null,null,null,null,null,null,"Red Sox",5,2,0.7142857142857143,"Astros",4,2,0.66666666666666663,"Dodgers",4,2,0.66666666666666663,0,{"$error":"#N/A"},{"$error":"#N/A"},{"$error":"#N/A"}]
[null,"East","W","L","PCT","Rank","TEAM","W","L","PCT","Picked","TEAM","W","L","PCT","Rank",null,null,"Astros",4,2,0.66666666666666663,"Brewers",3,3,0.5,"White Sox",4,3,0.5714285714285714,0,{"$error":"#N/A"},{"$error":"#N/A"},{"$error":"#N/A"}]
[null,"Orioles",40,89,0.31007751937984496,5,"BALTIMORE",38,85,0.30894308943089432,0,"Orioles",2,4,0.33333333333333331,5,null,null,"Mets",2,4,0.33333333333333331,"Phillies",3,3,0.5,"Brewers",3,3,0.5,0,{"$error":"#N/A"},{"$error":"#N/A"},{"$error":"#N/A"}]
[null,"Red Sox",75,57,0.56818181818181823,3,"BOSTON",70,55,0.56000000000000005,3,"Red Sox",5,2,0.7142857142857143,2,null,null,"Brewers",3,3,0.5,"Rays",5,0,1,"Yankees",4,2,0.66666666666666663,0,{"$error":"#N/A"},{"$error":"#N/A"},{"$error":"#N/A"}]
[null,"Yankees",76,54,0.58461538461538465,2,"NEW YORK",72,52,0.58064516129032262,2,"Yankees",4,2,0.66666666666666663,3,null,null,"Padres",1,4,0.2,"Rockies",3,3,0.5,"Phillies",3,3,0.5,0,{"$error":"#N/A"},{"$error":"#N/A"},{"$error":"#N/A"}]
[null,"Rays",82,48,0.63076923076923075,1,"TAMPA BAY",77,48,0.61599999999999999,3,"Rays",5,0,1,1,"WEEKLY TOTAL",null,null,18,18,0.5,null,22,14,0.61111111111111116,null,22,15,0.59459459459459463,null,{"$error":"#N/A"},{"$error":"#N/A"},{"$error":"#N/A"}]
[null,"Blue Jays",68,61,0.52713178294573648,4,"TORONTO",64,58,0.52459016393442626,1,"Blue Jays",4,3,0.5714285714285714,4,"PREV WEEK TO DATE",null,"  ",394,353,0.52744310575635878,null,390,361,0.51930758988015979,null,428,323,0.56990679094540608,null,{"$error":"#N/A"},{"$error":"#N/A"},{"$error":"#N/A"}]
[null,null,null," ",null,null,null,null," ",null,null,null,null,null,null,null,"CUR TOTAL TO DATE",null,"  ",412,371,0.5261813537675607,null,412,375,0.52350698856416777,null,450,338,0.57106598984771573,null,{"$error":"#N/A"},{"$error":"#N/A"},{"$error":"#N/A"}]
[null,null,null," ",null,null,"AL CENTRAL",null," ",null,null,"AL CENTRAL"]
[null,"Central","W","L","PCT",null,"TEAM","W","L","PCT",null,"TEAM","W","L","PCT"]
[null,"White Sox",76,56,0.5757575757575758,1,"CHICAGO",72,53,0.57599999999999996,7,"White Sox",4,3,0.5714285714285714,1,"SEASON TLT TO DATE",null,"  ",342,294,0.53773584905660377,null,327,312,0.51173708920187788,null,353,285,0.55329153605015668,null,{"$error":"#N/A"},{"$error":"#N/A"},{"$error":"#N/A"}]
[null,"Indians",64,64,0.5,2,"CLEVELAND",61,61,0.5,0,"Indians",3,3,0.5,3,"AUGUST TOTAL TO DATE",null,null,70,77,0.47619047619047616,null,85,63,0.57432432432432434,null,97,53,0.64666666666666661,null,{"$error":"#N/A"},{"$error":"#N/A"},{"$error":"#N/A"}]
[null,"Tigers",62,69,0.47328244274809161,3,"DETROIT",60,66,0.47619047619047616,0,"Tigers",2,3,0.4,5]
[null,"Royals",59,71,0.45384615384615384,4,"KANSAS CITY",55,68,0.44715447154471544,0,"Royals",4,3,0.5714285714285714,1]
[null,"Twins",57,73,0.43846153846153846,5,"MINNESOTA",54,70,0.43548387096774194,2,"Twins",3,3,0.5,3,null,null,"JIM T.",null,null,null,"JEAN",null,null,null,"DIANE",null,null,null,0]
[null,null,null," ",null,null,null,null," ",null,null,null,null,null,null,null,null,null,"RANK","W","L","PCT","RANK","W","L","PCT","RANK","W","L","PCT","RANK","W","L","PCT"]
[null,null,null," ",null,null,"AL WEST",null," ",null,null,"AL WEST",null,null,null,null,null,null,"Yankees",4,2,0.66666666666666663,"Phillies",3,3,0.5,"Red Sox",5,2,0.7142857142857143,0,{"$error":"#N/A"},{"$error":"#N/A"},{"$error":"#N/A"}]
[null,"West","W","L","PCT",null,"TEAM","W","L","PCT",null,"TEAM","W","L","PCT",null,null,null,"White Sox",4,3,0.5714285714285714,"White Sox",4,3,0.5714285714285714,"Brewers",3,3,0.5,0,{"$error":"#N/A"},{"$error":"#N/A"},{"$error":"#N/A"}]
[null,"Angels",64,67,0.48854961832061067,4,"LOS ANGELES",62,64,0.49206349206349204,0,"Angels",2,3,0.4,3,null,null,"Astros",4,2,0.66666666666666663,"Astros",4,2,0.66666666666666663,"White Sox",4,3,0.5714285714285714,0,{"$error":"#N/A"},{"$error":"#N/A"},{"$error":"#N/A"}]
[null,"Athletics",72,59,0.54961832061068705,2,"OAKLAND",70,55,0.56000000000000005,2,"Athletics",2,4,0.33333333333333331,4,null,null,"Braves",2,3,0.4,"Dodgers",4,2,0.66666666666666663,"Mets",2,4,0.33333333333333331,0,{"$error":"#N/A"},{"$error":"#N/A"},{"$error":"#N/A"}]
[null,"Mariners",70,61,0.53435114503816794,3,"SEATTLE",67,58,0.53600000000000003,1,"Mariners",3,3,0.5,2,null,null,"Brewers",3,3,0.5,"Brewers",3,3,0.5,"Dodgers",4,2,0.66666666666666663,0,{"$error":"#N/A"},{"$error":"#N/A"},{"$error":"#N/A"}]
[null,"Rangers",45,85,0.34615384615384615,5,"TEXAS",43,80,0.34959349593495936,0,"Rangers",2,5,0.2857142857142857,5,null,null,"Dodgers",4,2,0.66666666666666663,"Red Sox",5,2,0.7142857142857143,"Mariners",3,3,0.5,0,{"$error":"#N/A"},{"$error":"#N/A"},{"$error":"#N/A"}]
[null,"Astros",77,53,0.59230769230769231,1,"HOUSTON",73,51,0.58870967741935487,6,"Astros",4,2,0.66666666666666663,1,"WEEKLY TOTAL",null,null,21,15,0.58333333333333337,null,23,15,0.60526315789473684,null,21,17,0.55263157894736847,null,{"$error":"#N/A"},{"$error":"#N/A"},{"$error":"#N/A"}]
[null,null,null,null,null,null,null,null,null,null,null,null,null,null,null,null,"PREV WEEK TO DATE",null,null,412,338,0.54933333333333334,null,378,359,0.51289009497964722,null,394,352,0.52815013404825739,null,{"$error":"#N/A"},{"$error":"#N/A"},{"$error":"#N/A"}]
[null,"National League",null," ",null,null,"NL EAST",null," ",null,null,"NL EAST",null,null,null,null,"CUR TOTAL TO DATE",null,null,433,353,0.55089058524173029,null,401,374,0.51741935483870971,null,415,369,0.52933673469387754,null,{"$error":"#N/A"},{"$error":"#N/A"},{"$error":"#N/A"}]
[null,"East","W","L","PCT",null,"TEAM","W","L","PCT",null,"TEAM","W","L","PCT"]
[null,"Braves",70,59,0.54263565891472865,1,"ATLANTA",68,56,0.54838709677419351,1,"Braves",2,3,0.4,3]
[null,"Marlins",55,76,0.41984732824427479,5,"Miami",51,74,0.40799999999999997,0,"Marlins",4,2,0.66666666666666663,1,"SEASON TLT TO DATE",null,null,344,291,0.54173228346456692,null,314,312,0.50159744408945683,null,333,300,0.52606635071090047,null,{"$error":"#N/A"},{"$error":"#N/A"},{"$error":"#N/A"}]
[null,"Mets",63,67,0.48461538461538461,3,"NEW YORK",61,63,0.49193548387096775,3,"Mets",2,4,0.33333333333333331,4,"AUGUST TOTAL TO DATE",null,null,89,62,0.58940397350993379,null,87,62,0.58389261744966447,null,82,69,0.54304635761589404,null,{"$error":"#N/A"},{"$error":"#N/A"},{"$error":"#N/A"}]
[null,"Phillies",66,64,0.50769230769230766,2,"PHILADELPHIA",63,61,0.50806451612903225,5,"Phillies",3,3,0.5,2]
[null,"Nationals",55,74,0.4263565891472868,4,"WASHINGTON",53,70,0.43089430894308944,0,"Nationals",2,4,0.33333333333333331,4]
[null,null,null," ",null,null,null,null," ",null,null,null,null,null,null,null,null,null,"JIM K.",null,null,null,"TIM",null,null,null,"-----",null,null,null,0]
[null,null,null," ",null,null,"NL CENTRAL",null," ",null,null,"NL CENTRAL",null,null,null,null,null,null,"RANK","W","L","PCT","RANK","W","L","PCT","RANK","W","L","PCT","RANK","W","L","PCT"]
[null,"Central","W","L","PCT",null,"TEAM","W","L","PCT",null,"TEAM","W","L","PCT",null,null,null,"Giants",4,2,0.66666666666666663,"Giants",4,2,0.66666666666666663,null,null,null,null,0,{"$error":"#N/A"},{"$error":"#N/A"},{"$error":"#N/A"}]
[null,"Cubs",57,75,0.43181818181818182,4,"CHICAGO",54,72,0.42857142857142855,0,"Cubs",3,3,0.5,2,null,null,"Rays",5,0,1,"Rays",5,0,1,null,null,null,null,0,{"$error":"#N/A"},{"$error":"#N/A"},{"$error":"#N/A"}]
[null,"Reds",71,61,0.53787878787878785,2,"CINCINNATI",69,57,0.54761904761904767,1,"Reds",2,4,0.33333333333333331,5,null,null,"Brewers",3,3,0.5,"Astros",4,2,0.66666666666666663,null,null,null,null,0,{"$error":"#N/A"},{"$error":"#N/A"},{"$error":"#N/A"}]
[null,"Brewers",79,52,0.60305343511450382,1,"MILWAUKEE",76,49,0.60799999999999998,8,"Brewers",3,3,0.5,2,null,null,"White Sox",4,3,0.5714285714285714,"White Sox",4,3,0.5714285714285714,null,null,null,null,0,{"$error":"#N/A"},{"$error":"#N/A"},{"$error":"#N/A"}]
[null,"Pirates",48,83,0.36641221374045801,5,"PITTSBURGH",44,80,0.35483870967741937,0,"Pirates",4,3,0.5714285714285714,1,null,null,"Athletics",2,4,0.33333333333333331,"Reds",2,4,0.33333333333333331,null,null,null,null,0,{"$error":"#N/A"},{"$error":"#N/A"},{"$error":"#N/A"}]
[null,"Cardinals",66,63,0.51162790697674421,3,"ST LOUIS",63,60,0.51219512195121952,0,"Cardinals",3,3,0.5,2,null,null,"Phillies",3,3,0.5,"Phillies",3,3,0.5,null,null,null,null,0,{"$error":"#N/A"},{"$error":"#N/A"},{"$error":"#N/A"}]
[null,null,null," ",null,null,null,null," ",null,null,null,null,null,null,null,"WEEKLY TOTAL",null,null,21,15,0.58333333333333337,null,22,14,0.61111111111111116,null,0,30,"",null,{"$error":"#N/A"},{"$error":"#N/A"},{"$error":"#N/A"}]
[null,null,null," ",null,null,"NL WEST",null," ",null,null,"NL WEST",null,null,null,null,"PREV WEEK TO DATE",null,null,387,357,0.52016129032258063,null,402,355,0.53104359313077942,null,0,610,"",null,{"$error":"#N/A"},{"$error":"#N/A"},{"$error":"#N/A"}]
[null,"West","W","L","PCT",null,"TEAM","W","L","PCT",null,"TEAM","W","L","PCT",null,"CUR TOTAL TO DATE",null,null,408,372,0.52307692307692311,null,424,369,0.53467843631778056,null,0,640,"",null,{"$error":"#N/A"},{"$error":"#N/A"},{"$error":"#N/A"}]
[null,"Diamondbacks",44,88,0.33333333333333331,5,"ARIZONA",42,83,0.33600000000000002,0,"Diamondbacks",2,5,0.2857142857142857,4]
[null,"Rockies",60,70,0.46153846153846156,4,"COLORADO",57,67,0.45967741935483869,1,"Rockies",3,3,0.5,3]
[null,"Dodgers",82,49,0.62595419847328249,2,"LOS ANGELES",78,47,0.624,4,"Dodgers",4,2,0.66666666666666663,1,"SEASON TLT TO DATE",null,null,317,312,0.50397456279809216,null,332,311,0.51632970451010884,null,0,520,"",null,{"$error":"#N/A"},{"$error":"#N/A"},{"$error":"#N/A"}]
[null,"Padres",69,62,0.52671755725190839,3,"SAN DIEGO",68,58,0.53968253968253965,2,"Padres",1,4,0.2,5,"AUGUST TOTAL TO DATE",null,null,91,60,0.60264900662251653,null,92,58,0.61333333333333329,null,0,120,"",null,{"$error":"#N/A"},{"$error":"#N/A"},{"$error":"#N/A"}]
[null,"Giants",84,46,0.64615384615384619,1,"SAN FRANCISCO",80,44,0.64516129032258063,2,"Giants",4,2,0.66666666666666663,1]
[null,null,null,null,null,null,null,null,null,null,null,null,91,91]
[null,null,null,"2021-08-31"," Morning"]
[]
[null,null,"WEEK 21"]
[null," ","NAME","W","L","PCT","GB"]
[null,null,"TIM",22,14,0.61111111111111116,0]
[null," ","JOHN",22,14,0.61111111111111116,0]
[null," ","JEAN",23,15,0.60526315789473684,0]
[null," ","LARRY",22,15,0.59459459459459463,0.5]
[null," ","JIM T.",21,15,0.58333333333333337,1]
[null,null,"JIM K.",21,15,0.58333333333333337,1]
[null,null,"DIANE",21,17,0.55263157894736847,2]
[null,null,"MIKE",18,18,0.5,4]
[null,null,"-----",0,30,0,"-----"]
[null,null,"","","","",""]
[null,null,"","","","",""]
[null,null,"","","","",""]
[]
[null,null,"MONTH OF  AUGUST"]
[null,null,"NAME","W","L","PCT","GB"]
[null,null,"LARRY",97,53,0.64666666666666661,0]
[null,null,"TIM",92,58,0.61333333333333329,5]
[null,null,"JIM K.",91,60,0.60264900662251653,6.5]
[null,null,"JIM T.",89,62,0.58940397350993379,8.5]
[null,null,"JEAN",87,62,0.58389261744966447,9.5]
[null,null,"JOHN",85,63,0.57432432432432434,11]
[null,null,"DIANE",82,69,0.54304635761589404,15.5]
[null,null,"MIKE",70,77,0.47619047619047616,25.5]
[null,null,"-----",0,120,0,"-----"]
[null,null,"","","","",""]
[null,null,"","","","",""]
[null,null,"","","","",""]
[null,null,2021,null,"SEASON"]
[null,null,"NAME","W","L","PCT","GB"]
[null,null,"LARRY",450,338,0.57106598984771573,0]
[null,null,"JIM T.",433,353,0.55089058524173029,16]
[null,null,"TIM",424,369,0.53467843631778056,28.5]
[null,null,"DIANE",415,369,0.52933673469387754,33]
[null,null,"MIKE",412,371,0.5261813537675607,35.5]
[null,null,"JOHN",412,375,0.52350698856416777,37.5]
[null,null,"JIM K.",408,372,0.52307692307692311,38]
[null,null,"JEAN",401,374,0.51741935483870971,42.5,null," "]
[null,null,"-----",0,640,0,"-----",null," "]
[null,null,"","","","","",null," "]
[null,null,"","","","",""]
[null,null,"","","","",""]
[]
[]
[]
[]
[]
[]
[]
[null,null,null,null,"CURRENT WEEK",null,null,null,null,null,null,"THIS WEEK"]
[null,null,"WEEK ENDING",null,"THIS WEEK","SEASON",null,null,null,null,null,"AL",null,"RANK"]
[null,null,"2021-08-29",null,"RANK","RANK",null,null,null,null,null,"TAMPA BAY",1,1]
[null,null,"TAMPA BAY",1,1,2,null,null,null,null,null,"BOSTON",0.7142857142857143,2]
[null,null,"BOSTON",0.7142857142857143,2,8,null,null,null,null,null,"NEW YORK A",0.66666666666666663,3]
[null,null,"NEW YORK A",0.66666666666666663,3,6,null,null,null,null,null,"HOUSTON",0.66666666666666663,3]
[null,null,"LOS ANGELES N",0.66666666666666663,3,3,null,null,null,null,null,"KANSAS CITY",0.5714285714285714,5]
[null,null,"SAN FRANCISCO",0.66666666666666663,3,1,null,null,null,null,null,"CHICAGO A",0.5714285714285714,5]
[null,null,"HOUSTON",0.66666666666666663,3,5,null,null,null,null,null,"TORONTO",0.5714285714285714,5]
[null,null,"MIAMI",0.66666666666666663,3,26,null,null,null,null,null,"MINNESOTA",0.5,8]
[null,null,"KANSAS CITY",0.5714285714285714,8,22,null,null,null,null,null,"SEATTLE",0.5,8]
[null,null,"PITTSBURGH",0.5714285714285714,8,27,null,null,null,null,null,"CLEVELAND",0.5,8]
[null,null,"CHICAGO A",0.5714285714285714,8,7,null,null,null,null,null,"DETROIT",0.4,11]
[null,null,"TORONTO",0.5714285714285714,8,13,null,null,null,null,null,"LOS ANGELES A",0.4,11]
[null,null,"CHICAGO N",0.5,12,24,null,null,null,null,null,"BALTIMORE",0.33333333333333331,13]
[null,null,"MINNESOTA",0.5,12,23,null,null,null,null,null,"OAKLAND",0.33333333333333331,13]
[null,null,"ST LOUIS",0.5,12,15,null,null,null,null,null,"TEXAS",0.2857142857142857,15]
[null,null,"MILWAUKEE",0.5,12,4,null,null,null,null,null,"NL"]
[null,null,"SEATTLE",0.5,12,12,null,null,null,null,null,"LOS ANGELES N",0.66666666666666663,1]
[null,null,"CLEVELAND",0.5,12,17,null,null,null,null,null,"SAN FRANCISCO",0.66666666666666663,1]
[null,null,"COLORADO",0.5,12,21,null,null,null,null,null,"MIAMI",0.66666666666666663,1]
[null,null,"PHILADELPHIA",0.5,12,16,null,null,null,null,null,"PITTSBURGH",0.5714285714285714,4]
[null,null,"DETROIT",0.4,20,20,null,null,null,null,null,"CHICAGO N",0.5,5]
[null,null,"LOS ANGELES A",0.4,20,18,null,null,null,null,null,"ST LOUIS",0.5,5]
[null,null,"ATLANTA",0.4,20,10,null,null,null,null,null,"MILWAUKEE",0.5,5]
[null,null,"BALTIMORE",0.33333333333333331,23,30,null,null,null,null,null,"COLORADO",0.5,5]
[null,null,"WASHINGTON",0.33333333333333331,23,25,null,null,null,null,null,"PHILADELPHIA",0.5,5]
[null,null,"CINCINNATI",0.33333333333333331,23,11,null,null,null,null,null,"ATLANTA",0.4,10]
[null,null,"NEW YORK N",0.33333333333333331,23,19,null,null,null,null,null,"WASHINGTON",0.33333333333333331,11]
[null,null,"OAKLAND",0.33333333333333331,23,9,null,null,null,null,null,"CINCINNATI",0.33333333333333331,11]
[null,null,"ARIZONA",0.2857142857142857,28,29,null,null,null,null,null,"NEW YORK N",0.33333333333333331,11]
[null,null,"TEXAS",0.2857142857142857,28,28,null,null,null,null,null,"ARIZONA",0.2857142857142857,14]
[null,null,"SAN DIEGO",0.2,30,14,null,null,null,null,null,"SAN DIEGO",0.2,15]
[]
[null,null,null,null,"SEASON TO DATE",null,null,null,null,null,null,"SEASON TO DATE"]
[null,null,null,null,null,null,null,null,null,null,null,"AL"]
[null,null,"SEASON TO-DATE",null,"RANK",null,null,null,null,null,null,"TAMPA BAY",0.63076923076923075,1]
[null,null,"SAN FRANCISCO",0.64615384615384619,1,null,null,null,null,null,null,"HOUSTON",0.59230769230769231,2]
[null,null,"TAMPA BAY",0.63076923076923075,2,null,null,null,null,null,null,"NEW YORK A",0.58461538461538465,3]
[null,null,"LOS ANGELES N",0.62595419847328249,3,null,null,null,null,null,null,"CHICAGO A",0.5757575757575758,4]
[null,null,"MILWAUKEE",0.60305343511450382,4,null,null,null,null,null,null,"BOSTON",0.56818181818181823,5]
[null,null,"HOUSTON",0.59230769230769231,5,null,null,null,null,null,null,"OAKLAND",0.54961832061068705,6]
[null,null,"NEW YORK A",0.58461538461538465,6,null,null,null,null,null,null,"SEATTLE",0.53435114503816794,7]
[null,null,"CHICAGO A",0.5757575757575758,7,null,null,null,null,null,null,"TORONTO",0.52713178294573648,8]
[null,null,"BOSTON",0.56818181818181823,8,null,null,null,null,null,null,"CLEVELAND",0.5,9]
[null,null,"OAKLAND",0.54961832061068705,9,null,null,null,null,null,null,"LOS ANGELES A",0.48854961832061067,10]
[null,null,"ATLANTA",0.54263565891472865,10,null,null,null,null,null,null,"DETROIT",0.47328244274809161,11]
[null,null,"CINCINNATI",0.53787878787878785,11,null,null,null,null,null,null,"KANSAS CITY",0.45384615384615384,12]
[null,null,"SEATTLE",0.53435114503816794,12,null,null,null,null,null,null,"MINNESOTA",0.43846153846153846,13]
[null,null,"TORONTO",0.52713178294573648,13,null,null,null,null,null,null,"TEXAS",0.34615384615384615,14]
[null,null,"SAN DIEGO",0.52671755725190839,14,null,null,null,null,null,null,"BALTIMORE",0.31007751937984496,15]
[null,null,"ST LOUIS",0.51162790697674421,15,null,null,null,null,null,null,"NL"]
[null,null,"PHILADELPHIA",0.50769230769230766,16,null,null,null,null,null,null,"SAN FRANCISCO",0.64615384615384619,1]
[null,null,"CLEVELAND",0.5,17,null,null,null,null,null,null,"LOS ANGELES N",0.62595419847328249,2]
[null,null,"LOS ANGELES A",0.48854961832061067,18,null,null,null,null,null,null,"MILWAUKEE",0.60305343511450382,3]
[null,null,"NEW YORK N",0.48461538461538461,19,null,null,null,null,null,null,"ATLANTA",0.54263565891472865,4]
[null,null,"DETROIT",0.47328244274809161,20,null,null,null,null,null,null,"CINCINNATI",0.53787878787878785,5]
[null,null,"COLORADO",0.46153846153846156,21,null,null,null,null,null,null,"SAN DIEGO",0.52671755725190839,6]
[null,null,"KANSAS CITY",0.45384615384615384,22,null,null,null,null,null,null,"ST LOUIS",0.51162790697674421,7]
[null,null,"MINNESOTA",0.43846153846153846,23,null,null,null,null,null,null,"PHILADELPHIA",0.50769230769230766,8]
[null,null,"CHICAGO N",0.43181818181818182,24,null,null,null,null,null,null,"NEW YORK N",0.48461538461538461,9]
[null,null,"WASHINGTON",0.4263565891472868,25,null,null,null,null,null,null,"COLORADO",0.46153846153846156,10]
[null,null,"MIAMI",0.41984732824427479,26,null,null,null,null,null,null,"CHICAGO N",0.43181818181818182,11]
[null,null,"PITTSBURGH",0.36641221374045801,27,null,null,null,null,null,null,"WASHINGTON",0.4263565891472868,12]
[null,null,"TEXAS",0.34615384615384615,28,null,null,null,null,null,null,"MIAMI",0.41984732824427479,13]
[null,null,"ARIZONA",0.33333333333333331,29,null,null,null,null,null,null,"PITTSBURGH",0.36641221374045801,14]

{"sheet":"22-Aug","index":18,"n_rows":172,"n_cols":34,"rows_kept":172,"cut":false,"hidden":false,"merged":[[1,16,1,33],[2,13,2,14],[3,18,3,21],[3,22,3,25],[3,26,3,29],[3,30,3,33],[20,30,20,33],[4,2,4,4],[4,6,4,9],[4,11,4,14],[11,16,11,17],[12,16,12,17],[13,16,13,17],[16,16,16,17],[17,16,17,17],[20,18,20,21],[20,22,20,25],[20,26,20,29],[47,16,47,17],[28,16,28,17],[29,16,29,17],[30,16,30,17],[33,16,33,17],[34,16,34,17],[37,22,37,25],[37,26,37,29],[37,30,37,33],[45,16,45,17],[46,16,46,17],[37,18,37,21],[50,16,50,17],[51,16,51,17],[56,2,56,6],[71,2,71,6],[85,2,85,3],[85,4,85,5],[94,9,94,13],[95,9,95,13],[102,16,102,20],[106,4,106,5],[107,2,107,3],[107,11,107,12],[141,11,141,12],[142,2,142,3],[157,11,157,12],[108,2,108,3],[113,16,113,20],[123,11,123,12],[124,16,124,20],[140,4,140,5],[140,11,140,12]]}
[null,2021,"STANDINGS"]
[null,null,null,null,null,null,null,null,null,null,null,null,null,null,null,null,"CURRENT WEEK RESULTS"]
[null,"WEEK ENDING "," ","2021-08-22",null,null,null," ",null,null,null,"WEEK",20,"AUGUST",null," "]
[null,null,null,null,null,null,null,null,null,null,null,null,null,null,null,null,null,null,"MIKE",null,null,null,"JOHN",null,null,null,"LARRY",null,null,null,0]
[null,null,"CURRENT WEEK-SEASON TO DATE",null,null,null,"PREVIOUS WEEK-SEASON TO DATE",null,null,null,null,"CURRENT WEEK TOTALS",null,null,null,null,null,null,"RANK","W","L","PCT","RANK","W","L","PCT","RANK","W","L","PCT","RANK","W","L","PCT"]
[null,null,null,null,null,null,null,null,null,null,null,null,null,null,null,null,null,null,"Twins",2,4,0.33333333333333331,"White Sox",4,3,0.5714285714285714,"Astros",3,4,0.42857142857142855,0,{"$error":"#N/A"},{"$error":"#N/A"},{"$error":"#N/A"}]
[null,"American League",null,null,null,null,"AL EAST",null,null,null,"Times","AL EAST",null,null,null,null,null,null,"Red Sox",1,4,0.2,"Astros",3,4,0.42857142857142855,"Dodgers",6,1,0.8571428571428571,0,{"$error":"#N/A"},{"$error":"#N/A"},{"$error":"#N/A"}]
[null,"East","W","L","PCT","Rank","TEAM","W","L","PCT","Picked","TEAM","W","L","PCT","Rank",null,null,"Astros",3,4,0.42857142857142855,"Brewers",4,2,0.66666666666666663,"White Sox",4,3,0.5714285714285714,0,{"$error":"#N/A"},{"$error":"#N/A"},{"$error":"#N/A"}]
[null,"Orioles",38,85,0.30894308943089432,5,"BALTIMORE",38,78,0.32758620689655171,0,"Orioles",0,7,0,5,null,null,"Mets",2,5,0.2857142857142857,"Phillies",2,4,0.33333333333333331,"Brewers",4,2,0.66666666666666663,0,{"$error":"#N/A"},{"$error":"#N/A"},{"$error":"#N/A"}]
[null,"Red Sox",70,55,0.56000000000000005,3,"BOSTON",69,51,0.57499999999999996,3,"Red Sox",1,4,0.2,3,null,null,"Brewers",4,2,0.66666666666666663,"Rays",6,1,0.8571428571428571,"Yankees",7,0,1,0,{"$error":"#N/A"},{"$error":"#N/A"},{"$error":"#N/A"}]
[null,"Yankees",72,52,0.58064516129032262,2,"NEW YORK",65,52,0.55555555555555558,2,"Yankees",7,0,1,1,null,null,"Padres",1,5,0.16666666666666666,"Rockies",5,1,0.83333333333333337,"Phillies",2,4,0.33333333333333331,0,{"$error":"#N/A"},{"$error":"#N/A"},{"$error":"#N/A"}]
[null,"Rays",77,48,0.61599999999999999,1,"TAMPA BAY",71,47,0.60169491525423724,3,"Rays",6,1,0.8571428571428571,2,"WEEKLY TOTAL",null,null,13,24,0.35135135135135137,null,24,15,0.61538461538461542,null,26,14,0.65,null,{"$error":"#N/A"},{"$error":"#N/A"},{"$error":"#N/A"}]
[null,"Blue Jays",64,58,0.52459016393442626,4,"TORONTO",63,54,0.53846153846153844,1,"Blue Jays",1,4,0.2,3,"PREV WEEK TO DATE",null,"  ",381,329,0.53661971830985911,null,366,346,0.5140449438202247,null,402,309,0.56540084388185652,null,{"$error":"#N/A"},{"$error":"#N/A"},{"$error":"#N/A"}]
[null,null,null," ",null,null,null,null," ",null,null,null,null,null,null,null,"CUR TOTAL TO DATE",null,"  ",394,353,0.52744310575635878,null,390,361,0.51930758988015979,null,428,323,0.56990679094540608,null,{"$error":"#N/A"},{"$error":"#N/A"},{"$error":"#N/A"}]
[null,null,null," ",null,null,"AL CENTRAL",null," ",null,null,"AL CENTRAL"]
[null,"Central","W","L","PCT",null,"TEAM","W","L","PCT",null,"TEAM","W","L","PCT"]
[null,"White Sox",72,53,0.57599999999999996,1,"CHICAGO",68,50,0.57627118644067798,7,"White Sox",4,3,0.5714285714285714,3,"SEASON TLT TO DATE",null,"  ",342,294,0.53773584905660377,null,327,312,0.51173708920187788,null,353,285,0.55329153605015668,null,{"$error":"#N/A"},{"$error":"#N/A"},{"$error":"#N/A"}]
[null,"Indians",61,61,0.5,2,"CLEVELAND",57,59,0.49137931034482757,0,"Indians",4,2,0.66666666666666663,2,"AUGUST TOTAL TO DATE",null,null,52,59,0.46846846846846846,null,63,49,0.5625,null,75,38,0.66371681415929207,null,{"$error":"#N/A"},{"$error":"#N/A"},{"$error":"#N/A"}]
[null,"Tigers",60,66,0.47619047619047616,3,"DETROIT",58,62,0.48333333333333334,0,"Tigers",2,4,0.33333333333333331,4]
[null,"Royals",55,68,0.44715447154471544,4,"KANSAS CITY",49,67,0.42241379310344829,0,"Royals",6,1,0.8571428571428571,1]
[null,"Twins",54,70,0.43548387096774194,5,"MINNESOTA",52,66,0.44067796610169491,2,"Twins",2,4,0.33333333333333331,4,null,null,"JIM T.",null,null,null,"JEAN",null,null,null,"DIANE",null,null,null,0]
[null,null,null," ",null,null,null,null," ",null,null,null,null,null,null,null,null,null,"RANK","W","L","PCT","RANK","W","L","PCT","RANK","W","L","PCT","RANK","W","L","PCT"]
[null,null,null," ",null,null,"AL WEST",null," ",null,null,"AL WEST",null,null,null,null,null,null,"Yankees",7,0,1,"Phillies",2,4,0.33333333333333331,"Red Sox",1,4,0.2,0,{"$error":"#N/A"},{"$error":"#N/A"},{"$error":"#N/A"}]
[null,"West","W","L","PCT",null,"TEAM","W","L","PCT",null,"TEAM","W","L","PCT",null,null,null,"White Sox",4,3,0.5714285714285714,"White Sox",4,3,0.5714285714285714,"Brewers",4,2,0.66666666666666663,0,{"$error":"#N/A"},{"$error":"#N/A"},{"$error":"#N/A"}]
[null,"Angels",62,64,0.49206349206349204,4,"LOS ANGELES",59,60,0.49579831932773111,0,"Angels",3,4,0.42857142857142855,2,null,null,"Astros",3,4,0.42857142857142855,"Astros",3,4,0.42857142857142855,"White Sox",4,3,0.5714285714285714,0,{"$error":"#N/A"},{"$error":"#N/A"},{"$error":"#N/A"}]
[null,"Athletics",70,55,0.56000000000000005,2,"OAKLAND",68,50,0.57627118644067798,2,"Athletics",2,5,0.2857142857142857,4,null,null,"Mets",2,5,0.2857142857142857,"Dodgers",6,1,0.8571428571428571,"Mets",2,5,0.2857142857142857,0,{"$error":"#N/A"},{"$error":"#N/A"},{"$error":"#N/A"}]
[null,"Mariners",67,58,0.53600000000000003,3,"SEATTLE",63,56,0.52941176470588236,1,"Mariners",4,2,0.66666666666666663,1,null,null,"Brewers",4,2,0.66666666666666663,"Brewers",4,2,0.66666666666666663,"Dodgers",6,1,0.8571428571428571,0,{"$error":"#N/A"},{"$error":"#N/A"},{"$error":"#N/A"}]
[null,"Rangers",43,80,0.34959349593495936,5,"TEXAS",42,76,0.3559322033898305,0,"Rangers",1,4,0.2,5,null,null,"Giants",4,2,0.66666666666666663,"Red Sox",1,4,0.2,"Mariners",4,2,0.66666666666666663,0,{"$error":"#N/A"},{"$error":"#N/A"},{"$error":"#N/A"}]
[null,"Astros",73,51,0.58870967741935487,1,"HOUSTON",70,47,0.59829059829059827,6,"Astros",3,4,0.42857142857142855,2,"WEEKLY TOTAL",null,null,24,16,0.6,null,20,18,0.52631578947368418,null,21,17,0.55263157894736847,null,{"$error":"#N/A"},{"$error":"#N/A"},{"$error":"#N/A"}]
[null,null,null,null,null,null,null,null,null,null,null,null,null,null,null,null,"PREV WEEK TO DATE",null,null,388,322,0.54647887323943667,null,358,341,0.51216022889842627,null,373,335,0.5268361581920904,null,{"$error":"#N/A"},{"$error":"#N/A"},{"$error":"#N/A"}]
[null,"National League",null," ",null,null,"NL EAST",null," ",null,null,"NL EAST",null,null,null,null,"CUR TOTAL TO DATE",null,null,412,338,0.54933333333333334,null,378,359,0.51289009497964722,null,394,352,0.52815013404825739,null,{"$error":"#N/A"},{"$error":"#N/A"},{"$error":"#N/A"}]
[null,"East","W","L","PCT",null,"TEAM","W","L","PCT",null,"TEAM","W","L","PCT"]
[null,"Braves",68,56,0.54838709677419351,1,"ATLANTA",62,56,0.52542372881355937,0,"Braves",6,0,1,1]
[null,"Marlins",51,74,0.40799999999999997,5,"Miami",51,67,0.43220338983050849,0,"Marlins",0,7,0,5,"SEASON TLT TO DATE",null,null,344,291,0.54173228346456692,null,314,312,0.50159744408945683,null,333,300,0.52606635071090047,null,{"$error":"#N/A"},{"$error":"#N/A"},{"$error":"#N/A"}]
[null,"Mets",61,63,0.49193548387096775,3,"NEW YORK",59,58,0.50427350427350426,4,"Mets",2,5,0.2857142857142857,4,"AUGUST TOTAL TO DATE",null,null,68,47,0.59130434782608698,null,64,47,0.57657657657657657,null,61,52,0.53982300884955747,null,{"$error":"#N/A"},{"$error":"#N/A"},{"$error":"#N/A"}]
[null,"Phillies",63,61,0.50806451612903225,2,"PHILADELPHIA",61,57,0.51694915254237284,5,"Phillies",2,4,0.33333333333333331,3]
[null,"Nationals",53,70,0.43089430894308944,4,"WASHINGTON",50,68,0.42372881355932202,0,"Nationals",3,2,0.6,2]
[null,null,null," ",null,null,null,null," ",null,null,null,null,null,null,null,null,null,"JIM K.",null,null,null,"TIM",null,null,null,"-----",null,null,null,0]
[null,null,null," ",null,null,"NL CENTRAL",null," ",null,null,"NL CENTRAL",null,null,null,null,null,null,"RANK","W","L","PCT","RANK","W","L","PCT","RANK","W","L","PCT","RANK","W","L","PCT"]
[null,"Central","W","L","PCT",null,"TEAM","W","L","PCT",null,"TEAM","W","L","PCT",null,null,null,"Giants",4,2,0.66666666666666663,"Giants",4,2,0.66666666666666663,null,null,null,null,0,{"$error":"#N/A"},{"$error":"#N/A"},{"$error":"#N/A"}]
[null,"Cubs",54,72,0.42857142857142855,4,"CHICAGO",52,68,0.43333333333333335,0,"Cubs",2,4,0.33333333333333331,3,null,null,"Rays",6,1,0.8571428571428571,"Rays",6,1,0.8571428571428571,null,null,null,null,0,{"$error":"#N/A"},{"$error":"#N/A"},{"$error":"#N/A"}]
[null,"Reds",69,57,0.54761904761904767,2,"CINCINNATI",64,55,0.53781512605042014,1,"Reds",5,2,0.7142857142857143,1,null,null,"Brewers",4,2,0.66666666666666663,"Astros",3,4,0.42857142857142855,null,null,null,null,0,{"$error":"#N/A"},{"$error":"#N/A"},{"$error":"#N/A"}]
[null,"Brewers",76,49,0.60799999999999998,1,"MILWAUKEE",72,47,0.60504201680672265,8,"Brewers",4,2,0.66666666666666663,2,null,null,"White Sox",4,3,0.5714285714285714,"White Sox",4,3,0.5714285714285714,null,null,null,null,0,{"$error":"#N/A"},{"$error":"#N/A"},{"$error":"#N/A"}]
[null,"Pirates",44,80,0.35483870967741937,5,"PITTSBURGH",42,76,0.3559322033898305,0,"Pirates",2,4,0.33333333333333331,3,null,null,"Athletics",2,5,0.2857142857142857,"Reds",5,2,0.7142857142857143,null,null,null,null,0,{"$error":"#N/A"},{"$error":"#N/A"},{"$error":"#N/A"}]
[null,"Cardinals",63,60,0.51219512195121952,3,"ST LOUIS",61,56,0.5213675213675214,0,"Cardinals",2,4,0.33333333333333331,3,null,null,"Phillies",2,4,0.33333333333333331,"Phillies",2,4,0.33333333333333331,null,null,null,null,0,{"$error":"#N/A"},{"$error":"#N/A"},{"$error":"#N/A"}]
[null,null,null," ",null,null,null,null," ",null,null,null,null,null,null,null,"WEEKLY TOTAL",null,null,22,17,0.5641025641025641,null,24,16,0.6,null,0,30,"",null,{"$error":"#N/A"},{"$error":"#N/A"},{"$error":"#N/A"}]
[null,null,null," ",null,null,"NL WEST",null," ",null,null,"NL WEST",null,null,null,null,"PREV WEEK TO DATE",null,null,365,340,0.51773049645390068,null,378,339,0.52719665271966532,null,0,580,"",null,{"$error":"#N/A"},{"$error":"#N/A"},{"$error":"#N/A"}]
[null,"West","W","L","PCT",null,"TEAM","W","L","PCT",null,"TEAM","W","L","PCT",null,"CUR TOTAL TO DATE",null,null,387,357,0.52016129032258063,null,402,355,0.53104359313077942,null,0,610,"",null,{"$error":"#N/A"},{"$error":"#N/A"},{"$error":"#N/A"}]
[null,"Diamondbacks",42,83,0.33600000000000002,5,"ARIZONA",38,81,0.31932773109243695,0,"Diamondbacks",4,2,0.66666666666666663,3]
[null,"Rockies",57,67,0.45967741935483869,4,"COLORADO",52,66,0.44067796610169491,1,"Rockies",5,1,0.83333333333333337,2]
[null,"Dodgers",78,47,0.624,2,"LOS ANGELES",72,46,0.61016949152542377,3,"Dodgers",6,1,0.8571428571428571,1,"SEASON TLT TO DATE",null,null,317,312,0.50397456279809216,null,332,311,0.51632970451010884,null,0,520,"",null,{"$error":"#N/A"},{"$error":"#N/A"},{"$error":"#N/A"}]
[null,"Padres",68,58,0.53968253968253965,3,"SAN DIEGO",67,53,0.55833333333333335,2,"Padres",1,5,0.16666666666666666,5,"AUGUST TOTAL TO DATE",null,null,70,45,0.60869565217391308,null,70,44,0.61403508771929827,null,0,90,"",null,{"$error":"#N/A"},{"$error":"#N/A"},{"$error":"#N/A"}]
[null,"Giants",80,44,0.64516129032258063,1,"SAN FRANCISCO",76,42,0.64406779661016944,3,"Giants",4,2,0.66666666666666663,3]
[null,null,null,null,null,null,null,null,null,null,null,null,94,94]
[null,null,null,"2021-08-24"," Morning"]
[]
[null,null,"WEEK 20"]
[null," ","NAME","W","L","PCT","GB"]
[null,null,"LARRY",26,14,0.65,0]
[null," ","JOHN",24,15,0.61538461538461542,1.5]
[null," ","JIM T.",24,16,0.6,2]
[null," ","TIM",24,16,0.6,2]
[null," ","JIM K.",22,17,0.5641025641025641,3.5]
[null,null,"DIANE",21,17,0.55263157894736847,4]
[null,null,"JEAN",20,18,0.52631578947368418,5]
[null,null,"MIKE",13,24,0.35135135135135137,11.5]
[null,null,"-----",0,30,0,"-----"]
[null,null,"","","","",""]
[null,null,"","","","",""]
[null,null,"","","","",""]
[]
[null,null,"MONTH OF  AUGUST"]
[null,null,"NAME","W","L","PCT","GB"]
[null,null,"LARRY",75,38,0.66371681415929207,0]
[null,null,"TIM",70,44,0.61403508771929827,5.5]
[null,null,"JIM K.",70,45,0.60869565217391308,6]
[null,null,"JIM T.",68,47,0.59130434782608698,8]
[null,null,"JEAN",64,47,0.57657657657657657,10]
[null,null,"JOHN",63,49,0.5625,11.5]
[null,null,"DIANE",61,52,0.53982300884955747,14]
[null,null,"MIKE",52,59,0.46846846846846846,22]
[null,null,"-----",0,90,0,"-----"]
[null,null,"","","","",""]
[null,null,"","","","",""]
[null,null,"","","","",""]
[null,null,2021,null,"SEASON"]
[null,null,"NAME","W","L","PCT","GB"]
[null,null,"LARRY",428,323,0.56990679094540608,0]
[null,null,"JIM T.",412,338,0.54933333333333334,15.5]
[null,null,"TIM",402,355,0.53104359313077942,29]
[null,null,"DIANE",394,352,0.52815013404825739,31.5]
[null,null,"MIKE",394,353,0.52744310575635878,32]
[null,null,"JIM K.",387,357,0.52016129032258063,37.5]
[null,null,"JOHN",390,361,0.51930758988015979,38]
[null,null,"JEAN",378,359,0.51289009497964722,43,null," "]
[null,null,"-----",0,610,0,"-----",null," "]
[null,null,"","","","","",null," "]
[null,null,"","","","",""]
[null,null,"","","","",""]
[]
[]
[]
[]
[]
[]
[]
[null,null,null,null,"CURRENT WEEK",null,null,null,null,null,null,"THIS WEEK"]
[null,null,"WEEK ENDING",null,"THIS WEEK","SEASON",null,null,null,null,null,"AL",null,"RANK"]
[null,null,"2021-08-22",null,"RANK","RANK",null,null,null,null,null,"NEW YORK A",1,1]
[null,null,"ATLANTA",1,1,10,null,null,null,null,null,"TAMPA BAY",0.8571428571428571,2]
[null,null,"NEW YORK A",1,1,6,null,null,null,null,null,"KANSAS CITY",0.8571428571428571,2]
[null,null,"LOS ANGELES N",0.8571428571428571,3,2,null,null,null,null,null,"SEATTLE",0.66666666666666663,4]
[null,null,"TAMPA BAY",0.8571428571428571,3,3,null,null,null,null,null,"CLEVELAND",0.66666666666666663,4]
[null,null,"KANSAS CITY",0.8571428571428571,3,22,null,null,null,null,null,"CHICAGO A",0.5714285714285714,6]
[null,null,"COLORADO",0.83333333333333337,6,21,null,null,null,null,null,"LOS ANGELES A",0.42857142857142855,7]
[null,null,"CINCINNATI",0.7142857142857143,7,11,null,null,null,null,null,"HOUSTON",0.42857142857142855,7]
[null,null,"SEATTLE",0.66666666666666663,8,13,null,null,null,null,null,"MINNESOTA",0.33333333333333331,9]
[null,null,"ARIZONA",0.66666666666666663,8,29,null,null,null,null,null,"DETROIT",0.33333333333333331,9]
[null,null,"MILWAUKEE",0.66666666666666663,8,4,null,null,null,null,null,"OAKLAND",0.2857142857142857,11]
[null,null,"SAN FRANCISCO",0.66666666666666663,8,1,null,null,null,null,null,"TORONTO",0.2,12]
[null,null,"CLEVELAND",0.66666666666666663,8,17,null,null,null,null,null,"BOSTON",0.2,12]
[null,null,"WASHINGTON",0.6,13,24,null,null,null,null,null,"TEXAS",0.2,12]
[null,null,"CHICAGO A",0.5714285714285714,14,7,null,null,null,null,null,"BALTIMORE",0,15]
[null,null,"LOS ANGELES A",0.42857142857142855,15,18,null,null,null,null,null,"NL"]
[null,null,"HOUSTON",0.42857142857142855,15,5,null,null,null,null,null,"ATLANTA",1,1]
[null,null,"CHICAGO N",0.33333333333333331,17,25,null,null,null,null,null,"LOS ANGELES N",0.8571428571428571,2]
[null,null,"PITTSBURGH",0.33333333333333331,17,27,null,null,null,null,null,"COLORADO",0.83333333333333337,3]
[null,null,"MINNESOTA",0.33333333333333331,17,23,null,null,null,null,null,"CINCINNATI",0.7142857142857143,4]
[null,null,"ST LOUIS",0.33333333333333331,17,15,null,null,null,null,null,"ARIZONA",0.66666666666666663,5]
[null,null,"DETROIT",0.33333333333333331,17,20,null,null,null,null,null,"MILWAUKEE",0.66666666666666663,5]
[null,null,"PHILADELPHIA",0.33333333333333331,17,16,null,null,null,null,null,"SAN FRANCISCO",0.66666666666666663,5]
[null,null,"OAKLAND",0.2857142857142857,23,8,null,null,null,null,null,"WASHINGTON",0.6,8]
[null,null,"NEW YORK N",0.2857142857142857,23,19,null,null,null,null,null,"CHICAGO N",0.33333333333333331,9]
[null,null,"TORONTO",0.2,25,14,null,null,null,null,null,"PITTSBURGH",0.33333333333333331,9]
[null,null,"BOSTON",0.2,25,8,null,null,null,null,null,"ST LOUIS",0.33333333333333331,9]
[null,null,"TEXAS",0.2,25,28,null,null,null,null,null,"PHILADELPHIA",0.33333333333333331,9]
[null,null,"SAN DIEGO",0.16666666666666666,28,12,null,null,null,null,null,"NEW YORK N",0.2857142857142857,13]
[null,null,"MIAMI",0,29,26,null,null,null,null,null,"SAN DIEGO",0.16666666666666666,14]
[null,null,"BALTIMORE",0,29,30,null,null,null,null,null,"MIAMI",0,15]
[]
[null,null,null,null,"SEASON TO DATE",null,null,null,null,null,null,"SEASON TO DATE"]
[null,null,null,null,null,null,null,null,null,null,null,"AL"]
[null,null,"SEASON TO-DATE",null,"RANK",null,null,null,null,null,null,"TAMPA BAY",0.61599999999999999,1]
[null,null,"SAN FRANCISCO",0.64516129032258063,1,null,null,null,null,null,null,"HOUSTON",0.58870967741935487,2]
[null,null,"LOS ANGELES N",0.624,2,null,null,null,null,null,null,"NEW YORK A",0.58064516129032262,3]
[null,null,"TAMPA BAY",0.61599999999999999,3,null,null,null,null,null,null,"CHICAGO A",0.57599999999999996,4]
[null,null,"MILWAUKEE",0.60799999999999998,4,null,null,null,null,null,null,"OAKLAND",0.56000000000000005,5]
[null,null,"HOUSTON",0.58870967741935487,5,null,null,null,null,null,null,"BOSTON",0.56000000000000005,5]
[null,null,"NEW YORK A",0.58064516129032262,6,null,null,null,null,null,null,"SEATTLE",0.53600000000000003,7]
[null,null,"CHICAGO A",0.57599999999999996,7,null,null,null,null,null,null,"TORONTO",0.52459016393442626,8]
[null,null,"OAKLAND",0.56000000000000005,8,null,null,null,null,null,null,"CLEVELAND",0.5,9]
[null,null,"BOSTON",0.56000000000000005,8,null,null,null,null,null,null,"LOS ANGELES A",0.49206349206349204,10]
[null,null,"ATLANTA",0.54838709677419351,10,null,null,null,null,null,null,"DETROIT",0.47619047619047616,11]
[null,null,"CINCINNATI",0.54761904761904767,11,null,null,null,null,null,null,"KANSAS CITY",0.44715447154471544,12]
[null,null,"SAN DIEGO",0.53968253968253965,12,null,null,null,null,null,null,"MINNESOTA",0.43548387096774194,13]
[null,null,"SEATTLE",0.53600000000000003,13,null,null,null,null,null,null,"TEXAS",0.34959349593495936,14]
[null,null,"TORONTO",0.52459016393442626,14,null,null,null,null,null,null,"BALTIMORE",0.30894308943089432,15]
[null,null,"ST LOUIS",0.51219512195121952,15,null,null,null,null,null,null,"NL"]
[null,null,"PHILADELPHIA",0.50806451612903225,16,null,null,null,null,null,null,"SAN FRANCISCO",0.64516129032258063,1]
[null,null,"CLEVELAND",0.5,17,null,null,null,null,null,null,"LOS ANGELES N",0.624,2]
[null,null,"LOS ANGELES A",0.49206349206349204,18,null,null,null,null,null,null,"MILWAUKEE",0.60799999999999998,3]
[null,null,"NEW YORK N",0.49193548387096775,19,null,null,null,null,null,null,"ATLANTA",0.54838709677419351,4]
[null,null,"DETROIT",0.47619047619047616,20,null,null,null,null,null,null,"CINCINNATI",0.54761904761904767,5]
[null,null,"COLORADO",0.45967741935483869,21,null,null,null,null,null,null,"SAN DIEGO",0.53968253968253965,6]
[null,null,"KANSAS CITY",0.44715447154471544,22,null,null,null,null,null,null,"ST LOUIS",0.51219512195121952,7]
[null,null,"MINNESOTA",0.43548387096774194,23,null,null,null,null,null,null,"PHILADELPHIA",0.50806451612903225,8]
[null,null,"WASHINGTON",0.43089430894308944,24,null,null,null,null,null,null,"NEW YORK N",0.49193548387096775,9]
[null,null,"CHICAGO N",0.42857142857142855,25,null,null,null,null,null,null,"COLORADO",0.45967741935483869,10]
[null,null,"MIAMI",0.40799999999999997,26,null,null,null,null,null,null,"WASHINGTON",0.43089430894308944,11]
[null,null,"PITTSBURGH",0.35483870967741937,27,null,null,null,null,null,null,"CHICAGO N",0.42857142857142855,12]
[null,null,"TEXAS",0.34959349593495936,28,null,null,null,null,null,null,"MIAMI",0.40799999999999997,13]
[null,null,"ARIZONA",0.33600000000000002,29,null,null,null,null,null,null,"PITTSBURGH",0.35483870967741937,14]

{"sheet":"15-Aug","index":19,"n_rows":172,"n_cols":34,"rows_kept":172,"cut":false,"hidden":false,"merged":[[1,16,1,33],[2,13,2,14],[3,18,3,21],[3,22,3,25],[3,26,3,29],[3,30,3,33],[20,30,20,33],[4,2,4,4],[4,6,4,9],[4,11,4,14],[11,16,11,17],[12,16,12,17],[13,16,13,17],[16,16,16,17],[17,16,17,17],[20,18,20,21],[20,22,20,25],[20,26,20,29],[47,16,47,17],[28,16,28,17],[29,16,29,17],[30,16,30,17],[33,16,33,17],[34,16,34,17],[37,22,37,25],[37,26,37,29],[37,30,37,33],[45,16,45,17],[46,16,46,17],[37,18,37,21],[50,16,50,17],[51,16,51,17],[56,2,56,6],[71,2,71,6],[85,2,85,3],[85,4,85,5],[94,9,94,13],[95,9,95,13],[102,16,102,20],[106,4,106,5],[107,2,107,3],[107,11,107,12],[141,11,141,12],[142,2,142,3],[157,11,157,12],[108,2,108,3],[113,16,113,20],[123,11,123,12],[124,16,124,20],[140,4,140,5],[140,11,140,12]]}
[null,2021,"STANDINGS"]
[null,null,null,null,null,null,null,null,null,null,null,null,null,null,null,null,"CURRENT WEEK RESULTS"]
[null,"WEEK ENDING "," ","2021-08-15",null,null,null," ",null,null,null,"WEEK",19,"AUGUST",null," "]
[null,null,null,null,null,null,null,null,null,null,null,null,null,null,null,null,null,null,"MIKE",null,null,null,"JOHN",null,null,null,"LARRY",null,null,null,0]
[null,null,"CURRENT WEEK-SEASON TO DATE",null,null,null,"PREVIOUS WEEK-SEASON TO DATE",null,null,null,null,"CURRENT WEEK TOTALS",null,null,null,null,null,null,"RANK","W","L","PCT","RANK","W","L","PCT","RANK","W","L","PCT","RANK","W","L","PCT"]
[null,null,null,null,null,null,null,null,null,null,null,null,null,null,null,null,null,null,"Twins",4,2,0.66666666666666663,"White Sox",2,4,0.33333333333333331,"Athletics",4,2,0.66666666666666663,0,{"$error":"#N/A"},{"$error":"#N/A"},{"$error":"#N/A"}]
[null,"American League",null,null,null,null,"AL EAST",null,null,null,"Times","AL EAST",null,null,null,null,null,null,"Red Sox",4,2,0.66666666666666663,"Athletics",4,2,0.66666666666666663,"Dodgers",5,1,0.83333333333333337,0,{"$error":"#N/A"},{"$error":"#N/A"},{"$error":"#N/A"}]
[null,"East","W","L","PCT","Rank","TEAM","W","L","PCT","Picked","TEAM","W","L","PCT","Rank",null,null,"Astros",4,1,0.8,"Brewers",6,1,0.8571428571428571,"White Sox",2,4,0.33333333333333331,0,{"$error":"#N/A"},{"$error":"#N/A"},{"$error":"#N/A"}]
[null,"Orioles",38,78,0.32758620689655171,5,"BALTIMORE",38,72,0.34545454545454546,0,"Orioles",0,6,0,5,null,null,"Mets",3,3,0.5,"Phillies",2,4,0.33333333333333331,"Brewers",6,1,0.8571428571428571,0,{"$error":"#N/A"},{"$error":"#N/A"},{"$error":"#N/A"}]
[null,"Red Sox",69,51,0.57499999999999996,2,"BOSTON",65,49,0.57017543859649122,3,"Red Sox",4,2,0.66666666666666663,1,null,null,"Brewers",6,1,0.8571428571428571,"Rays",3,3,0.5,"Yankees",4,2,0.66666666666666663,0,{"$error":"#N/A"},{"$error":"#N/A"},{"$error":"#N/A"}]
[null,"Yankees",65,52,0.55555555555555558,3,"NEW YORK",61,50,0.5495495495495496,2,"Yankees",4,2,0.66666666666666663,1,null,null,"Padres",3,4,0.42857142857142855,"Rockies",1,5,0.16666666666666666,"Phillies",2,4,0.33333333333333331,0,{"$error":"#N/A"},{"$error":"#N/A"},{"$error":"#N/A"}]
[null,"Rays",71,47,0.60169491525423724,1,"TAMPA BAY",68,44,0.6071428571428571,3,"Rays",3,3,0.5,3,"WEEKLY TOTAL",null,null,24,13,0.64864864864864868,null,18,19,0.48648648648648651,null,23,14,0.6216216216216216,null,{"$error":"#N/A"},{"$error":"#N/A"},{"$error":"#N/A"}]
[null,"Blue Jays",63,54,0.53846153846153844,4,"TORONTO",60,50,0.54545454545454541,1,"Blue Jays",3,4,0.42857142857142855,4,"PREV WEEK TO DATE",null,"  ",357,316,0.53046062407132244,null,348,327,0.51555555555555554,null,379,295,0.56231454005934722,null,{"$error":"#N/A"},{"$error":"#N/A"},{"$error":"#N/A"}]
[null,null,null," ",null,null,null,null," ",null,null,null,null,null,null,null,"CUR TOTAL TO DATE",null,"  ",381,329,0.53661971830985911,null,366,346,0.5140449438202247,null,402,309,0.56540084388185652,null,{"$error":"#N/A"},{"$error":"#N/A"},{"$error":"#N/A"}]
[null,null,null," ",null,null,"AL CENTRAL",null," ",null,null,"AL CENTRAL"]
[null,"Central","W","L","PCT",null,"TEAM","W","L","PCT",null,"TEAM","W","L","PCT"]
[null,"White Sox",68,50,0.57627118644067798,1,"CHICAGO",66,46,0.5892857142857143,7,"White Sox",2,4,0.33333333333333331,4,"SEASON TLT TO DATE",null,"  ",342,294,0.53773584905660377,null,327,312,0.51173708920187788,null,353,285,0.55329153605015668,null,{"$error":"#N/A"},{"$error":"#N/A"},{"$error":"#N/A"}]
[null,"Indians",57,59,0.49137931034482757,2,"CLEVELAND",54,55,0.49541284403669728,0,"Indians",3,4,0.42857142857142855,3,"AUGUST TOTAL TO DATE",null,null,39,35,0.52702702702702697,null,39,34,0.53424657534246578,null,49,24,0.67123287671232879,null,{"$error":"#N/A"},{"$error":"#N/A"},{"$error":"#N/A"}]
[null,"Tigers",58,62,0.48333333333333334,3,"DETROIT",54,60,0.47368421052631576,0,"Tigers",4,2,0.66666666666666663,1]
[null,"Royals",49,67,0.42241379310344829,5,"KANSAS CITY",48,62,0.43636363636363634,0,"Royals",1,5,0.16666666666666666,5]
[null,"Twins",52,66,0.44067796610169491,4,"MINNESOTA",48,64,0.42857142857142855,2,"Twins",4,2,0.66666666666666663,1,null,null,"JIM T.",null,null,null,"JEAN",null,null,null,"DIANE",null,null,null,0]
[null,null,null," ",null,null,null,null," ",null,null,null,null,null,null,null,null,null,"RANK","W","L","PCT","RANK","W","L","PCT","RANK","W","L","PCT","RANK","W","L","PCT"]
[null,null,null," ",null,null,"AL WEST",null," ",null,null,"AL WEST",null,null,null,null,null,null,"Yankees",4,2,0.66666666666666663,"Phillies",2,4,0.33333333333333331,"Red Sox",4,2,0.66666666666666663,0,{"$error":"#N/A"},{"$error":"#N/A"},{"$error":"#N/A"}]
[null,"West","W","L","PCT",null,"TEAM","W","L","PCT",null,"TEAM","W","L","PCT",null,null,null,"White Sox",2,4,0.33333333333333331,"White Sox",2,4,0.33333333333333331,"Brewers",6,1,0.8571428571428571,0,{"$error":"#N/A"},{"$error":"#N/A"},{"$error":"#N/A"}]
[null,"Angels",59,60,0.49579831932773111,4,"LOS ANGELES",56,56,0.5,0,"Angels",3,4,0.42857142857142855,5,null,null,"Astros",4,1,0.8,"Astros",4,1,0.8,"White Sox",2,4,0.33333333333333331,0,{"$error":"#N/A"},{"$error":"#N/A"},{"$error":"#N/A"}]
[null,"Athletics",68,50,0.57627118644067798,2,"OAKLAND",64,48,0.5714285714285714,4,"Athletics",4,2,0.66666666666666663,2,null,null,"Mets",3,3,0.5,"Dodgers",5,1,0.83333333333333337,"Mets",3,3,0.5,0,{"$error":"#N/A"},{"$error":"#N/A"},{"$error":"#N/A"}]
[null,"Mariners",63,56,0.52941176470588236,3,"SEATTLE",59,54,0.52212389380530977,1,"Mariners",4,2,0.66666666666666663,2,null,null,"Brewers",6,1,0.8571428571428571,"Brewers",6,1,0.8571428571428571,"Dodgers",5,1,0.83333333333333337,0,{"$error":"#N/A"},{"$error":"#N/A"},{"$error":"#N/A"}]
[null,"Rangers",42,76,0.3559322033898305,5,"TEXAS",39,73,0.3482142857142857,0,"Rangers",3,3,0.5,4,null,null,"Giants",5,1,0.83333333333333337,"Red Sox",4,2,0.66666666666666663,"Mariners",4,2,0.66666666666666663,0,{"$error":"#N/A"},{"$error":"#N/A"},{"$error":"#N/A"}]
[null,"Astros",70,47,0.59829059829059827,1,"HOUSTON",66,46,0.5892857142857143,4,"Astros",4,1,0.8,1,"WEEKLY TOTAL",null,null,24,12,0.66666666666666663,null,23,13,0.63888888888888884,null,24,13,0.64864864864864868,null,{"$error":"#N/A"},{"$error":"#N/A"},{"$error":"#N/A"}]
[null,null,null,null,null,null,null,null,null,null,null,null,null,null,null,null,"PREV WEEK TO DATE",null,null,364,310,0.5400593471810089,null,335,328,0.50527903469079938,null,349,322,0.52011922503725783,null,{"$error":"#N/A"},{"$error":"#N/A"},{"$error":"#N/A"}]
[null,"National League",null," ",null,null,"NL EAST",null," ",null,null,"NL EAST",null,null,null,null,"CUR TOTAL TO DATE",null,null,388,322,0.54647887323943667,null,358,341,0.51216022889842627,null,373,335,0.5268361581920904,null,{"$error":"#N/A"},{"$error":"#N/A"},{"$error":"#N/A"}]
[null,"East","W","L","PCT",null,"TEAM","W","L","PCT",null,"TEAM","W","L","PCT"]
[null,"Braves",62,56,0.52542372881355937,1,"ATLANTA",57,55,0.5089285714285714,0,"Braves",5,1,0.83333333333333337,1]
[null,"Marlins",51,67,0.43220338983050849,4,"Miami",47,65,0.41964285714285715,0,"Marlins",4,2,0.66666666666666663,2,"SEASON TLT TO DATE",null,null,344,291,0.54173228346456692,null,314,312,0.50159744408945683,null,333,300,0.52606635071090047,null,{"$error":"#N/A"},{"$error":"#N/A"},{"$error":"#N/A"}]
[null,"Mets",59,58,0.50427350427350426,3,"NEW YORK",56,55,0.50450450450450446,4,"Mets",3,3,0.5,3,"AUGUST TOTAL TO DATE",null,null,44,31,0.58666666666666667,null,44,29,0.60273972602739723,null,40,35,0.53333333333333333,null,{"$error":"#N/A"},{"$error":"#N/A"},{"$error":"#N/A"}]
[null,"Phillies",61,57,0.51694915254237284,2,"PHILADELPHIA",59,53,0.5267857142857143,5,"Phillies",2,4,0.33333333333333331,4]
[null,"Nationals",50,68,0.42372881355932202,5,"WASHINGTON",50,62,0.44642857142857145,0,"Nationals",0,6,0,5]
[null,null,null," ",null,null,null,null," ",null,null,null,null,null,null,null,null,null,"JIM K.",null,null,null,"TIM",null,null,null,"-----",null,null,null,0]
[null,null,null," ",null,null,"NL CENTRAL",null," ",null,null,"NL CENTRAL",null,null,null,null,null,null,"RANK","W","L","PCT","RANK","W","L","PCT","RANK","W","L","PCT","RANK","W","L","PCT"]
[null,"Central","W","L","PCT",null,"TEAM","W","L","PCT",null,"TEAM","W","L","PCT",null,null,null,"Giants",5,1,0.83333333333333337,"Giants",5,1,0.83333333333333337,null,null,null,null,0,{"$error":"#N/A"},{"$error":"#N/A"},{"$error":"#N/A"}]
[null,"Cubs",52,68,0.43333333333333335,4,"CHICAGO",52,61,0.46017699115044247,0,"Cubs",0,7,0,5,null,null,"Rays",3,3,0.5,"Rays",3,3,0.5,null,null,null,null,0,{"$error":"#N/A"},{"$error":"#N/A"},{"$error":"#N/A"}]
[null,"Reds",64,55,0.53781512605042014,2,"CINCINNATI",61,51,0.5446428571428571,1,"Reds",3,4,0.42857142857142855,3,null,null,"Brewers",6,1,0.8571428571428571,"Astros",4,1,0.8,null,null,null,null,0,{"$error":"#N/A"},{"$error":"#N/A"},{"$error":"#N/A"}]
[null,"Brewers",72,47,0.60504201680672265,1,"MILWAUKEE",66,46,0.5892857142857143,8,"Brewers",6,1,0.8571428571428571,2,null,null,"White Sox",2,4,0.33333333333333331,"White Sox",2,4,0.33333333333333331,null,null,null,null,0,{"$error":"#N/A"},{"$error":"#N/A"},{"$error":"#N/A"}]
[null,"Pirates",42,76,0.3559322033898305,5,"PITTSBURGH",41,71,0.36607142857142855,0,"Pirates",1,5,0.16666666666666666,4,null,null,"Athletics",4,2,0.66666666666666663,"Reds",3,4,0.42857142857142855,null,null,null,null,0,{"$error":"#N/A"},{"$error":"#N/A"},{"$error":"#N/A"}]
[null,"Cardinals",61,56,0.5213675213675214,3,"ST LOUIS",55,56,0.49549549549549549,0,"Cardinals",6,0,1,1,null,null,"Phillies",2,4,0.33333333333333331,"Phillies",2,4,0.33333333333333331,null,null,null,null,0,{"$error":"#N/A"},{"$error":"#N/A"},{"$error":"#N/A"}]
[null,null,null," ",null,null,null,null," ",null,null,null,null,null,null,null,"WEEKLY TOTAL",null,null,22,15,0.59459459459459463,null,19,17,0.52777777777777779,null,0,30,"",null,{"$error":"#N/A"},{"$error":"#N/A"},{"$error":"#N/A"}]
[null,null,null," ",null,null,"NL WEST",null," ",null,null,"NL WEST",null,null,null,null,"PREV WEEK TO DATE",null,null,343,325,0.51347305389221554,null,359,322,0.52716593245227605,null,0,550,"",null,{"$error":"#N/A"},{"$error":"#N/A"},{"$error":"#N/A"}]
[null,"West","W","L","PCT",null,"TEAM","W","L","PCT",null,"TEAM","W","L","PCT",null,"CUR TOTAL TO DATE",null,null,365,340,0.51773049645390068,null,378,339,0.52719665271966532,null,0,580,"",null,{"$error":"#N/A"},{"$error":"#N/A"},{"$error":"#N/A"}]
[null,"Diamondbacks",38,81,0.31932773109243695,5,"ARIZONA",35,78,0.30973451327433627,0,"Diamondbacks",3,3,0.5,3]
[null,"Rockies",52,66,0.44067796610169491,4,"COLORADO",51,61,0.45535714285714285,1,"Rockies",1,5,0.16666666666666666,5]
[null,"Dodgers",72,46,0.61016949152542377,2,"LOS ANGELES",67,45,0.5982142857142857,3,"Dodgers",5,1,0.83333333333333337,1,"SEASON TLT TO DATE",null,null,317,312,0.50397456279809216,null,332,311,0.51632970451010884,null,0,520,"",null,{"$error":"#N/A"},{"$error":"#N/A"},{"$error":"#N/A"}]
[null,"Padres",67,53,0.55833333333333335,3,"SAN DIEGO",64,49,0.5663716814159292,2,"Padres",3,4,0.42857142857142855,4,"AUGUST TOTAL TO DATE",null,null,48,28,0.63157894736842102,null,46,28,0.6216216216216216,null,0,60,"",null,{"$error":"#N/A"},{"$error":"#N/A"},{"$error":"#N/A"}]
[null,"Giants",76,42,0.64406779661016944,1,"SAN FRANCISCO",71,41,0.6339285714285714,3,"Giants",5,1,0.83333333333333337,1]
[null,null,null,null,null,null,null,null,null,null,null,null,93,93]
[null,null,null,"2021-08-16"," Morning"]
[]
[null,null,"WEEK 19"]
[null," ","NAME","W","L","PCT","GB"]
[null,null,"JIM T.",24,12,0.66666666666666663,0]
[null," ","DIANE",24,13,0.64864864864864868,0.5]
[null," ","MIKE",24,13,0.64864864864864868,0.5]
[null," ","JEAN",23,13,0.63888888888888884,1]
[null," ","LARRY",23,14,0.6216216216216216,1.5]
[null,null,"JIM K.",22,15,0.59459459459459463,2.5]
[null,null,"TIM",19,17,0.52777777777777779,5]
[null,null,"JOHN",18,19,0.48648648648648651,6.5]
[null,null,"-----",0,30,0,"-----"]
[null,null,"","","","",""]
[null,null,"","","","",""]
[null,null,"","","","",""]
[]
[null,null,"MONTH OF  AUGUST"]
[null,null,"NAME","W","L","PCT","GB"]
[null,null,"LARRY",49,24,0.67123287671232879,0]
[null,null,"JIM K.",48,28,0.63157894736842102,2.5]
[null,null,"TIM",46,28,0.6216216216216216,3.5]
[null,null,"JEAN",44,29,0.60273972602739723,5]
[null,null,"JIM T.",44,31,0.58666666666666667,6]
[null,null,"JOHN",39,34,0.53424657534246578,10]
[null,null,"DIANE",40,35,0.53333333333333333,10]
[null,null,"MIKE",39,35,0.52702702702702697,10.5]
[null,null,"-----",0,60,0,"-----"]
[null,null,"","","","",""]
[null,null,"","","","",""]
[null,null,"","","","",""]
[null,null,2021,null,"SEASON"]
[null,null,"NAME","W","L","PCT","GB"]
[null,null,"LARRY",402,309,0.56540084388185652,0]
[null,null,"JIM T.",388,322,0.54647887323943667,13.5]
[null,null,"MIKE",381,329,0.53661971830985911,20.5]
[null,null,"TIM",378,339,0.52719665271966532,27]
[null,null,"DIANE",373,335,0.5268361581920904,27.5]
[null,null,"JIM K.",365,340,0.51773049645390068,34]
[null,null,"JOHN",366,346,0.5140449438202247,36.5]
[null,null,"JEAN",358,341,0.51216022889842627,38,null," "]
[null,null,"-----",0,580,0,"-----",null," "]
[null,null,"","","","","",null," "]
[null,null,"","","","",""]
[null,null,"","","","",""]
[]
[]
[]
[]
[]
[]
[]
[null,null,null,null,"CURRENT WEEK",null,null,null,null,null,null,"THIS WEEK"]
[null,null,"WEEK ENDING",null,"THIS WEEK","SEASON",null,null,null,null,null,"AL",null,"RANK"]
[null,null,"2021-08-15",null,"RANK","RANK",null,null,null,null,null,"HOUSTON",0.8,1]
[null,null,"ST LOUIS",1,1,15,null,null,null,null,null,"OAKLAND",0.66666666666666663,2]
[null,null,"MILWAUKEE",0.8571428571428571,2,3,null,null,null,null,null,"DETROIT",0.66666666666666663,2]
[null,null,"SAN FRANCISCO",0.83333333333333337,3,1,null,null,null,null,null,"SEATTLE",0.66666666666666663,2]
[null,null,"ATLANTA",0.83333333333333337,3,14,null,null,null,null,null,"MINNESOTA",0.66666666666666663,2]
[null,null,"LOS ANGELES N",0.83333333333333337,3,2,null,null,null,null,null,"NEW YORK A",0.66666666666666663,2]
[null,null,"HOUSTON",0.8,6,5,null,null,null,null,null,"BOSTON",0.66666666666666663,2]
[null,null,"OAKLAND",0.66666666666666663,7,6,null,null,null,null,null,"TAMPA BAY",0.5,8]
[null,null,"DETROIT",0.66666666666666663,7,20,null,null,null,null,null,"TEXAS",0.5,8]
[null,null,"SEATTLE",0.66666666666666663,7,13,null,null,null,null,null,"TORONTO",0.42857142857142855,10]
[null,null,"MINNESOTA",0.66666666666666663,7,21,null,null,null,null,null,"LOS ANGELES A",0.42857142857142855,10]
[null,null,"NEW YORK A",0.66666666666666663,7,10,null,null,null,null,null,"CLEVELAND",0.42857142857142855,10]
[null,null,"BOSTON",0.66666666666666663,7,8,null,null,null,null,null,"CHICAGO A",0.33333333333333331,13]
[null,null,"MIAMI",0.66666666666666663,7,24,null,null,null,null,null,"KANSAS CITY",0.16666666666666666,14]
[null,null,"NEW YORK N",0.5,14,17,null,null,null,null,null,"BALTIMORE",0,15]
[null,null,"TAMPA BAY",0.5,14,4,null,null,null,null,null,"NL"]
[null,null,"ARIZONA",0.5,14,30,null,null,null,null,null,"ST LOUIS",1,1]
[null,null,"TEXAS",0.5,14,27,null,null,null,null,null,"MILWAUKEE",0.8571428571428571,2]
[null,null,"SAN DIEGO",0.42857142857142855,18,9,null,null,null,null,null,"SAN FRANCISCO",0.83333333333333337,3]
[null,null,"TORONTO",0.42857142857142855,18,11,null,null,null,null,null,"ATLANTA",0.83333333333333337,3]
[null,null,"LOS ANGELES A",0.42857142857142855,18,18,null,null,null,null,null,"LOS ANGELES N",0.83333333333333337,3]
[null,null,"CLEVELAND",0.42857142857142855,18,19,null,null,null,null,null,"MIAMI",0.66666666666666663,6]
[null,null,"CINCINNATI",0.42857142857142855,18,12,null,null,null,null,null,"NEW YORK N",0.5,7]
[null,null,"CHICAGO A",0.33333333333333331,23,6,null,null,null,null,null,"ARIZONA",0.5,7]
[null,null,"PHILADELPHIA",0.33333333333333331,23,16,null,null,null,null,null,"SAN DIEGO",0.42857142857142855,9]
[null,null,"KANSAS CITY",0.16666666666666666,25,26,null,null,null,null,null,"CINCINNATI",0.42857142857142855,9]
[null,null,"COLORADO",0.16666666666666666,25,21,null,null,null,null,null,"PHILADELPHIA",0.33333333333333331,11]
[null,null,"PITTSBURGH",0.16666666666666666,25,27,null,null,null,null,null,"COLORADO",0.16666666666666666,12]
[null,null,"WASHINGTON",0,28,25,null,null,null,null,null,"PITTSBURGH",0.16666666666666666,12]
[null,null,"CHICAGO N",0,28,23,null,null,null,null,null,"WASHINGTON",0,14]
[null,null,"BALTIMORE",0,28,29,null,null,null,null,null,"CHICAGO N",0,14]
[]
[null,null,null,null,"SEASON TO DATE",null,null,null,null,null,null,"SEASON TO DATE"]
[null,null,null,null,null,null,null,null,null,null,null,"AL"]
[null,null,"SEASON TO-DATE",null,"RANK",null,null,null,null,null,null,"TAMPA BAY",0.60169491525423724,1]
[null,null,"SAN FRANCISCO",0.64406779661016944,1,null,null,null,null,null,null,"HOUSTON",0.59829059829059827,2]
[null,null,"LOS ANGELES N",0.61016949152542377,2,null,null,null,null,null,null,"CHICAGO A",0.57627118644067798,3]
[null,null,"MILWAUKEE",0.60504201680672265,3,null,null,null,null,null,null,"OAKLAND",0.57627118644067798,3]
[null,null,"TAMPA BAY",0.60169491525423724,4,null,null,null,null,null,null,"BOSTON",0.57499999999999996,5]
[null,null,"HOUSTON",0.59829059829059827,5,null,null,null,null,null,null,"NEW YORK A",0.55555555555555558,6]
[null,null,"CHICAGO A",0.57627118644067798,6,null,null,null,null,null,null,"TORONTO",0.53846153846153844,7]
[null,null,"OAKLAND",0.57627118644067798,6,null,null,null,null,null,null,"SEATTLE",0.52941176470588236,8]
[null,null,"BOSTON",0.57499999999999996,8,null,null,null,null,null,null,"LOS ANGELES A",0.49579831932773111,9]
[null,null,"SAN DIEGO",0.55833333333333335,9,null,null,null,null,null,null,"CLEVELAND",0.49137931034482757,10]
[null,null,"NEW YORK A",0.55555555555555558,10,null,null,null,null,null,null,"DETROIT",0.48333333333333334,11]
[null,null,"TORONTO",0.53846153846153844,11,null,null,null,null,null,null,"MINNESOTA",0.44067796610169491,12]
[null,null,"CINCINNATI",0.53781512605042014,12,null,null,null,null,null,null,"KANSAS CITY",0.42241379310344829,13]
[null,null,"SEATTLE",0.52941176470588236,13,null,null,null,null,null,null,"TEXAS",0.3559322033898305,14]
[null,null,"ATLANTA",0.52542372881355937,14,null,null,null,null,null,null,"BALTIMORE",0.32758620689655171,15]
[null,null,"ST LOUIS",0.5213675213675214,15,null,null,null,null,null,null,"NL"]
[null,null,"PHILADELPHIA",0.51694915254237284,16,null,null,null,null,null,null,"SAN FRANCISCO",0.64406779661016944,1]
[null,null,"NEW YORK N",0.50427350427350426,17,null,null,null,null,null,null,"LOS ANGELES N",0.61016949152542377,2]
[null,null,"LOS ANGELES A",0.49579831932773111,18,null,null,null,null,null,null,"MILWAUKEE",0.60504201680672265,3]
[null,null,"CLEVELAND",0.49137931034482757,19,null,null,null,null,null,null,"SAN DIEGO",0.55833333333333335,4]
[null,null,"DETROIT",0.48333333333333334,20,null,null,null,null,null,null,"CINCINNATI",0.53781512605042014,5]
[null,null,"COLORADO",0.44067796610169491,21,null,null,null,null,null,null,"ATLANTA",0.52542372881355937,6]
[null,null,"MINNESOTA",0.44067796610169491,21,null,null,null,null,null,null,"ST LOUIS",0.5213675213675214,7]
[null,null,"CHICAGO N",0.43333333333333335,23,null,null,null,null,null,null,"PHILADELPHIA",0.51694915254237284,8]
[null,null,"MIAMI",0.43220338983050849,24,null,null,null,null,null,null,"NEW YORK N",0.50427350427350426,9]
[null,null,"WASHINGTON",0.42372881355932202,25,null,null,null,null,null,null,"COLORADO",0.44067796610169491,10]
[null,null,"KANSAS CITY",0.42241379310344829,26,null,null,null,null,null,null,"CHICAGO N",0.43333333333333335,11]
[null,null,"PITTSBURGH",0.3559322033898305,27,null,null,null,null,null,null,"MIAMI",0.43220338983050849,12]
[null,null,"TEXAS",0.3559322033898305,27,null,null,null,null,null,null,"WASHINGTON",0.42372881355932202,13]
[null,null,"BALTIMORE",0.32758620689655171,29,null,null,null,null,null,null,"PITTSBURGH",0.3559322033898305,14]

{"sheet":"8-Aug","index":20,"n_rows":172,"n_cols":34,"rows_kept":172,"cut":false,"hidden":false,"merged":[[1,16,1,33],[2,13,2,14],[3,18,3,21],[3,22,3,25],[3,26,3,29],[3,30,3,33],[20,30,20,33],[4,2,4,4],[4,6,4,9],[4,11,4,14],[11,16,11,17],[12,16,12,17],[13,16,13,17],[16,16,16,17],[17,16,17,17],[20,18,20,21],[20,22,20,25],[20,26,20,29],[47,16,47,17],[28,16,28,17],[29,16,29,17],[30,16,30,17],[33,16,33,17],[34,16,34,17],[37,22,37,25],[37,26,37,29],[37,30,37,33],[45,16,45,17],[46,16,46,17],[37,18,37,21],[50,16,50,17],[51,16,51,17],[56,2,56,6],[71,2,71,6],[85,2,85,3],[85,4,85,5],[94,9,94,13],[95,9,95,13],[102,16,102,20],[106,4,106,5],[107,2,107,3],[107,11,107,12],[141,11,141,12],[142,2,142,3],[157,11,157,12],[108,2,108,3],[113,16,113,20],[123,11,123,12],[124,16,124,20],[140,4,140,5],[140,11,140,12]]}
[null,2021,"STANDINGS"]
[null,null,null,null,null,null,null,null,null,null,null,null,null,null,null,null,"CURRENT WEEK RESULTS"]
[null,"WEEK ENDING "," ","2021-08-08",null,null,null," ",null,null,null,"WEEK",18,"AUGUST",null," "]
[null,null,null,null,null,null,null,null,null,null,null,null,null,null,null,null,null,null,"MIKE",null,null,null,"JOHN",null,null,null,"LARRY",null,null,null,0]
[null,null,"CURRENT WEEK-SEASON TO DATE",null,null,null,"PREVIOUS WEEK-SEASON TO DATE",null,null,null,null,"CURRENT WEEK TOTALS",null,null,null,null,null,null,"RANK","W","L","PCT","RANK","W","L","PCT","RANK","W","L","PCT","RANK","W","L","PCT"]
[null,null,null,null,null,null,null,null,null,null,null,null,null,null,null,null,null,null,"Twins",4,2,0.66666666666666663,"White Sox",4,2,0.66666666666666663,"Athletics",4,1,0.8,0,{"$error":"#N/A"},{"$error":"#N/A"},{"$error":"#N/A"}]
[null,"American League",null,null,null,null,"AL EAST",null,null,null,"Times","AL EAST",null,null,null,null,null,null,"Red Sox",2,5,0.2857142857142857,"Athletics",4,1,0.8,"Dodgers",3,2,0.6,0,{"$error":"#N/A"},{"$error":"#N/A"},{"$error":"#N/A"}]
[null,"East","W","L","PCT","Rank","TEAM","W","L","PCT","Picked","TEAM","W","L","PCT","Rank",null,null,"Astros",2,4,0.33333333333333331,"Brewers",3,3,0.5,"White Sox",4,2,0.66666666666666663,0,{"$error":"#N/A"},{"$error":"#N/A"},{"$error":"#N/A"}]
[null,"Orioles",38,72,0.34545454545454546,5,"BALTIMORE",37,67,0.35576923076923078,0,"Orioles",1,5,0.16666666666666666,5,null,null,"Mets",1,6,0.14285714285714285,"Mets",1,6,0.14285714285714285,"Brewers",3,3,0.5,0,{"$error":"#N/A"},{"$error":"#N/A"},{"$error":"#N/A"}]
[null,"Red Sox",65,49,0.57017543859649122,2,"BOSTON",63,44,0.58878504672897192,3,"Red Sox",2,5,0.2857142857142857,4,null,null,"Brewers",3,3,0.5,"Rays",4,2,0.66666666666666663,"Yankees",5,2,0.7142857142857143,0,{"$error":"#N/A"},{"$error":"#N/A"},{"$error":"#N/A"}]
[null,"Yankees",61,50,0.5495495495495496,3,"NEW YORK",56,48,0.53846153846153844,2,"Yankees",5,2,0.7142857142857143,2,null,null,"Padres",3,2,0.6,"Rockies",5,1,0.83333333333333337,"Phillies",7,0,1,0,{"$error":"#N/A"},{"$error":"#N/A"},{"$error":"#N/A"}]
[null,"Rays",68,44,0.6071428571428571,1,"TAMPA BAY",64,42,0.60377358490566035,2,"Rays",4,2,0.66666666666666663,3,"WEEKLY TOTAL",null,null,15,22,0.40540540540540543,null,21,15,0.58333333333333337,null,26,10,0.72222222222222221,null,{"$error":"#N/A"},{"$error":"#N/A"},{"$error":"#N/A"}]
[null,"Blue Jays",60,50,0.54545454545454541,4,"TORONTO",54,48,0.52941176470588236,2,"Blue Jays",6,2,0.75,1,"PREV WEEK TO DATE",null,"  ",342,294,0.53773584905660377,null,327,312,0.51173708920187788,null,353,285,0.55329153605015668,null,{"$error":"#N/A"},{"$error":"#N/A"},{"$error":"#N/A"}]
[null,null,null," ",null,null,null,null," ",null,null,null,null,null,null,null,"CUR TOTAL TO DATE",null,"  ",357,316,0.53046062407132244,null,348,327,0.51555555555555554,null,379,295,0.56231454005934722,null,{"$error":"#N/A"},{"$error":"#N/A"},{"$error":"#N/A"}]
[null,null,null," ",null,null,"AL CENTRAL",null," ",null,null,"AL CENTRAL"]
[null,"Central","W","L","PCT",null,"TEAM","W","L","PCT",null,"TEAM","W","L","PCT"]
[null,"White Sox",66,46,0.5892857142857143,1,"CHICAGO",62,44,0.58490566037735847,6,"White Sox",4,2,0.66666666666666663,1,"SEASON TLT TO DATE",null,"  ",342,294,0.53773584905660377,null,327,312,0.51173708920187788,null,353,285,0.55329153605015668,null,{"$error":"#N/A"},{"$error":"#N/A"},{"$error":"#N/A"}]
[null,"Indians",54,55,0.49541284403669728,2,"CLEVELAND",51,51,0.5,0,"Indians",3,4,0.42857142857142855,5,"AUGUST TOTAL TO DATE",null,null,15,22,0.40540540540540543,null,21,15,0.58333333333333337,null,26,10,0.72222222222222221,null,{"$error":"#N/A"},{"$error":"#N/A"},{"$error":"#N/A"}]
[null,"Tigers",54,60,0.47368421052631576,3,"DETROIT",51,57,0.47222222222222221,0,"Tigers",3,3,0.5,3]
[null,"Royals",48,62,0.43636363636363634,4,"KANSAS CITY",45,59,0.43269230769230771,0,"Royals",3,3,0.5,3]
[null,"Twins",48,64,0.42857142857142855,5,"MINNESOTA",44,62,0.41509433962264153,3,"Twins",4,2,0.66666666666666663,1,null,null,"JIM T.",null,null,null,"JEAN",null,null,null,"DIANE",null,null,null,0]
[null,null,null," ",null,null,null,null," ",null,null,null,null,null,null,null,null,null,"RANK","W","L","PCT","RANK","W","L","PCT","RANK","W","L","PCT","RANK","W","L","PCT"]
[null,null,null," ",null,null,"AL WEST",null," ",null,null,"AL WEST",null,null,null,null,null,null,"Yankees",5,2,0.7142857142857143,"Phillies",7,0,1,"Red Sox",2,5,0.2857142857142857,0,{"$error":"#N/A"},{"$error":"#N/A"},{"$error":"#N/A"}]
[null,"West","W","L","PCT",null,"TEAM","W","L","PCT",null,"TEAM","W","L","PCT",null,null,null,"White Sox",4,2,0.66666666666666663,"White Sox",4,2,0.66666666666666663,"Brewers",3,3,0.5,0,{"$error":"#N/A"},{"$error":"#N/A"},{"$error":"#N/A"}]
[null,"Angels",56,56,0.5,4,"LOS ANGELES",52,53,0.49523809523809526,0,"Angels",4,3,0.5714285714285714,2,null,null,"Astros",2,4,0.33333333333333331,"Astros",2,4,0.33333333333333331,"White Sox",4,2,0.66666666666666663,0,{"$error":"#N/A"},{"$error":"#N/A"},{"$error":"#N/A"}]
[null,"Athletics",64,48,0.5714285714285714,2,"OAKLAND",60,47,0.56074766355140182,3,"Athletics",4,1,0.8,1,null,null,"Mets",1,6,0.14285714285714285,"Dodgers",3,2,0.6,"Mets",1,6,0.14285714285714285,0,{"$error":"#N/A"},{"$error":"#N/A"},{"$error":"#N/A"}]
[null,"Mariners",59,54,0.52212389380530977,3,"SEATTLE",56,50,0.52830188679245282,2,"Mariners",3,4,0.42857142857142855,3,null,null,"Brewers",3,3,0.5,"Brewers",3,3,0.5,"Dodgers",3,2,0.6,0,{"$error":"#N/A"},{"$error":"#N/A"},{"$error":"#N/A"}]
[null,"Rangers",39,73,0.3482142857142857,5,"TEXAS",38,67,0.3619047619047619,0,"Rangers",1,6,0.14285714285714285,5,null,null,"Giants",5,2,0.7142857142857143,"Red Sox",2,5,0.2857142857142857,"Mariners",3,4,0.42857142857142855,0,{"$error":"#N/A"},{"$error":"#N/A"},{"$error":"#N/A"}]
[null,"Astros",66,46,0.5892857142857143,1,"HOUSTON",64,42,0.60377358490566035,4,"Astros",2,4,0.33333333333333331,4,"WEEKLY TOTAL",null,null,20,19,0.51282051282051277,null,21,16,0.56756756756756754,null,16,22,0.42105263157894735,null,{"$error":"#N/A"},{"$error":"#N/A"},{"$error":"#N/A"}]
[null,null,null,null,null,null,null,null,null,null,null,null,null,null,null,null,"PREV WEEK TO DATE",null,null,344,291,0.54173228346456692,null,314,312,0.50159744408945683,null,333,300,0.52606635071090047,null,{"$error":"#N/A"},{"$error":"#N/A"},{"$error":"#N/A"}]
[null,"National League",null," ",null,null,"NL EAST",null," ",null,null,"NL EAST",null,null,null,null,"CUR TOTAL TO DATE",null,null,364,310,0.5400593471810089,null,335,328,0.50527903469079938,null,349,322,0.52011922503725783,null,{"$error":"#N/A"},{"$error":"#N/A"},{"$error":"#N/A"}]
[null,"East","W","L","PCT",null,"TEAM","W","L","PCT",null,"TEAM","W","L","PCT"]
[null,"Braves",57,55,0.5089285714285714,2,"ATLANTA",52,54,0.49056603773584906,1,"Braves",5,1,0.83333333333333337,2]
[null,"Marlins",47,65,0.41964285714285715,5,"Miami",44,61,0.41904761904761906,0,"Marlins",3,4,0.42857142857142855,3,"SEASON TLT TO DATE",null,null,344,291,0.54173228346456692,null,314,312,0.50159744408945683,null,333,300,0.52606635071090047,null,{"$error":"#N/A"},{"$error":"#N/A"},{"$error":"#N/A"}]
[null,"Mets",56,55,0.50450450450450446,3,"NEW YORK",55,49,0.52884615384615385,5,"Mets",1,6,0.14285714285714285,4,"AUGUST TOTAL TO DATE",null,null,20,19,0.51282051282051277,null,21,16,0.56756756756756754,null,16,22,0.42105263157894735,null,{"$error":"#N/A"},{"$error":"#N/A"},{"$error":"#N/A"}]
[null,"Phillies",59,53,0.5267857142857143,1,"PHILADELPHIA",52,53,0.49523809523809526,3,"Phillies",7,0,1,1]
[null,"Nationals",50,62,0.44642857142857145,4,"WASHINGTON",49,56,0.46666666666666667,0,"Nationals",1,6,0.14285714285714285,4]
[null,null,null," ",null,null,null,null," ",null,null,null,null,null,null,null,null,null,"JIM K.",null,null,null,"TIM",null,null,null,"-----",null,null,null,0]
[null,null,null," ",null,null,"NL CENTRAL",null," ",null,null,"NL CENTRAL",null,null,null,null,null,null,"RANK","W","L","PCT","RANK","W","L","PCT","RANK","W","L","PCT","RANK","W","L","PCT"]
[null,"Central","W","L","PCT",null,"TEAM","W","L","PCT",null,"TEAM","W","L","PCT",null,null,null,"Twins",4,2,0.66666666666666663,"Giants",5,2,0.7142857142857143,null,null,null,null,0,{"$error":"#N/A"},{"$error":"#N/A"},{"$error":"#N/A"}]
[null,"Cubs",52,61,0.46017699115044247,4,"CHICAGO",51,56,0.47663551401869159,0,"Cubs",1,5,0.16666666666666666,4,null,null,"Brewers",3,3,0.5,"Rays",4,2,0.66666666666666663,null,null,null,null,0,{"$error":"#N/A"},{"$error":"#N/A"},{"$error":"#N/A"}]
[null,"Reds",61,51,0.5446428571428571,2,"CINCINNATI",56,50,0.52830188679245282,1,"Reds",5,1,0.83333333333333337,1,null,null,"Mariners",3,4,0.42857142857142855,"Astros",2,4,0.33333333333333331,null,null,null,null,0,{"$error":"#N/A"},{"$error":"#N/A"},{"$error":"#N/A"}]
[null,"Brewers",66,46,0.5892857142857143,1,"MILWAUKEE",63,43,0.59433962264150941,8,"Brewers",3,3,0.5,2,null,null,"Blue Jays",6,2,0.75,"White Sox",4,2,0.66666666666666663,null,null,null,null,0,{"$error":"#N/A"},{"$error":"#N/A"},{"$error":"#N/A"}]
[null,"Pirates",41,71,0.36607142857142855,5,"PITTSBURGH",40,65,0.38095238095238093,0,"Pirates",1,6,0.14285714285714285,5,null,null,"Rockies",5,1,0.83333333333333337,"Reds",5,1,0.83333333333333337,null,null,null,null,0,{"$error":"#N/A"},{"$error":"#N/A"},{"$error":"#N/A"}]
[null,"Cardinals",55,56,0.49549549549549549,3,"ST LOUIS",53,52,0.50476190476190474,0,"Cardinals",2,4,0.33333333333333331,3,null,null,"Braves",5,1,0.83333333333333337,"Phillies",7,0,1,null,null,null,null,0,{"$error":"#N/A"},{"$error":"#N/A"},{"$error":"#N/A"}]
[null,null,null," ",null,null,null,null," ",null,null,null,null,null,null,null,"WEEKLY TOTAL",null,null,26,13,0.66666666666666663,null,27,11,0.71052631578947367,null,0,30,"",null,{"$error":"#N/A"},{"$error":"#N/A"},{"$error":"#N/A"}]
[null,null,null," ",null,null,"NL WEST",null," ",null,null,"NL WEST",null,null,null,null,"PREV WEEK TO DATE",null,null,317,312,0.50397456279809216,null,332,311,0.51632970451010884,null,0,520,"",null,{"$error":"#N/A"},{"$error":"#N/A"},{"$error":"#N/A"}]
[null,"West","W","L","PCT",null,"TEAM","W","L","PCT",null,"TEAM","W","L","PCT",null,"CUR TOTAL TO DATE",null,null,343,325,0.51347305389221554,null,359,322,0.52716593245227605,null,0,550,"",null,{"$error":"#N/A"},{"$error":"#N/A"},{"$error":"#N/A"}]
[null,"Diamondbacks",35,78,0.30973451327433627,5,"ARIZONA",33,73,0.31132075471698112,0,"Diamondbacks",2,5,0.2857142857142857,5]
[null,"Rockies",51,61,0.45535714285714285,4,"COLORADO",46,60,0.43396226415094341,2,"Rockies",5,1,0.83333333333333337,1]
[null,"Dodgers",67,45,0.5982142857142857,2,"LOS ANGELES",64,43,0.59813084112149528,3,"Dodgers",3,2,0.6,3,"SEASON TLT TO DATE",null,null,317,312,0.50397456279809216,null,332,311,0.51632970451010884,null,0,520,"",null,{"$error":"#N/A"},{"$error":"#N/A"},{"$error":"#N/A"}]
[null,"Padres",64,49,0.5663716814159292,3,"SAN DIEGO",61,47,0.56481481481481477,2,"Padres",3,2,0.6,3,"AUGUST TOTAL TO DATE",null,null,26,13,0.66666666666666663,null,27,11,0.71052631578947367,null,0,30,"",null,{"$error":"#N/A"},{"$error":"#N/A"},{"$error":"#N/A"}]
[null,"Giants",71,41,0.6339285714285714,1,"SAN FRANCISCO",66,39,0.62857142857142856,2,"Giants",5,2,0.7142857142857143,2]
[null,null,null,null,null,null,null,null,null,null,null,null,96,96]
[null,null,null,"2021-08-09"," Morning"]
[]
[null,null,"WEEK 18"]
[null," ","NAME","W","L","PCT","GB"]
[null,null,"LARRY",26,10,0.72222222222222221,0]
[null," ","TIM",27,11,0.71052631578947367,0]
[null," ","JIM K.",26,13,0.66666666666666663,1.5]
[null," ","JOHN",21,15,0.58333333333333337,5]
[null," ","JEAN",21,16,0.56756756756756754,5.5]
[null,null,"JIM T.",20,19,0.51282051282051277,7.5]
[null,null,"DIANE",16,22,0.42105263157894735,11]
[null,null,"MIKE",15,22,0.40540540540540543,11.5]
[null,null,"-----",0,30,0,"-----"]
[null,null,"","","","",""]
[null,null,"","","","",""]
[null,null,"","","","",""]
[]
[null,null,"MONTH OF  AUGUST"]
[null,null,"NAME","W","L","PCT","GB"]
[null,null,"LARRY",26,10,0.72222222222222221,0]
[null,null,"TIM",27,11,0.71052631578947367,0]
[null,null,"JIM K.",26,13,0.66666666666666663,1.5]
[null,null,"JOHN",21,15,0.58333333333333337,5]
[null,null,"JEAN",21,16,0.56756756756756754,5.5]
[null,null,"JIM T.",20,19,0.51282051282051277,7.5]
[null,null,"DIANE",16,22,0.42105263157894735,11]
[null,null,"MIKE",15,22,0.40540540540540543,11.5]
[null,null,"-----",0,30,0,"-----"]
[null,null,"","","","",""]
[null,null,"","","","",""]
[null,null,"","","","",""]
[null,null,2021,null,"SEASON"]
[null,null,"NAME","W","L","PCT","GB"]
[null,null,"LARRY",379,295,0.56231454005934722,0]
[null,null,"JIM T.",364,310,0.5400593471810089,15]
[null,null,"MIKE",357,316,0.53046062407132244,21.5]
[null,null,"TIM",359,322,0.52716593245227605,23.5]
[null,null,"DIANE",349,322,0.52011922503725783,28.5]
[null,null,"JOHN",348,327,0.51555555555555554,31.5]
[null,null,"JIM K.",343,325,0.51347305389221554,33]
[null,null,"JEAN",335,328,0.50527903469079938,38.5,null," "]
[null,null,"-----",0,550,0,"-----",null," "]
[null,null,"","","","","",null," "]
[null,null,"","","","",""]
[null,null,"","","","",""]
[]
[]
[]
[]
[]
[]
[]
[null,null,null,null,"CURRENT WEEK",null,null,null,null,null,null,"THIS WEEK"]
[null,null,"WEEK ENDING",null,"THIS WEEK","SEASON",null,null,null,null,null,"AL",null,"RANK"]
[null,null,"2021-08-08",null,"RANK","RANK",null,null,null,null,null,"OAKLAND",0.8,1]
[null,null,"PHILADELPHIA",1,1,13,null,null,null,null,null,"TORONTO",0.75,2]
[null,null,"ATLANTA",0.83333333333333337,2,15,null,null,null,null,null,"NEW YORK A",0.7142857142857143,3]
[null,null,"COLORADO",0.83333333333333337,2,22,null,null,null,null,null,"MINNESOTA",0.66666666666666663,4]
[null,null,"CINCINNATI",0.83333333333333337,2,12,null,null,null,null,null,"CHICAGO A",0.66666666666666663,4]
[null,null,"OAKLAND",0.8,5,7,null,null,null,null,null,"TAMPA BAY",0.66666666666666663,4]
[null,null,"TORONTO",0.75,6,11,null,null,null,null,null,"LOS ANGELES A",0.5714285714285714,7]
[null,null,"NEW YORK A",0.7142857142857143,7,10,null,null,null,null,null,"DETROIT",0.5,8]
[null,null,"SAN FRANCISCO",0.7142857142857143,7,1,null,null,null,null,null,"KANSAS CITY",0.5,8]
[null,null,"MINNESOTA",0.66666666666666663,9,25,null,null,null,null,null,"SEATTLE",0.42857142857142855,10]
[null,null,"CHICAGO A",0.66666666666666663,9,4,null,null,null,null,null,"CLEVELAND",0.42857142857142855,10]
[null,null,"TAMPA BAY",0.66666666666666663,9,2,null,null,null,null,null,"HOUSTON",0.33333333333333331,12]
[null,null,"SAN DIEGO",0.6,12,9,null,null,null,null,null,"BOSTON",0.2857142857142857,13]
[null,null,"LOS ANGELES N",0.6,12,3,null,null,null,null,null,"BALTIMORE",0.16666666666666666,14]
[null,null,"LOS ANGELES A",0.5714285714285714,14,17,null,null,null,null,null,"TEXAS",0.14285714285714285,15]
[null,null,"MILWAUKEE",0.5,15,4,null,null,null,null,null,"NL"]
[null,null,"DETROIT",0.5,15,20,null,null,null,null,null,"PHILADELPHIA",1,1]
[null,null,"KANSAS CITY",0.5,15,24,null,null,null,null,null,"ATLANTA",0.83333333333333337,2]
[null,null,"MIAMI",0.42857142857142855,18,26,null,null,null,null,null,"COLORADO",0.83333333333333337,2]
[null,null,"SEATTLE",0.42857142857142855,18,14,null,null,null,null,null,"CINCINNATI",0.83333333333333337,2]
[null,null,"CLEVELAND",0.42857142857142855,18,19,null,null,null,null,null,"SAN FRANCISCO",0.7142857142857143,5]
[null,null,"HOUSTON",0.33333333333333331,21,4,null,null,null,null,null,"SAN DIEGO",0.6,6]
[null,null,"ST LOUIS",0.33333333333333331,21,18,null,null,null,null,null,"LOS ANGELES N",0.6,6]
[null,null,"ARIZONA",0.2857142857142857,23,30,null,null,null,null,null,"MILWAUKEE",0.5,8]
[null,null,"BOSTON",0.2857142857142857,23,8,null,null,null,null,null,"MIAMI",0.42857142857142855,9]
[null,null,"CHICAGO N",0.16666666666666666,25,21,null,null,null,null,null,"ST LOUIS",0.33333333333333331,10]
[null,null,"BALTIMORE",0.16666666666666666,25,29,null,null,null,null,null,"ARIZONA",0.2857142857142857,11]
[null,null,"TEXAS",0.14285714285714285,27,28,null,null,null,null,null,"CHICAGO N",0.16666666666666666,12]
[null,null,"PITTSBURGH",0.14285714285714285,27,27,null,null,null,null,null,"PITTSBURGH",0.14285714285714285,13]
[null,null,"NEW YORK N",0.14285714285714285,27,16,null,null,null,null,null,"NEW YORK N",0.14285714285714285,13]
[null,null,"WASHINGTON",0.14285714285714285,27,23,null,null,null,null,null,"WASHINGTON",0.14285714285714285,13]
[]
[null,null,null,null,"SEASON TO DATE",null,null,null,null,null,null,"SEASON TO DATE"]
[null,null,null,null,null,null,null,null,null,null,null,"AL"]
[null,null,"SEASON TO-DATE",null,"RANK",null,null,null,null,null,null,"TAMPA BAY",0.6071428571428571,1]
[null,null,"SAN FRANCISCO",0.6339285714285714,1,null,null,null,null,null,null,"HOUSTON",0.5892857142857143,2]
[null,null,"TAMPA BAY",0.6071428571428571,2,null,null,null,null,null,null,"CHICAGO A",0.5892857142857143,2]
[null,null,"LOS ANGELES N",0.5982142857142857,3,null,null,null,null,null,null,"OAKLAND",0.5714285714285714,4]
[null,null,"MILWAUKEE",0.5892857142857143,4,null,null,null,null,null,null,"BOSTON",0.57017543859649122,5]
[null,null,"HOUSTON",0.5892857142857143,4,null,null,null,null,null,null,"NEW YORK A",0.5495495495495496,6]
[null,null,"CHICAGO A",0.5892857142857143,4,null,null,null,null,null,null,"TORONTO",0.54545454545454541,7]
[null,null,"OAKLAND",0.5714285714285714,7,null,null,null,null,null,null,"SEATTLE",0.52212389380530977,8]
[null,null,"BOSTON",0.57017543859649122,8,null,null,null,null,null,null,"LOS ANGELES A",0.5,9]
[null,null,"SAN DIEGO",0.5663716814159292,9,null,null,null,null,null,null,"CLEVELAND",0.49541284403669728,10]
[null,null,"NEW YORK A",0.5495495495495496,10,null,null,null,null,null,null,"DETROIT",0.47368421052631576,11]
[null,null,"TORONTO",0.54545454545454541,11,null,null,null,null,null,null,"KANSAS CITY",0.43636363636363634,12]
[null,null,"CINCINNATI",0.5446428571428571,12,null,null,null,null,null,null,"MINNESOTA",0.42857142857142855,13]
[null,null,"PHILADELPHIA",0.5267857142857143,13,null,null,null,null,null,null,"TEXAS",0.3482142857142857,14]
[null,null,"SEATTLE",0.52212389380530977,14,null,null,null,null,null,null,"BALTIMORE",0.34545454545454546,15]
[null,null,"ATLANTA",0.5089285714285714,15,null,null,null,null,null,null,"NL"]
[null,null,"NEW YORK N",0.50450450450450446,16,null,null,null,null,null,null,"SAN FRANCISCO",0.6339285714285714,1]
[null,null,"LOS ANGELES A",0.5,17,null,null,null,null,null,null,"LOS ANGELES N",0.5982142857142857,2]
[null,null,"ST LOUIS",0.49549549549549549,18,null,null,null,null,null,null,"MILWAUKEE",0.5892857142857143,3]
[null,null,"CLEVELAND",0.49541284403669728,19,null,null,null,null,null,null,"SAN DIEGO",0.5663716814159292,4]
[null,null,"DETROIT",0.47368421052631576,20,null,null,null,null,null,null,"CINCINNATI",0.5446428571428571,5]
[null,null,"CHICAGO N",0.46017699115044247,21,null,null,null,null,null,null,"PHILADELPHIA",0.5267857142857143,6]
[null,null,"COLORADO",0.45535714285714285,22,null,null,null,null,null,null,"ATLANTA",0.5089285714285714,7]
[null,null,"WASHINGTON",0.44642857142857145,23,null,null,null,null,null,null,"NEW YORK N",0.50450450450450446,8]
[null,null,"KANSAS CITY",0.43636363636363634,24,null,null,null,null,null,null,"ST LOUIS",0.49549549549549549,9]
[null,null,"MINNESOTA",0.42857142857142855,25,null,null,null,null,null,null,"CHICAGO N",0.46017699115044247,10]
[null,null,"MIAMI",0.41964285714285715,26,null,null,null,null,null,null,"COLORADO",0.45535714285714285,11]
[null,null,"PITTSBURGH",0.36607142857142855,27,null,null,null,null,null,null,"WASHINGTON",0.44642857142857145,12]
[null,null,"TEXAS",0.3482142857142857,28,null,null,null,null,null,null,"MIAMI",0.41964285714285715,13]
[null,null,"BALTIMORE",0.34545454545454546,29,null,null,null,null,null,null,"PITTSBURGH",0.36607142857142855,14]

{"sheet":"1-Aug","index":21,"n_rows":172,"n_cols":34,"rows_kept":172,"cut":false,"hidden":false,"merged":[[1,16,1,33],[2,13,2,14],[3,18,3,21],[3,22,3,25],[3,26,3,29],[3,30,3,33],[20,30,20,33],[4,2,4,4],[4,6,4,9],[4,11,4,14],[11,16,11,17],[12,16,12,17],[13,16,13,17],[16,16,16,17],[17,16,17,17],[20,18,20,21],[20,22,20,25],[20,26,20,29],[47,16,47,17],[28,16,28,17],[29,16,29,17],[30,16,30,17],[33,16,33,17],[34,16,34,17],[37,22,37,25],[37,26,37,29],[37,30,37,33],[45,16,45,17],[46,16,46,17],[37,18,37,21],[50,16,50,17],[51,16,51,17],[56,2,56,6],[71,2,71,6],[85,2,85,3],[85,4,85,5],[94,9,94,13],[95,9,95,13],[102,16,102,20],[106,4,106,5],[107,2,107,3],[107,11,107,12],[141,11,141,12],[142,2,142,3],[157,11,157,12],[108,2,108,3],[113,16,113,20],[123,11,123,12],[124,16,124,20],[140,4,140,5],[140,11,140,12]]}
[null,2021,"STANDINGS"]
[null,null,null,null,null,null,null,null,null,null,null,null,null,null,null,null,"CURRENT WEEK RESULTS"]
[null,"WEEK ENDING "," ","2021-08-01",null,null,null," ",null,null,null,"WEEK",17,"JULY",null," "]
[null,null,null,null,null,null,null,null,null,null,null,null,null,null,null,null,null,null,"MIKE",null,null,null,"JOHN",null,null,null,"LARRY",null,null,null,0]
[null,null,"CURRENT WEEK-SEASON TO DATE",null,null,null,"PREVIOUS WEEK-SEASON TO DATE",null,null,null,null,"CURRENT WEEK TOTALS",null,null,null,null,null,null,"RANK","W","L","PCT","RANK","W","L","PCT","RANK","W","L","PCT","RANK","W","L","PCT"]
[null,null,null,null,null,null,null,null,null,null,null,null,null,null,null,null,null,null,"Dodgers",3,3,0.5,"Dodgers",3,3,0.5,"Dodgers",3,3,0.5,0,{"$error":"#N/A"},{"$error":"#N/A"},{"$error":"#N/A"}]
[null,"American League",null,null,null,null,"AL EAST",null,null,null,"Times","AL EAST",null,null,null,null,null,null,"White Sox",3,4,0.42857142857142855,"Brewers",5,1,0.83333333333333337,"Red Sox",2,5,0.2857142857142857,0,{"$error":"#N/A"},{"$error":"#N/A"},{"$error":"#N/A"}]
[null,"East","W","L","PCT","Rank","TEAM","W","L","PCT","Picked","TEAM","W","L","PCT","Rank",null,null,"Red Sox",2,5,0.2857142857142857,"Rays",4,2,0.66666666666666663,"Mets",3,5,0.375,0,{"$error":"#N/A"},{"$error":"#N/A"},{"$error":"#N/A"}]
[null,"Orioles",37,67,0.35576923076923078,5,"BALTIMORE",34,64,0.34693877551020408,1,"Orioles",3,3,0.5,4,null,null,"Braves",4,4,0.5,"Athletics",4,2,0.66666666666666663,"Astros",3,3,0.5,0,{"$error":"#N/A"},{"$error":"#N/A"},{"$error":"#N/A"}]
[null,"Red Sox",63,44,0.58878504672897192,2,"BOSTON",61,39,0.61,6,"Red Sox",2,5,0.2857142857142857,5,null,null,"Astros",3,3,0.5,"Mets",3,5,0.375,"White Sox",3,4,0.42857142857142855,0,{"$error":"#N/A"},{"$error":"#N/A"},{"$error":"#N/A"}]
[null,"Yankees",56,48,0.53846153846153844,3,"NEW YORK",51,47,0.52040816326530615,0,"Yankees",5,1,0.83333333333333337,1,null,null,"Cardinals",3,2,0.6,"Indians",2,3,0.4,"Brewers",5,1,0.83333333333333337,0,{"$error":"#N/A"},{"$error":"#N/A"},{"$error":"#N/A"}]
[null,"Rays",64,42,0.60377358490566035,1,"TAMPA BAY",60,40,0.6,1,"Rays",4,2,0.66666666666666663,3,"WEEKLY TOTAL",null,null,18,21,0.46153846153846156,null,21,16,0.56756756756756754,null,19,21,0.47499999999999998,null,{"$error":"#N/A"},{"$error":"#N/A"},{"$error":"#N/A"}]
[null,"Blue Jays",54,48,0.52941176470588236,4,"TORONTO",49,46,0.51578947368421058,1,"Blue Jays",5,2,0.7142857142857143,2,"PREV WEEK TO DATE",null,"  ",324,273,0.542713567839196,null,306,296,0.50830564784053156,null,334,264,0.55852842809364545,null,{"$error":"#N/A"},{"$error":"#N/A"},{"$error":"#N/A"}]
[null,null,null," ",null,null,null,null," ",null,null,null,null,null,null,null,"CUR TOTAL TO DATE",null,"  ",342,294,0.53773584905660377,null,327,312,0.51173708920187788,null,353,285,0.55329153605015668,null,{"$error":"#N/A"},{"$error":"#N/A"},{"$error":"#N/A"}]
[null,null,null," ",null,null,"AL CENTRAL",null," ",null,null,"AL CENTRAL"]
[null,"Central","W","L","PCT",null,"TEAM","W","L","PCT",null,"TEAM","W","L","PCT"]
[null,"White Sox",62,44,0.58490566037735847,1,"CHICAGO",59,40,0.59595959595959591,4,"White Sox",3,4,0.42857142857142855,2,"SEASON TLT TO DATE",null,"  ",273,231,0.54166666666666663,null,256,251,0.50493096646942803,null,285,219,0.56547619047619047,null,{"$error":"#N/A"},{"$error":"#N/A"},{"$error":"#N/A"}]
[null,"Indians",51,51,0.5,2,"CLEVELAND",49,48,0.50515463917525771,3,"Indians",2,3,0.4,4,"JULY TOTAL TO DATE",null,null,69,63,0.52272727272727271,null,71,61,0.53787878787878785,null,68,66,0.5074626865671642,null,{"$error":"#N/A"},{"$error":"#N/A"},{"$error":"#N/A"}]
[null,"Tigers",51,57,0.47222222222222221,3,"DETROIT",47,54,0.46534653465346537,1,"Tigers",4,3,0.5714285714285714,1]
[null,"Royals",45,59,0.43269230769230771,4,"KANSAS CITY",42,55,0.4329896907216495,1,"Royals",3,4,0.42857142857142855,2]
[null,"Twins",44,62,0.41509433962264153,5,"MINNESOTA",42,58,0.42,0,"Twins",2,4,0.33333333333333331,5,null,null,"JIM T.",null,null,null,"JEAN",null,null,null,"DIANE",null,null,null,0]
[null,null,null," ",null,null,null,null," ",null,null,null,null,null,null,null,null,null,"RANK","W","L","PCT","RANK","W","L","PCT","RANK","W","L","PCT","RANK","W","L","PCT"]
[null,null,null," ",null,null,"AL WEST",null," ",null,null,"AL WEST",null,null,null,null,null,null,"Red Sox",2,5,0.2857142857142857,"Mets",3,5,0.375,"Red Sox",2,5,0.2857142857142857,0,{"$error":"#N/A"},{"$error":"#N/A"},{"$error":"#N/A"}]
[null,"West","W","L","PCT",null,"TEAM","W","L","PCT",null,"TEAM","W","L","PCT",null,null,null,"White Sox",3,4,0.42857142857142855,"Astros",3,3,0.5,"Mets",3,5,0.375,0,{"$error":"#N/A"},{"$error":"#N/A"},{"$error":"#N/A"}]
[null,"Angels",52,53,0.49523809523809526,4,"LOS ANGELES",49,49,0.5,0,"Angels",3,4,0.42857142857142855,4,null,null,"Athletics",4,2,0.66666666666666663,"Giants",4,2,0.66666666666666663,"Brewers",5,1,0.83333333333333337,0,{"$error":"#N/A"},{"$error":"#N/A"},{"$error":"#N/A"}]
[null,"Athletics",60,47,0.56074766355140182,2,"OAKLAND",56,45,0.5544554455445545,3,"Athletics",4,2,0.66666666666666663,1,null,null,"Braves",4,4,0.5,"Blue Jays",5,2,0.7142857142857143,"Padres",3,3,0.5,0,{"$error":"#N/A"},{"$error":"#N/A"},{"$error":"#N/A"}]
[null,"Mariners",56,50,0.52830188679245282,3,"SEATTLE",54,46,0.54,1,"Mariners",2,4,0.33333333333333331,5,null,null,"Brewers",5,1,0.83333333333333337,"Royals",3,4,0.42857142857142855,"Indians",2,3,0.4,0,{"$error":"#N/A"},{"$error":"#N/A"},{"$error":"#N/A"}]
[null,"Rangers",38,67,0.3619047619047619,5,"TEXAS",35,65,0.35,0,"Rangers",3,2,0.6,2,null,null,"Dodgers",3,3,0.5,"Cardinals",3,2,0.6,"Mariners",2,4,0.33333333333333331,0,{"$error":"#N/A"},{"$error":"#N/A"},{"$error":"#N/A"}]
[null,"Astros",64,42,0.60377358490566035,1,"HOUSTON",61,39,0.61,5,"Astros",3,3,0.5,3,"WEEKLY TOTAL",null,null,21,19,0.52500000000000002,null,21,18,0.53846153846153844,null,17,21,0.44736842105263158,null,{"$error":"#N/A"},{"$error":"#N/A"},{"$error":"#N/A"}]
[null,null,null,null,null,null,null,null,null,null,null,null,null,null,null,null,"PREV WEEK TO DATE",null,null,323,272,0.54285714285714282,null,293,294,0.49914821124361158,null,316,279,0.53109243697478992,null,{"$error":"#N/A"},{"$error":"#N/A"},{"$error":"#N/A"}]
[null,"National League",null," ",null,null,"NL EAST",null," ",null,null,"NL EAST",null,null,null,null,"CUR TOTAL TO DATE",null,null,344,291,0.54173228346456692,null,314,312,0.50159744408945683,null,333,300,0.52606635071090047,null,{"$error":"#N/A"},{"$error":"#N/A"},{"$error":"#N/A"}]
[null,"East","W","L","PCT",null,"TEAM","W","L","PCT",null,"TEAM","W","L","PCT"]
[null,"Braves",52,54,0.49056603773584906,3,"ATLANTA",48,50,0.48979591836734693,3,"Braves",4,4,0.5,2]
[null,"Marlins",44,61,0.41904761904761906,5,"Miami",43,57,0.43,0,"Marlins",1,4,0.2,5,"SEASON TLT TO DATE",null,null,276,226,0.54980079681274896,null,244,254,0.48995983935742971,null,268,234,0.53386454183266929,null,{"$error":"#N/A"},{"$error":"#N/A"},{"$error":"#N/A"}]
[null,"Mets",55,49,0.52884615384615385,1,"NEW YORK",52,44,0.54166666666666663,4,"Mets",3,5,0.375,4,"JULY TOTAL TO DATE",null,null,68,65,0.51127819548872178,null,70,58,0.546875,null,65,66,0.49618320610687022,null,{"$error":"#N/A"},{"$error":"#N/A"},{"$error":"#N/A"}]
[null,"Phillies",52,53,0.49523809523809526,2,"PHILADELPHIA",49,49,0.5,1,"Phillies",3,4,0.42857142857142855,3]
[null,"Nationals",49,56,0.46666666666666667,4,"WASHINGTON",45,53,0.45918367346938777,1,"Nationals",4,3,0.5714285714285714,1]
[null,null,null," ",null,null,null,null," ",null,null,null,null,null,null,null,null,null,"JIM K.",null,null,null,"TIM",null,null,null,"-----",null,null,null,0]
[null,null,null," ",null,null,"NL CENTRAL",null," ",null,null,"NL CENTRAL",null,null,null,null,null,null,"RANK","W","L","PCT","RANK","W","L","PCT","RANK","W","L","PCT","RANK","W","L","PCT"]
[null,"Central","W","L","PCT",null,"TEAM","W","L","PCT",null,"TEAM","W","L","PCT",null,null,null,"Giants",4,2,0.66666666666666663,"Red Sox",2,5,0.2857142857142857,null,null,null,null,0,{"$error":"#N/A"},{"$error":"#N/A"},{"$error":"#N/A"}]
[null,"Cubs",51,56,0.47663551401869159,4,"CHICAGO",49,51,0.49,1,"Cubs",2,5,0.2857142857142857,5,null,null,"Red Sox",2,5,0.2857142857142857,"White Sox",3,4,0.42857142857142855,null,null,null,null,0,{"$error":"#N/A"},{"$error":"#N/A"},{"$error":"#N/A"}]
[null,"Reds",56,50,0.52830188679245282,2,"CINCINNATI",51,48,0.51515151515151514,1,"Reds",5,2,0.7142857142857143,2,null,null,"Indians",2,3,0.4,"Athletics",4,2,0.66666666666666663,null,null,null,null,0,{"$error":"#N/A"},{"$error":"#N/A"},{"$error":"#N/A"}]
[null,"Brewers",63,43,0.59433962264150941,1,"MILWAUKEE",58,42,0.57999999999999996,4,"Brewers",5,1,0.83333333333333337,1,null,null,"Astros",3,3,0.5,"Nationals",4,3,0.5714285714285714,null,null,null,null,0,{"$error":"#N/A"},{"$error":"#N/A"},{"$error":"#N/A"}]
[null,"Pirates",40,65,0.38095238095238093,5,"PITTSBURGH",38,61,0.38383838383838381,0,"Pirates",2,4,0.33333333333333331,4,null,null,"Reds",5,2,0.7142857142857143,"Cubs",2,5,0.2857142857142857,null,null,null,null,0,{"$error":"#N/A"},{"$error":"#N/A"},{"$error":"#N/A"}]
[null,"Cardinals",53,52,0.50476190476190474,3,"ST LOUIS",50,50,0.5,3,"Cardinals",3,2,0.6,3,null,null,"Phillies",3,4,0.42857142857142855,"Giants",4,2,0.66666666666666663,null,null,null,null,0,{"$error":"#N/A"},{"$error":"#N/A"},{"$error":"#N/A"}]
[null,null,null," ",null,null,null,null," ",null,null,null,null,null,null,null,"WEEKLY TOTAL",null,null,19,19,0.5,null,19,21,0.47499999999999998,null,0,30,"",null,{"$error":"#N/A"},{"$error":"#N/A"},{"$error":"#N/A"}]
[null,null,null," ",null,null,"NL WEST",null," ",null,null,"NL WEST",null,null,null,null,"PREV WEEK TO DATE",null,null,298,293,0.50423011844331644,null,313,290,0.5190713101160862,null,0,490,"",null,{"$error":"#N/A"},{"$error":"#N/A"},{"$error":"#N/A"}]
[null,"West","W","L","PCT",null,"TEAM","W","L","PCT",null,"TEAM","W","L","PCT",null,"CUR TOTAL TO DATE",null,null,317,312,0.50397456279809216,null,332,311,0.51632970451010884,null,0,520,"",null,{"$error":"#N/A"},{"$error":"#N/A"},{"$error":"#N/A"}]
[null,"Diamondbacks",33,73,0.31132075471698112,5,"ARIZONA",31,70,0.30693069306930693,1,"Diamondbacks",2,3,0.4,5]
[null,"Rockies",46,60,0.43396226415094341,4,"COLORADO",43,56,0.43434343434343436,0,"Rockies",3,4,0.42857142857142855,4]
[null,"Dodgers",64,43,0.59813084112149528,2,"LOS ANGELES",61,40,0.60396039603960394,4,"Dodgers",3,3,0.5,2,"SEASON TLT TO DATE",null,null,253,244,0.50905432595573441,null,267,242,0.5245579567779961,null,0,400,"",null,{"$error":"#N/A"},{"$error":"#N/A"},{"$error":"#N/A"}]
[null,"Padres",61,47,0.56481481481481477,3,"SAN DIEGO",58,44,0.56862745098039214,1,"Padres",3,3,0.5,2,"JULY TOTAL TO DATE",null,null,64,68,0.48484848484848486,null,65,69,0.48507462686567165,null,0,120,"",null,{"$error":"#N/A"},{"$error":"#N/A"},{"$error":"#N/A"}]
[null,"Giants",66,39,0.62857142857142856,1,"SAN FRANCISCO",62,37,0.6262626262626263,3,"Giants",4,2,0.66666666666666663,1]
[null,null,null,null,null,null,null,null,null,null,null,null,95,95]
[null,null,null,"2021-08-02"," Morning"]
[]
[null,null,"WEEK 17"]
[null," ","NAME","W","L","PCT","GB"]
[null,null,"JOHN",21,16,0.56756756756756754,0]
[null," ","JEAN",21,18,0.53846153846153844,1]
[null," ","JIM T.",21,19,0.52500000000000002,1.5]
[null," ","JIM K.",19,19,0.5,2.5]
[null," ","LARRY",19,21,0.47499999999999998,3.5]
[null,null,"TIM",19,21,0.47499999999999998,3.5]
[null,null,"MIKE",18,21,0.46153846153846156,4]
[null,null,"DIANE",17,21,0.44736842105263158,4.5]
[null,null,"-----",0,30,0,"-----"]
[null,null,"","","","",""]
[null,null,"","","","",""]
[null,null,"","","","",""]
[]
[null,null,"MONTH OF  JULY"]
[null,null,"NAME","W","L","PCT","GB"]
[null,null,"JEAN",70,58,0.546875,0]
[null,null,"JOHN",71,61,0.53787878787878785,1]
[null,null,"MIKE",69,63,0.52272727272727271,3]
[null,null,"JIM T.",68,65,0.51127819548872178,4.5]
[null,null,"LARRY",68,66,0.5074626865671642,5]
[null,null,"DIANE",65,66,0.49618320610687022,6.5]
[null,null,"TIM",65,69,0.48507462686567165,8]
[null,null,"JIM K.",64,68,0.48484848484848486,8]
[null,null,"-----",0,120,0,"-----"]
[null,null,"","","","",""]
[null,null,"","","","",""]
[null,null,"","","","",""]
[null,null,2021,null,"SEASON"]
[null,null,"NAME","W","L","PCT","GB"]
[null,null,"LARRY",353,285,0.55329153605015668,0]
[null,null,"JIM T.",344,291,0.54173228346456692,7.5]
[null,null,"MIKE",342,294,0.53773584905660377,10]
[null,null,"DIANE",333,300,0.52606635071090047,17.5]
[null,null,"TIM",332,311,0.51632970451010884,23.5]
[null,null,"JOHN",327,312,0.51173708920187788,26.5]
[null,null,"JIM K.",317,312,0.50397456279809216,31.5]
[null,null,"JEAN",314,312,0.50159744408945683,33,null," "]
[null,null,"-----",0,520,0,"-----",null," "]
[null,null,"","","","","",null," "]
[null,null,"","","","",""]
[null,null,"","","","",""]
[]
[]
[]
[]
[]
[]
[]
[null,null,null,null,"CURRENT WEEK",null,null,null,null,null,null,"THIS WEEK"]
[null,null,"WEEK ENDING",null,"THIS WEEK","SEASON",null,null,null,null,null,"AL",null,"RANK"]
[null,null,"2021-08-01",null,"RANK","RANK",null,null,null,null,null,"NEW YORK A",0.83333333333333337,1]
[null,null,"MILWAUKEE",0.83333333333333337,1,5,null,null,null,null,null,"TORONTO",0.7142857142857143,2]
[null,null,"NEW YORK A",0.83333333333333337,1,10,null,null,null,null,null,"OAKLAND",0.66666666666666663,3]
[null,null,"CINCINNATI",0.7142857142857143,3,13,null,null,null,null,null,"TAMPA BAY",0.66666666666666663,3]
[null,null,"TORONTO",0.7142857142857143,3,11,null,null,null,null,null,"TEXAS",0.6,5]
[null,null,"OAKLAND",0.66666666666666663,5,9,null,null,null,null,null,"DETROIT",0.5714285714285714,6]
[null,null,"SAN FRANCISCO",0.66666666666666663,5,1,null,null,null,null,null,"HOUSTON",0.5,7]
[null,null,"TAMPA BAY",0.66666666666666663,5,2,null,null,null,null,null,"BALTIMORE",0.5,7]
[null,null,"ST LOUIS",0.6,8,15,null,null,null,null,null,"KANSAS CITY",0.42857142857142855,9]
[null,null,"TEXAS",0.6,8,28,null,null,null,null,null,"LOS ANGELES A",0.42857142857142855,9]
[null,null,"DETROIT",0.5714285714285714,10,21,null,null,null,null,null,"CHICAGO A",0.42857142857142855,9]
[null,null,"WASHINGTON",0.5714285714285714,10,22,null,null,null,null,null,"CLEVELAND",0.4,12]
[null,null,"HOUSTON",0.5,12,2,null,null,null,null,null,"SEATTLE",0.33333333333333331,13]
[null,null,"BALTIMORE",0.5,12,29,null,null,null,null,null,"MINNESOTA",0.33333333333333331,13]
[null,null,"ATLANTA",0.5,12,19,null,null,null,null,null,"BOSTON",0.2857142857142857,15]
[null,null,"SAN DIEGO",0.5,12,8,null,null,null,null,null,"NL"]
[null,null,"LOS ANGELES N",0.5,12,4,null,null,null,null,null,"MILWAUKEE",0.83333333333333337,1]
[null,null,"KANSAS CITY",0.42857142857142855,17,24,null,null,null,null,null,"CINCINNATI",0.7142857142857143,2]
[null,null,"LOS ANGELES A",0.42857142857142855,17,17,null,null,null,null,null,"SAN FRANCISCO",0.66666666666666663,3]
[null,null,"COLORADO",0.42857142857142855,17,23,null,null,null,null,null,"ST LOUIS",0.6,4]
[null,null,"PHILADELPHIA",0.42857142857142855,17,17,null,null,null,null,null,"WASHINGTON",0.5714285714285714,5]
[null,null,"CHICAGO A",0.42857142857142855,17,7,null,null,null,null,null,"ATLANTA",0.5,6]
[null,null,"ARIZONA",0.4,22,30,null,null,null,null,null,"SAN DIEGO",0.5,6]
[null,null,"CLEVELAND",0.4,22,16,null,null,null,null,null,"LOS ANGELES N",0.5,6]
[null,null,"NEW YORK N",0.375,24,12,null,null,null,null,null,"COLORADO",0.42857142857142855,9]
[null,null,"SEATTLE",0.33333333333333331,25,13,null,null,null,null,null,"PHILADELPHIA",0.42857142857142855,9]
[null,null,"MINNESOTA",0.33333333333333331,25,26,null,null,null,null,null,"ARIZONA",0.4,11]
[null,null,"PITTSBURGH",0.33333333333333331,25,27,null,null,null,null,null,"NEW YORK N",0.375,12]
[null,null,"BOSTON",0.2857142857142857,28,6,null,null,null,null,null,"PITTSBURGH",0.33333333333333331,13]
[null,null,"CHICAGO N",0.2857142857142857,28,20,null,null,null,null,null,"CHICAGO N",0.2857142857142857,14]
[null,null,"MIAMI",0.2,30,25,null,null,null,null,null,"MIAMI",0.2,15]
[]
[null,null,null,null,"SEASON TO DATE",null,null,null,null,null,null,"SEASON TO DATE"]
[null,null,null,null,null,null,null,null,null,null,null,"AL"]
[null,null,"SEASON TO-DATE",null,"RANK",null,null,null,null,null,null,"HOUSTON",0.60377358490566035,1]
[null,null,"SAN FRANCISCO",0.62857142857142856,1,null,null,null,null,null,null,"TAMPA BAY",0.60377358490566035,1]
[null,null,"HOUSTON",0.60377358490566035,2,null,null,null,null,null,null,"BOSTON",0.58878504672897192,3]
[null,null,"TAMPA BAY",0.60377358490566035,2,null,null,null,null,null,null,"CHICAGO A",0.58490566037735847,4]
[null,null,"LOS ANGELES N",0.59813084112149528,4,null,null,null,null,null,null,"OAKLAND",0.56074766355140182,5]
[null,null,"MILWAUKEE",0.59433962264150941,5,null,null,null,null,null,null,"NEW YORK A",0.53846153846153844,6]
[null,null,"BOSTON",0.58878504672897192,6,null,null,null,null,null,null,"TORONTO",0.52941176470588236,7]
[null,null,"CHICAGO A",0.58490566037735847,7,null,null,null,null,null,null,"SEATTLE",0.52830188679245282,8]
[null,null,"SAN DIEGO",0.56481481481481477,8,null,null,null,null,null,null,"CLEVELAND",0.5,9]
[null,null,"OAKLAND",0.56074766355140182,9,null,null,null,null,null,null,"LOS ANGELES A",0.49523809523809526,10]
[null,null,"NEW YORK A",0.53846153846153844,10,null,null,null,null,null,null,"DETROIT",0.47222222222222221,11]
[null,null,"TORONTO",0.52941176470588236,11,null,null,null,null,null,null,"KANSAS CITY",0.43269230769230771,12]
[null,null,"NEW YORK N",0.52884615384615385,12,null,null,null,null,null,null,"MINNESOTA",0.41509433962264153,13]
[null,null,"SEATTLE",0.52830188679245282,13,null,null,null,null,null,null,"TEXAS",0.3619047619047619,14]
[null,null,"CINCINNATI",0.52830188679245282,13,null,null,null,null,null,null,"BALTIMORE",0.35576923076923078,15]
[null,null,"ST LOUIS",0.50476190476190474,15,null,null,null,null,null,null,"NL"]
[null,null,"CLEVELAND",0.5,16,null,null,null,null,null,null,"SAN FRANCISCO",0.62857142857142856,1]
[null,null,"LOS ANGELES A",0.49523809523809526,17,null,null,null,null,null,null,"LOS ANGELES N",0.59813084112149528,2]
[null,null,"PHILADELPHIA",0.49523809523809526,17,null,null,null,null,null,null,"MILWAUKEE",0.59433962264150941,3]
[null,null,"ATLANTA",0.49056603773584906,19,null,null,null,null,null,null,"SAN DIEGO",0.56481481481481477,4]
[null,null,"CHICAGO N",0.47663551401869159,20,null,null,null,null,null,null,"NEW YORK N",0.52884615384615385,5]
[null,null,"DETROIT",0.47222222222222221,21,null,null,null,null,null,null,"CINCINNATI",0.52830188679245282,6]
[null,null,"WASHINGTON",0.46666666666666667,22,null,null,null,null,null,null,"ST LOUIS",0.50476190476190474,7]
[null,null,"COLORADO",0.43396226415094341,23,null,null,null,null,null,null,"PHILADELPHIA",0.49523809523809526,8]
[null,null,"KANSAS CITY",0.43269230769230771,24,null,null,null,null,null,null,"ATLANTA",0.49056603773584906,9]
[null,null,"MIAMI",0.41904761904761906,25,null,null,null,null,null,null,"CHICAGO N",0.47663551401869159,10]
[null,null,"MINNESOTA",0.41509433962264153,26,null,null,null,null,null,null,"WASHINGTON",0.46666666666666667,11]
[null,null,"PITTSBURGH",0.38095238095238093,27,null,null,null,null,null,null,"COLORADO",0.43396226415094341,12]
[null,null,"TEXAS",0.3619047619047619,28,null,null,null,null,null,null,"MIAMI",0.41904761904761906,13]
[null,null,"BALTIMORE",0.35576923076923078,29,null,null,null,null,null,null,"PITTSBURGH",0.38095238095238093,14]

{"sheet":"25-Jul","index":22,"n_rows":172,"n_cols":34,"rows_kept":172,"cut":false,"hidden":false,"merged":[[1,16,1,33],[2,13,2,14],[3,18,3,21],[3,22,3,25],[3,26,3,29],[3,30,3,33],[20,30,20,33],[4,2,4,4],[4,6,4,9],[4,11,4,14],[11,16,11,17],[12,16,12,17],[13,16,13,17],[16,16,16,17],[17,16,17,17],[20,18,20,21],[20,22,20,25],[20,26,20,29],[47,16,47,17],[28,16,28,17],[29,16,29,17],[30,16,30,17],[33,16,33,17],[34,16,34,17],[37,22,37,25],[37,26,37,29],[37,30,37,33],[45,16,45,17],[46,16,46,17],[37,18,37,21],[50,16,50,17],[51,16,51,17],[56,2,56,6],[71,2,71,6],[85,2,85,3],[85,4,85,5],[94,9,94,13],[95,9,95,13],[102,16,102,20],[106,4,106,5],[107,2,107,3],[107,11,107,12],[141,11,141,12],[142,2,142,3],[157,11,157,12],[108,2,108,3],[113,16,113,20],[123,11,123,12],[124,16,124,20],[140,4,140,5],[140,11,140,12]]}
[null,2021,"STANDINGS"]
[null,null,null,null,null,null,null,null,null,null,null,null,null,null,null,null,"CURRENT WEEK RESULTS"]
[null,"WEEK ENDING "," ","2021-07-25",null,null,null," ",null,null,null,"WEEK",16,"JULY",null," "]
[null,null,null,null,null,null,null,null,null,null,null,null,null,null,null,null,null,null,"MIKE",null,null,null,"JOHN",null,null,null,"LARRY",null,null,null,0]
[null,null,"CURRENT WEEK-SEASON TO DATE",null,null,null,"PREVIOUS WEEK-SEASON TO DATE",null,null,null,null,"CURRENT WEEK TOTALS",null,null,null,null,null,null,"RANK","W","L","PCT","RANK","W","L","PCT","RANK","W","L","PCT","RANK","W","L","PCT"]
[null,null,null,null,null,null,null,null,null,null,null,null,null,null,null,null,null,null,"Dodgers",3,4,0.42857142857142855,"Dodgers",3,4,0.42857142857142855,"Brewers",2,3,0.4,0,{"$error":"#N/A"},{"$error":"#N/A"},{"$error":"#N/A"}]
[null,"American League",null,null,null,null,"AL EAST",null,null,null,"Times","AL EAST",null,null,null,null,null,null,"White Sox",3,4,0.42857142857142855,"Brewers",2,3,0.4,"White Sox",3,4,0.42857142857142855,0,{"$error":"#N/A"},{"$error":"#N/A"},{"$error":"#N/A"}]
[null,"East","W","L","PCT","Rank","TEAM","W","L","PCT","Picked","TEAM","W","L","PCT","Rank",null,null,"Red Sox",5,1,0.83333333333333337,"Rays",5,2,0.7142857142857143,"Dodgers",3,4,0.42857142857142855,0,{"$error":"#N/A"},{"$error":"#N/A"},{"$error":"#N/A"}]
[null,"Orioles",34,64,0.34693877551020408,5,"BALTIMORE",30,62,0.32608695652173914,1,"Orioles",4,2,0.66666666666666663,3,null,null,"Braves",3,3,0.5,"Athletics",3,3,0.5,"Mets",4,2,0.66666666666666663,0,{"$error":"#N/A"},{"$error":"#N/A"},{"$error":"#N/A"}]
[null,"Red Sox",61,39,0.61,1,"BOSTON",56,38,0.5957446808510638,5,"Red Sox",5,1,0.83333333333333337,1,null,null,"Astros",5,1,0.83333333333333337,"Mets",4,2,0.66666666666666663,"Rays",5,2,0.7142857142857143,0,{"$error":"#N/A"},{"$error":"#N/A"},{"$error":"#N/A"}]
[null,"Yankees",51,47,0.52040816326530615,3,"NEW YORK",48,44,0.52173913043478259,0,"Yankees",3,3,0.5,4,null,null,"Cardinals",4,3,0.5714285714285714,"Indians",2,5,0.2857142857142857,"Athletics",3,3,0.5,0,{"$error":"#N/A"},{"$error":"#N/A"},{"$error":"#N/A"}]
[null,"Rays",60,40,0.6,2,"TAMPA BAY",55,38,0.59139784946236562,2,"Rays",5,2,0.7142857142857143,2,"WEEKLY TOTAL",null,null,23,16,0.58974358974358976,null,19,19,0.5,null,20,18,0.52631578947368418,null,{"$error":"#N/A"},{"$error":"#N/A"},{"$error":"#N/A"}]
[null,"Blue Jays",49,46,0.51578947368421058,4,"TORONTO",48,42,0.53333333333333333,1,"Blue Jays",1,4,0.2,5,"PREV WEEK TO DATE",null,"  ",301,257,0.53942652329749108,null,287,277,0.50886524822695034,null,314,246,0.56071428571428572,null,{"$error":"#N/A"},{"$error":"#N/A"},{"$error":"#N/A"}]
[null,null,null," ",null,null,null,null," ",null,null,null,null,null,null,null,"CUR TOTAL TO DATE",null,"  ",324,273,0.542713567839196,null,306,296,0.50830564784053156,null,334,264,0.55852842809364545,null,{"$error":"#N/A"},{"$error":"#N/A"},{"$error":"#N/A"}]
[null,null,null," ",null,null,"AL CENTRAL",null," ",null,null,"AL CENTRAL"]
[null,"Central","W","L","PCT",null,"TEAM","W","L","PCT",null,"TEAM","W","L","PCT"]
[null,"White Sox",59,40,0.59595959595959591,1,"CHICAGO",56,36,0.60869565217391308,4,"White Sox",3,4,0.42857142857142855,3,"SEASON TLT TO DATE",null,"  ",273,231,0.54166666666666663,null,256,251,0.50493096646942803,null,285,219,0.56547619047619047,null,{"$error":"#N/A"},{"$error":"#N/A"},{"$error":"#N/A"}]
[null,"Indians",49,48,0.50515463917525771,2,"CLEVELAND",47,43,0.52222222222222225,3,"Indians",2,5,0.2857142857142857,5,"JULY TOTAL TO DATE",null,null,51,42,0.54838709677419351,null,50,45,0.52631578947368418,null,49,45,0.52127659574468088,null,{"$error":"#N/A"},{"$error":"#N/A"},{"$error":"#N/A"}]
[null,"Tigers",47,54,0.46534653465346537,3,"DETROIT",43,51,0.45744680851063829,1,"Tigers",4,3,0.5714285714285714,2]
[null,"Royals",42,55,0.4329896907216495,4,"KANSAS CITY",37,55,0.40217391304347827,1,"Royals",5,0,1,1]
[null,"Twins",42,58,0.42,5,"MINNESOTA",39,53,0.42391304347826086,0,"Twins",3,5,0.375,4,null,null,"JIM T.",null,null,null,"JEAN",null,null,null,"DIANE",null,null,null,0]
[null,null,null," ",null,null,null,null," ",null,null,null,null,null,null,null,null,null,"RANK","W","L","PCT","RANK","W","L","PCT","RANK","W","L","PCT","RANK","W","L","PCT"]
[null,null,null," ",null,null,"AL WEST",null," ",null,null,"AL WEST",null,null,null,null,null,null,"Red Sox",5,1,0.83333333333333337,"Mets",4,2,0.66666666666666663,"Red Sox",5,1,0.83333333333333337,0,{"$error":"#N/A"},{"$error":"#N/A"},{"$error":"#N/A"}]
[null,"West","W","L","PCT",null,"TEAM","W","L","PCT",null,"TEAM","W","L","PCT",null,null,null,"White Sox",3,4,0.42857142857142855,"Astros",5,1,0.83333333333333337,"Mets",4,2,0.66666666666666663,0,{"$error":"#N/A"},{"$error":"#N/A"},{"$error":"#N/A"}]
[null,"Angels",49,49,0.5,4,"LOS ANGELES",46,46,0.5,0,"Angels",3,3,0.5,3,null,null,"Athletics",3,3,0.5,"Giants",4,3,0.5714285714285714,"Brewers",2,3,0.4,0,{"$error":"#N/A"},{"$error":"#N/A"},{"$error":"#N/A"}]
[null,"Athletics",56,45,0.5544554455445545,2,"OAKLAND",53,42,0.55789473684210522,4,"Athletics",3,3,0.5,3,null,null,"Braves",3,3,0.5,"Blue Jays",1,4,0.2,"Padres",3,3,0.5,0,{"$error":"#N/A"},{"$error":"#N/A"},{"$error":"#N/A"}]
[null,"Mariners",54,46,0.54,3,"SEATTLE",50,44,0.53191489361702127,1,"Mariners",4,2,0.66666666666666663,2,null,null,"Brewers",2,3,0.4,"Royals",5,0,1,"Indians",2,5,0.2857142857142857,0,{"$error":"#N/A"},{"$error":"#N/A"},{"$error":"#N/A"}]
[null,"Rangers",35,65,0.35,5,"TEXAS",35,58,0.37634408602150538,0,"Rangers",0,7,0,5,null,null,"Dodgers",3,4,0.42857142857142855,"Cardinals",4,3,0.5714285714285714,"Mariners",4,2,0.66666666666666663,0,{"$error":"#N/A"},{"$error":"#N/A"},{"$error":"#N/A"}]
[null,"Astros",61,39,0.61,1,"HOUSTON",56,38,0.5957446808510638,4,"Astros",5,1,0.83333333333333337,1,"WEEKLY TOTAL",null,null,19,18,0.51351351351351349,null,23,13,0.63888888888888884,null,20,16,0.55555555555555558,null,{"$error":"#N/A"},{"$error":"#N/A"},{"$error":"#N/A"}]
[null,null,null,null,null,null,null,null,null,null,null,null,null,null,null,null,"PREV WEEK TO DATE",null,null,304,254,0.54480286738351258,null,270,281,0.49001814882032668,null,296,263,0.52951699463327373,null,{"$error":"#N/A"},{"$error":"#N/A"},{"$error":"#N/A"}]
[null,"National League",null," ",null,null,"NL EAST",null," ",null,null,"NL EAST",null,null,null,null,"CUR TOTAL TO DATE",null,null,323,272,0.54285714285714282,null,293,294,0.49914821124361158,null,316,279,0.53109243697478992,null,{"$error":"#N/A"},{"$error":"#N/A"},{"$error":"#N/A"}]
[null,"East","W","L","PCT",null,"TEAM","W","L","PCT",null,"TEAM","W","L","PCT"]
[null,"Braves",48,50,0.48979591836734693,3,"ATLANTA",45,47,0.4891304347826087,3,"Braves",3,3,0.5,2]
[null,"Marlins",43,57,0.43,5,"Miami",40,53,0.43010752688172044,0,"Marlins",3,4,0.42857142857142855,3,"SEASON TLT TO DATE",null,null,276,226,0.54980079681274896,null,244,254,0.48995983935742971,null,268,234,0.53386454183266929,null,{"$error":"#N/A"},{"$error":"#N/A"},{"$error":"#N/A"}]
[null,"Mets",52,44,0.54166666666666663,1,"NEW YORK",48,42,0.53333333333333333,4,"Mets",4,2,0.66666666666666663,1,"JULY TOTAL TO DATE",null,null,47,46,0.5053763440860215,null,49,40,0.550561797752809,null,48,45,0.5161290322580645,null,{"$error":"#N/A"},{"$error":"#N/A"},{"$error":"#N/A"}]
[null,"Phillies",49,49,0.5,2,"PHILADELPHIA",47,45,0.51086956521739135,1,"Phillies",2,4,0.33333333333333331,4]
[null,"Nationals",45,53,0.45918367346938777,4,"WASHINGTON",43,49,0.46739130434782611,1,"Nationals",2,4,0.33333333333333331,4]
[null,null,null," ",null,null,null,null," ",null,null,null,null,null,null,null,null,null,"JIM K.",null,null,null,"TIM",null,null,null,"-----",null,null,null,0]
[null,null,null," ",null,null,"NL CENTRAL",null," ",null,null,"NL CENTRAL",null,null,null,null,null,null,"RANK","W","L","PCT","RANK","W","L","PCT","RANK","W","L","PCT","RANK","W","L","PCT"]
[null,"Central","W","L","PCT",null,"TEAM","W","L","PCT",null,"TEAM","W","L","PCT",null,null,null,"Giants",4,3,0.5714285714285714,"Red Sox",5,1,0.83333333333333337,null,null,null,null,0,{"$error":"#N/A"},{"$error":"#N/A"},{"$error":"#N/A"}]
[null,"Cubs",49,51,0.49,4,"CHICAGO",46,47,0.4946236559139785,1,"Cubs",3,4,0.42857142857142855,3,null,null,"Red Sox",5,1,0.83333333333333337,"White Sox",3,4,0.42857142857142855,null,null,null,null,0,{"$error":"#N/A"},{"$error":"#N/A"},{"$error":"#N/A"}]
[null,"Reds",51,48,0.51515151515151514,2,"CINCINNATI",48,45,0.5161290322580645,1,"Reds",3,3,0.5,2,null,null,"Indians",2,5,0.2857142857142857,"Athletics",3,3,0.5,null,null,null,null,0,{"$error":"#N/A"},{"$error":"#N/A"},{"$error":"#N/A"}]
[null,"Brewers",58,42,0.57999999999999996,1,"MILWAUKEE",56,39,0.58947368421052626,4,"Brewers",2,3,0.4,4,null,null,"Astros",5,1,0.83333333333333337,"Nationals",2,4,0.33333333333333331,null,null,null,null,0,{"$error":"#N/A"},{"$error":"#N/A"},{"$error":"#N/A"}]
[null,"Pirates",38,61,0.38383838383838381,5,"PITTSBURGH",36,57,0.38709677419354838,0,"Pirates",2,4,0.33333333333333331,5,null,null,"Reds",3,3,0.5,"Cubs",3,4,0.42857142857142855,null,null,null,null,0,{"$error":"#N/A"},{"$error":"#N/A"},{"$error":"#N/A"}]
[null,"Cardinals",50,50,0.5,3,"ST LOUIS",46,47,0.4946236559139785,3,"Cardinals",4,3,0.5714285714285714,1,null,null,"Phillies",2,4,0.33333333333333331,"Giants",4,3,0.5714285714285714,null,null,null,null,0,{"$error":"#N/A"},{"$error":"#N/A"},{"$error":"#N/A"}]
[null,null,null," ",null,null,null,null," ",null,null,null,null,null,null,null,"WEEKLY TOTAL",null,null,21,17,0.55263157894736847,null,20,19,0.51282051282051277,null,0,30,"",null,{"$error":"#N/A"},{"$error":"#N/A"},{"$error":"#N/A"}]
[null,null,null," ",null,null,"NL WEST",null," ",null,null,"NL WEST",null,null,null,null,"PREV WEEK TO DATE",null,null,277,276,0.50090415913200725,null,293,271,0.51950354609929073,null,0,460,"",null,{"$error":"#N/A"},{"$error":"#N/A"},{"$error":"#N/A"}]
[null,"West","W","L","PCT",null,"TEAM","W","L","PCT",null,"TEAM","W","L","PCT",null,"CUR TOTAL TO DATE",null,null,298,293,0.50423011844331644,null,313,290,0.5190713101160862,null,0,490,"",null,{"$error":"#N/A"},{"$error":"#N/A"},{"$error":"#N/A"}]
[null,"Diamondbacks",31,70,0.30693069306930693,5,"ARIZONA",27,68,0.28421052631578947,1,"Diamondbacks",4,2,0.66666666666666663,1]
[null,"Rockies",43,56,0.43434343434343436,4,"COLORADO",41,53,0.43617021276595747,0,"Rockies",2,3,0.4,5]
[null,"Dodgers",61,40,0.60396039603960394,2,"LOS ANGELES",58,36,0.61702127659574468,4,"Dodgers",3,4,0.42857142857142855,4,"SEASON TLT TO DATE",null,null,253,244,0.50905432595573441,null,267,242,0.5245579567779961,null,0,400,"",null,{"$error":"#N/A"},{"$error":"#N/A"},{"$error":"#N/A"}]
[null,"Padres",58,44,0.56862745098039214,3,"SAN DIEGO",55,41,0.57291666666666663,1,"Padres",3,3,0.5,3,"JULY TOTAL TO DATE",null,null,45,49,0.47872340425531917,null,46,48,0.48936170212765956,null,0,90,"",null,{"$error":"#N/A"},{"$error":"#N/A"},{"$error":"#N/A"}]
[null,"Giants",62,37,0.6262626262626263,1,"SAN FRANCISCO",58,34,0.63043478260869568,3,"Giants",4,3,0.5714285714285714,2]
[null,null,null,null,null,null,null,null,null,null,null,null,94,94]
[null,null,null,"2021-07-26"," Morning"]
[]
[null,null,"WEEK 16"]
[null," ","NAME","W","L","PCT","GB"]
[null,null,"JEAN",23,13,0.63888888888888884,0]
[null," ","MIKE",23,16,0.58974358974358976,1.5]
[null," ","DIANE",20,16,0.55555555555555558,3]
[null," ","JIM K.",21,17,0.55263157894736847,3]
[null," ","LARRY",20,18,0.52631578947368418,4]
[null,null,"JIM T.",19,18,0.51351351351351349,4.5]
[null,null,"TIM",20,19,0.51282051282051277,4.5]
[null,null,"JOHN",19,19,0.5,5]
[null,null,"-----",0,30,0,"-----"]
[null,null,"","","","",""]
[null,null,"","","","",""]
[null,null,"","","","",""]
[]
[null,null,"MONTH OF  JULY"]
[null,null,"NAME","W","L","PCT","GB"]
[null,null,"JEAN",49,40,0.550561797752809,0]
[null,null,"MIKE",51,42,0.54838709677419351,0]
[null,null,"JOHN",50,45,0.52631578947368418,2]
[null,null,"LARRY",49,45,0.52127659574468088,2.5]
[null,null,"DIANE",48,45,0.5161290322580645,3]
[null,null,"JIM T.",47,46,0.5053763440860215,4]
[null,null,"TIM",46,48,0.48936170212765956,5.5]
[null,null,"JIM K.",45,49,0.47872340425531917,6.5]
[null,null,"-----",0,90,0,"-----"]
[null,null,"","","","",""]
[null,null,"","","","",""]
[null,null,"","","","",""]
[null,null,2021,null,"SEASON"]
[null,null,"NAME","W","L","PCT","GB"]
[null,null,"LARRY",334,264,0.55852842809364545,0]
[null,null,"JIM T.",323,272,0.54285714285714282,9.5]
[null,null,"MIKE",324,273,0.542713567839196,9.5]
[null,null,"DIANE",316,279,0.53109243697478992,16.5]
[null,null,"TIM",313,290,0.5190713101160862,23.5]
[null,null,"JOHN",306,296,0.50830564784053156,30]
[null,null,"JIM K.",298,293,0.50423011844331644,32.5]
[null,null,"JEAN",293,294,0.49914821124361158,35.5,null," "]
[null,null,"-----",0,490,0,"-----",null," "]
[null,null,"","","","","",null," "]
[null,null,"","","","",""]
[null,null,"","","","",""]
[]
[]
[]
[]
[]
[]
[]
[null,null,null,null,"CURRENT WEEK",null,null,null,null,null,null,"THIS WEEK"]
[null,null,"WEEK ENDING",null,"THIS WEEK","SEASON",null,null,null,null,null,"AL",null,"RANK"]
[null,null,"2021-07-25",null,"RANK","RANK",null,null,null,null,null,"KANSAS CITY",1,1]
[null,null,"KANSAS CITY",1,1,24,null,null,null,null,null,"BOSTON",0.83333333333333337,2]
[null,null,"BOSTON",0.83333333333333337,2,2,null,null,null,null,null,"HOUSTON",0.83333333333333337,2]
[null,null,"HOUSTON",0.83333333333333337,2,2,null,null,null,null,null,"TAMPA BAY",0.7142857142857143,4]
[null,null,"TAMPA BAY",0.7142857142857143,4,5,null,null,null,null,null,"SEATTLE",0.66666666666666663,5]
[null,null,"ARIZONA",0.66666666666666663,5,30,null,null,null,null,null,"BALTIMORE",0.66666666666666663,5]
[null,null,"NEW YORK N",0.66666666666666663,5,10,null,null,null,null,null,"DETROIT",0.5714285714285714,7]
[null,null,"SEATTLE",0.66666666666666663,5,11,null,null,null,null,null,"OAKLAND",0.5,8]
[null,null,"BALTIMORE",0.66666666666666663,5,29,null,null,null,null,null,"NEW YORK A",0.5,8]
[null,null,"DETROIT",0.5714285714285714,9,21,null,null,null,null,null,"LOS ANGELES A",0.5,8]
[null,null,"ST LOUIS",0.5714285714285714,9,16,null,null,null,null,null,"CHICAGO A",0.42857142857142855,11]
[null,null,"SAN FRANCISCO",0.5714285714285714,9,1,null,null,null,null,null,"MINNESOTA",0.375,12]
[null,null,"OAKLAND",0.5,12,9,null,null,null,null,null,"CLEVELAND",0.2857142857142857,13]
[null,null,"SAN DIEGO",0.5,12,8,null,null,null,null,null,"TORONTO",0.2,14]
[null,null,"NEW YORK A",0.5,12,12,null,null,null,null,null,"TEXAS",0,15]
[null,null,"ATLANTA",0.5,12,20,null,null,null,null,null,"NL"]
[null,null,"CINCINNATI",0.5,12,14,null,null,null,null,null,"ARIZONA",0.66666666666666663,1]
[null,null,"LOS ANGELES A",0.5,12,16,null,null,null,null,null,"NEW YORK N",0.66666666666666663,1]
[null,null,"CHICAGO A",0.42857142857142855,18,6,null,null,null,null,null,"ST LOUIS",0.5714285714285714,3]
[null,null,"CHICAGO N",0.42857142857142855,18,19,null,null,null,null,null,"SAN FRANCISCO",0.5714285714285714,3]
[null,null,"LOS ANGELES N",0.42857142857142855,18,4,null,null,null,null,null,"SAN DIEGO",0.5,5]
[null,null,"MIAMI",0.42857142857142855,18,25,null,null,null,null,null,"ATLANTA",0.5,5]
[null,null,"COLORADO",0.4,22,23,null,null,null,null,null,"CINCINNATI",0.5,5]
[null,null,"MILWAUKEE",0.4,22,7,null,null,null,null,null,"CHICAGO N",0.42857142857142855,8]
[null,null,"MINNESOTA",0.375,24,26,null,null,null,null,null,"LOS ANGELES N",0.42857142857142855,8]
[null,null,"WASHINGTON",0.33333333333333331,25,22,null,null,null,null,null,"MIAMI",0.42857142857142855,8]
[null,null,"PITTSBURGH",0.33333333333333331,25,27,null,null,null,null,null,"COLORADO",0.4,11]
[null,null,"PHILADELPHIA",0.33333333333333331,25,16,null,null,null,null,null,"MILWAUKEE",0.4,11]
[null,null,"CLEVELAND",0.2857142857142857,28,15,null,null,null,null,null,"WASHINGTON",0.33333333333333331,13]
[null,null,"TORONTO",0.2,29,13,null,null,null,null,null,"PITTSBURGH",0.33333333333333331,13]
[null,null,"TEXAS",0,30,28,null,null,null,null,null,"PHILADELPHIA",0.33333333333333331,13]
[]
[null,null,null,null,"SEASON TO DATE",null,null,null,null,null,null,"SEASON TO DATE"]
[null,null,null,null,null,null,null,null,null,null,null,"AL"]
[null,null,"SEASON TO-DATE",null,"RANK",null,null,null,null,null,null,"BOSTON",0.61,1]
[null,null,"SAN FRANCISCO",0.6262626262626263,1,null,null,null,null,null,null,"HOUSTON",0.61,1]
[null,null,"BOSTON",0.61,2,null,null,null,null,null,null,"TAMPA BAY",0.6,3]
[null,null,"HOUSTON",0.61,2,null,null,null,null,null,null,"CHICAGO A",0.59595959595959591,4]
[null,null,"LOS ANGELES N",0.60396039603960394,4,null,null,null,null,null,null,"OAKLAND",0.5544554455445545,5]
[null,null,"TAMPA BAY",0.6,5,null,null,null,null,null,null,"SEATTLE",0.54,6]
[null,null,"CHICAGO A",0.59595959595959591,6,null,null,null,null,null,null,"NEW YORK A",0.52040816326530615,7]
[null,null,"MILWAUKEE",0.57999999999999996,7,null,null,null,null,null,null,"TORONTO",0.51578947368421058,8]
[null,null,"SAN DIEGO",0.56862745098039214,8,null,null,null,null,null,null,"CLEVELAND",0.50515463917525771,9]
[null,null,"OAKLAND",0.5544554455445545,9,null,null,null,null,null,null,"LOS ANGELES A",0.5,10]
[null,null,"NEW YORK N",0.54166666666666663,10,null,null,null,null,null,null,"DETROIT",0.46534653465346537,11]
[null,null,"SEATTLE",0.54,11,null,null,null,null,null,null,"KANSAS CITY",0.4329896907216495,12]
[null,null,"NEW YORK A",0.52040816326530615,12,null,null,null,null,null,null,"MINNESOTA",0.42,13]
[null,null,"TORONTO",0.51578947368421058,13,null,null,null,null,null,null,"TEXAS",0.35,14]
[null,null,"CINCINNATI",0.51515151515151514,14,null,null,null,null,null,null,"BALTIMORE",0.34693877551020408,15]
[null,null,"CLEVELAND",0.50515463917525771,15,null,null,null,null,null,null,"NL"]
[null,null,"ST LOUIS",0.5,16,null,null,null,null,null,null,"SAN FRANCISCO",0.6262626262626263,1]
[null,null,"PHILADELPHIA",0.5,16,null,null,null,null,null,null,"LOS ANGELES N",0.60396039603960394,2]
[null,null,"LOS ANGELES A",0.5,16,null,null,null,null,null,null,"MILWAUKEE",0.57999999999999996,3]
[null,null,"CHICAGO N",0.49,19,null,null,null,null,null,null,"SAN DIEGO",0.56862745098039214,4]
[null,null,"ATLANTA",0.48979591836734693,20,null,null,null,null,null,null,"NEW YORK N",0.54166666666666663,5]
[null,null,"DETROIT",0.46534653465346537,21,null,null,null,null,null,null,"CINCINNATI",0.51515151515151514,6]
[null,null,"WASHINGTON",0.45918367346938777,22,null,null,null,null,null,null,"ST LOUIS",0.5,7]
[null,null,"COLORADO",0.43434343434343436,23,null,null,null,null,null,null,"PHILADELPHIA",0.5,7]
[null,null,"KANSAS CITY",0.4329896907216495,24,null,null,null,null,null,null,"CHICAGO N",0.49,9]
[null,null,"MIAMI",0.43,25,null,null,null,null,null,null,"ATLANTA",0.48979591836734693,10]
[null,null,"MINNESOTA",0.42,26,null,null,null,null,null,null,"WASHINGTON",0.45918367346938777,11]
[null,null,"PITTSBURGH",0.38383838383838381,27,null,null,null,null,null,null,"COLORADO",0.43434343434343436,12]
[null,null,"TEXAS",0.35,28,null,null,null,null,null,null,"MIAMI",0.43,13]
[null,null,"BALTIMORE",0.34693877551020408,29,null,null,null,null,null,null,"PITTSBURGH",0.38383838383838381,14]

{"sheet":"18-Jul","index":23,"n_rows":172,"n_cols":34,"rows_kept":172,"cut":false,"hidden":false,"merged":[[1,16,1,33],[2,13,2,14],[3,18,3,21],[3,22,3,25],[3,26,3,29],[3,30,3,33],[20,30,20,33],[4,2,4,4],[4,6,4,9],[4,11,4,14],[11,16,11,17],[12,16,12,17],[13,16,13,17],[16,16,16,17],[17,16,17,17],[20,18,20,21],[20,22,20,25],[20,26,20,29],[47,16,47,17],[28,16,28,17],[29,16,29,17],[30,16,30,17],[33,16,33,17],[34,16,34,17],[37,22,37,25],[37,26,37,29],[37,30,37,33],[45,16,45,17],[46,16,46,17],[37,18,37,21],[50,16,50,17],[51,16,51,17],[56,2,56,6],[71,2,71,6],[85,2,85,3],[85,4,85,5],[94,9,94,13],[95,9,95,13],[102,16,102,20],[106,4,106,5],[107,2,107,3],[107,11,107,12],[141,11,141,12],[142,2,142,3],[157,11,157,12],[108,2,108,3],[113,16,113,20],[123,11,123,12],[124,16,124,20],[140,4,140,5],[140,11,140,12]]}
[null,2021,"STANDINGS"]
[null,null,null,null,null,null,null,null,null,null,null,null,null,null,null,null,"CURRENT WEEK RESULTS"]
[null,"WEEK ENDING "," ","2021-07-18",null,null,null," ",null,null,null,"WEEK",15,"JULY",null," "]
[null,null,null,null,null,null,null,null,null,null,null,null,null,null,null,null,null,null,"MIKE",null,null,null,"JOHN",null,null,null,"LARRY",null,null,null,0]
[null,null,"CURRENT WEEK-SEASON TO DATE",null,null,null,"PREVIOUS WEEK-SEASON TO DATE",null,null,null,null,"CURRENT WEEK TOTALS",null,null,null,null,null,null,"RANK","W","L","PCT","RANK","W","L","PCT","RANK","W","L","PCT","RANK","W","L","PCT"]
[null,null,null,null,null,null,null,null,null,null,null,null,null,null,null,null,null,null,"Dodgers",2,1,0.66666666666666663,"Dodgers",2,1,0.66666666666666663,"Brewers",3,0,1,0,{"$error":"#N/A"},{"$error":"#N/A"},{"$error":"#N/A"}]
[null,"American League",null,null,null,null,"AL EAST",null,null,null,"Times","AL EAST",null,null,null,null,null,null,"White Sox",2,1,0.66666666666666663,"Brewers",3,0,1,"White Sox",2,1,0.66666666666666663,0,{"$error":"#N/A"},{"$error":"#N/A"},{"$error":"#N/A"}]
[null,"East","W","L","PCT","Rank","TEAM","W","L","PCT","Picked","TEAM","W","L","PCT","Rank",null,null,"Red Sox",1,2,0.33333333333333331,"Rays",2,1,0.66666666666666663,"Dodgers",2,1,0.66666666666666663,0,{"$error":"#N/A"},{"$error":"#N/A"},{"$error":"#N/A"}]
[null,"Orioles",30,62,0.32608695652173914,5,"BALTIMORE",28,61,0.3146067415730337,1,"Orioles",2,1,0.66666666666666663,2,null,null,"Braves",1,2,0.33333333333333331,"Athletics",1,2,0.33333333333333331,"Mets",1,2,0.33333333333333331,0,{"$error":"#N/A"},{"$error":"#N/A"},{"$error":"#N/A"}]
[null,"Red Sox",56,38,0.5957446808510638,1,"BOSTON",55,36,0.60439560439560436,5,"Red Sox",1,2,0.33333333333333331,5,null,null,"Astros",1,2,0.33333333333333331,"Mets",1,2,0.33333333333333331,"Rays",2,1,0.66666666666666663,0,{"$error":"#N/A"},{"$error":"#N/A"},{"$error":"#N/A"}]
[null,"Yankees",48,44,0.52173913043478259,4,"NEW YORK",46,43,0.5168539325842697,0,"Yankees",2,1,0.66666666666666663,2,null,null,"Cardinals",2,1,0.66666666666666663,"Indians",2,1,0.66666666666666663,"Athletics",1,2,0.33333333333333331,0,{"$error":"#N/A"},{"$error":"#N/A"},{"$error":"#N/A"}]
[null,"Rays",55,38,0.59139784946236562,2,"TAMPA BAY",53,37,0.58888888888888891,2,"Rays",2,1,0.66666666666666663,2,"WEEKLY TOTAL",null,null,9,9,0.5,null,11,7,0.61111111111111116,null,11,7,0.61111111111111116,null,{"$error":"#N/A"},{"$error":"#N/A"},{"$error":"#N/A"}]
[null,"Blue Jays",48,42,0.53333333333333333,3,"TORONTO",45,42,0.51724137931034486,1,"Blue Jays",3,0,1,1,"PREV WEEK TO DATE",null,"  ",292,248,0.54074074074074074,null,276,270,0.50549450549450547,null,303,239,0.55904059040590404,null,{"$error":"#N/A"},{"$error":"#N/A"},{"$error":"#N/A"}]
[null,null,null," ",null,null,null,null," ",null,null,null,null,null,null,null,"CUR TOTAL TO DATE",null,"  ",301,257,0.53942652329749108,null,287,277,0.50886524822695034,null,314,246,0.56071428571428572,null,{"$error":"#N/A"},{"$error":"#N/A"},{"$error":"#N/A"}]
[null,null,null," ",null,null,"AL CENTRAL",null," ",null,null,"AL CENTRAL"]
[null,"Central","W","L","PCT",null,"TEAM","W","L","PCT",null,"TEAM","W","L","PCT"]
[null,"White Sox",56,36,0.60869565217391308,1,"CHICAGO",54,35,0.6067415730337079,4,"White Sox",2,1,0.66666666666666663,2,"SEASON TLT TO DATE",null,"  ",273,231,0.54166666666666663,null,256,251,0.50493096646942803,null,285,219,0.56547619047619047,null,{"$error":"#N/A"},{"$error":"#N/A"},{"$error":"#N/A"}]
[null,"Indians",47,43,0.52222222222222225,2,"CLEVELAND",45,42,0.51724137931034486,3,"Indians",2,1,0.66666666666666663,2,"JULY TOTAL TO DATE",null,null,28,26,0.51851851851851849,null,31,26,0.54385964912280704,null,29,27,0.5178571428571429,null,{"$error":"#N/A"},{"$error":"#N/A"},{"$error":"#N/A"}]
[null,"Tigers",43,51,0.45744680851063829,3,"DETROIT",40,51,0.43956043956043955,1,"Tigers",3,0,1,1]
[null,"Royals",37,55,0.40217391304347827,5,"KANSAS CITY",36,53,0.4044943820224719,1,"Royals",1,2,0.33333333333333331,4]
[null,"Twins",39,53,0.42391304347826086,4,"MINNESOTA",39,50,0.43820224719101125,0,"Twins",0,3,0,5,null,null,"JIM T.",null,null,null,"JEAN",null,null,null,"DIANE",null,null,null,0]
[null,null,null," ",null,null,null,null," ",null,null,null,null,null,null,null,null,null,"RANK","W","L","PCT","RANK","W","L","PCT","RANK","W","L","PCT","RANK","W","L","PCT"]
[null,null,null," ",null,null,"AL WEST",null," ",null,null,"AL WEST",null,null,null,null,null,null,"Red Sox",1,2,0.33333333333333331,"Mets",1,2,0.33333333333333331,"Red Sox",1,2,0.33333333333333331,0,{"$error":"#N/A"},{"$error":"#N/A"},{"$error":"#N/A"}]
[null,"West","W","L","PCT",null,"TEAM","W","L","PCT",null,"TEAM","W","L","PCT",null,null,null,"White Sox",2,1,0.66666666666666663,"Astros",1,2,0.33333333333333331,"Mets",1,2,0.33333333333333331,0,{"$error":"#N/A"},{"$error":"#N/A"},{"$error":"#N/A"}]
[null,"Angels",46,46,0.5,4,"LOS ANGELES",45,44,0.5056179775280899,0,"Angels",1,2,0.33333333333333331,2,null,null,"Athletics",1,2,0.33333333333333331,"Giants",1,2,0.33333333333333331,"Brewers",3,0,1,0,{"$error":"#N/A"},{"$error":"#N/A"},{"$error":"#N/A"}]
[null,"Athletics",53,42,0.55789473684210522,2,"OAKLAND",52,40,0.56521739130434778,4,"Athletics",1,2,0.33333333333333331,2,null,null,"Braves",1,2,0.33333333333333331,"Blue Jays",3,0,1,"Padres",2,1,0.66666666666666663,0,{"$error":"#N/A"},{"$error":"#N/A"},{"$error":"#N/A"}]
[null,"Mariners",50,44,0.53191489361702127,3,"SEATTLE",48,43,0.52747252747252749,1,"Mariners",2,1,0.66666666666666663,1,null,null,"Brewers",3,0,1,"Royals",1,2,0.33333333333333331,"Indians",2,1,0.66666666666666663,0,{"$error":"#N/A"},{"$error":"#N/A"},{"$error":"#N/A"}]
[null,"Rangers",35,58,0.37634408602150538,5,"TEXAS",35,55,0.3888888888888889,0,"Rangers",0,3,0,5,null,null,"Dodgers",2,1,0.66666666666666663,"Cardinals",2,1,0.66666666666666663,"Mariners",2,1,0.66666666666666663,0,{"$error":"#N/A"},{"$error":"#N/A"},{"$error":"#N/A"}]
[null,"Astros",56,38,0.5957446808510638,1,"HOUSTON",55,36,0.60439560439560436,4,"Astros",1,2,0.33333333333333331,2,"WEEKLY TOTAL",null,null,10,8,0.55555555555555558,null,9,9,0.5,null,11,7,0.61111111111111116,null,{"$error":"#N/A"},{"$error":"#N/A"},{"$error":"#N/A"}]
[null,null,null,null,null,null,null,null,null,null,null,null,null,null,null,null,"PREV WEEK TO DATE",null,null,294,246,0.5444444444444444,null,261,272,0.4896810506566604,null,285,256,0.52680221811460259,null,{"$error":"#N/A"},{"$error":"#N/A"},{"$error":"#N/A"}]
[null,"National League",null," ",null,null,"NL EAST",null," ",null,null,"NL EAST",null,null,null,null,"CUR TOTAL TO DATE",null,null,304,254,0.54480286738351258,null,270,281,0.49001814882032668,null,296,263,0.52951699463327373,null,{"$error":"#N/A"},{"$error":"#N/A"},{"$error":"#N/A"}]
[null,"East","W","L","PCT",null,"TEAM","W","L","PCT",null,"TEAM","W","L","PCT"]
[null,"Braves",45,47,0.4891304347826087,3,"ATLANTA",44,45,0.4943820224719101,3,"Braves",1,2,0.33333333333333331,2]
[null,"Marlins",40,53,0.43010752688172044,5,"Miami",39,50,0.43820224719101125,0,"Marlins",1,3,0.25,5,"SEASON TLT TO DATE",null,null,276,226,0.54980079681274896,null,244,254,0.48995983935742971,null,268,234,0.53386454183266929,null,{"$error":"#N/A"},{"$error":"#N/A"},{"$error":"#N/A"}]
[null,"Mets",48,42,0.53333333333333333,1,"NEW YORK",47,40,0.54022988505747127,4,"Mets",1,2,0.33333333333333331,2,"JULY TOTAL TO DATE",null,null,28,28,0.5,null,26,27,0.49056603773584906,null,28,29,0.49122807017543857,null,{"$error":"#N/A"},{"$error":"#N/A"},{"$error":"#N/A"}]
[null,"Phillies",47,45,0.51086956521739135,2,"PHILADELPHIA",44,44,0.5,1,"Phillies",3,1,0.75,1]
[null,"Nationals",43,49,0.46739130434782611,4,"WASHINGTON",42,47,0.47191011235955055,1,"Nationals",1,2,0.33333333333333331,2]
[null,null,null," ",null,null,null,null," ",null,null,null,null,null,null,null,null,null,"JIM K.",null,null,null,"TIM",null,null,null,"-----",null,null,null,0]
[null,null,null," ",null,null,"NL CENTRAL",null," ",null,null,"NL CENTRAL",null,null,null,null,null,null,"RANK","W","L","PCT","RANK","W","L","PCT","RANK","W","L","PCT","RANK","W","L","PCT"]
[null,"Central","W","L","PCT",null,"TEAM","W","L","PCT",null,"TEAM","W","L","PCT",null,null,null,"Giants",1,2,0.33333333333333331,"Red Sox",1,2,0.33333333333333331,null,null,null,null,0,{"$error":"#N/A"},{"$error":"#N/A"},{"$error":"#N/A"}]
[null,"Cubs",46,47,0.4946236559139785,3,"CHICAGO",44,46,0.48888888888888887,1,"Cubs",2,1,0.66666666666666663,2,null,null,"Red Sox",1,2,0.33333333333333331,"White Sox",2,1,0.66666666666666663,null,null,null,null,0,{"$error":"#N/A"},{"$error":"#N/A"},{"$error":"#N/A"}]
[null,"Reds",48,45,0.5161290322580645,2,"CINCINNATI",48,42,0.53333333333333333,1,"Reds",0,3,0,5,null,null,"Indians",2,1,0.66666666666666663,"Athletics",1,2,0.33333333333333331,null,null,null,null,0,{"$error":"#N/A"},{"$error":"#N/A"},{"$error":"#N/A"}]
[null,"Brewers",56,39,0.58947368421052626,1,"MILWAUKEE",53,39,0.57608695652173914,4,"Brewers",3,0,1,1,null,null,"Astros",1,2,0.33333333333333331,"Nationals",1,2,0.33333333333333331,null,null,null,null,0,{"$error":"#N/A"},{"$error":"#N/A"},{"$error":"#N/A"}]
[null,"Pirates",36,57,0.38709677419354838,5,"PITTSBURGH",34,56,0.37777777777777777,0,"Pirates",2,1,0.66666666666666663,2,null,null,"Reds",0,3,0,"Cubs",2,1,0.66666666666666663,null,null,null,null,0,{"$error":"#N/A"},{"$error":"#N/A"},{"$error":"#N/A"}]
[null,"Cardinals",46,47,0.4946236559139785,3,"ST LOUIS",44,46,0.48888888888888887,3,"Cardinals",2,1,0.66666666666666663,2,null,null,"Phillies",3,1,0.75,"Giants",1,2,0.33333333333333331,null,null,null,null,0,{"$error":"#N/A"},{"$error":"#N/A"},{"$error":"#N/A"}]
[null,null,null," ",null,null,null,null," ",null,null,null,null,null,null,null,"WEEKLY TOTAL",null,null,8,11,0.42105263157894735,null,8,10,0.44444444444444442,null,0,30,"",null,{"$error":"#N/A"},{"$error":"#N/A"},{"$error":"#N/A"}]
[null,null,null," ",null,null,"NL WEST",null," ",null,null,"NL WEST",null,null,null,null,"PREV WEEK TO DATE",null,null,269,265,0.50374531835205993,null,285,261,0.52197802197802201,null,0,430,"",null,{"$error":"#N/A"},{"$error":"#N/A"},{"$error":"#N/A"}]
[null,"West","W","L","PCT",null,"TEAM","W","L","PCT",null,"TEAM","W","L","PCT",null,"CUR TOTAL TO DATE",null,null,277,276,0.50090415913200725,null,293,271,0.51950354609929073,null,0,460,"",null,{"$error":"#N/A"},{"$error":"#N/A"},{"$error":"#N/A"}]
[null,"Diamondbacks",27,68,0.28421052631578947,5,"ARIZONA",26,66,0.28260869565217389,1,"Diamondbacks",1,2,0.33333333333333331,3]
[null,"Rockies",41,53,0.43617021276595747,4,"COLORADO",40,51,0.43956043956043955,0,"Rockies",1,2,0.33333333333333331,3]
[null,"Dodgers",58,36,0.61702127659574468,2,"LOS ANGELES",56,35,0.61538461538461542,4,"Dodgers",2,1,0.66666666666666663,1,"SEASON TLT TO DATE",null,null,253,244,0.50905432595573441,null,267,242,0.5245579567779961,null,0,400,"",null,{"$error":"#N/A"},{"$error":"#N/A"},{"$error":"#N/A"}]
[null,"Padres",55,41,0.57291666666666663,3,"SAN DIEGO",53,40,0.56989247311827962,1,"Padres",2,1,0.66666666666666663,1,"JULY TOTAL TO DATE",null,null,24,32,0.42857142857142855,null,26,29,0.47272727272727272,null,0,60,"",null,{"$error":"#N/A"},{"$error":"#N/A"},{"$error":"#N/A"}]
[null,"Giants",58,34,0.63043478260869568,1,"SAN FRANCISCO",57,32,0.6404494382022472,3,"Giants",1,2,0.33333333333333331,3]
[null,null,null,null,null,null,null,null,null,null,null,null,46,46]
[null,null,null,"2021-07-20"," Morning"]
[]
[null,null,"WEEK 15"]
[null," ","NAME","W","L","PCT","GB"]
[null,null,"JOHN",11,7,0.61111111111111116,0]
[null," ","DIANE",11,7,0.61111111111111116,0]
[null," ","JIM T.",10,8,0.55555555555555558,1]
[null," ","LARRY",11,7,0.61111111111111116,0]
[null," ","MIKE",9,9,0.5,2]
[null,null,"JEAN",9,9,0.5,2]
[null,null,"TIM",8,10,0.44444444444444442,3]
[null,null,"JIM K.",8,11,0.42105263157894735,3.5]
[null,null,"-----",0,30,0,"-----"]
[null,null,"","","","",""]
[null,null,"","","","",""]
[null,null,"","","","",""]
[]
[null,null,"MONTH OF  JULY"]
[null,null,"NAME","W","L","PCT","GB"]
[null,null,"JOHN",31,26,0.54385964912280704,0]
[null,null,"MIKE",28,26,0.51851851851851849,1.5]
[null,null,"JIM T.",28,28,0.5,2.5]
[null,null,"DIANE",28,29,0.49122807017543857,3]
[null,null,"JEAN",26,27,0.49056603773584906,3]
[null,null,"LARRY",29,27,0.5178571428571429,1.5]
[null,null,"TIM",26,29,0.47272727272727272,4]
[null,null,"JIM K.",24,32,0.42857142857142855,6.5]
[null,null,"-----",0,60,0,"-----"]
[null,null,"","","","",""]
[null,null,"","","","",""]
[null,null,"","","","",""]
[null,null,2021,null,"SEASON"]
[null,null,"NAME","W","L","PCT","GB"]
[null,null,"LARRY",314,246,0.56071428571428572,0]
[null,null,"JIM T.",304,254,0.54480286738351258,9]
[null,null,"MIKE",301,257,0.53942652329749108,12]
[null,null,"DIANE",296,263,0.52951699463327373,17.5]
[null,null,"TIM",293,271,0.51950354609929073,23]
[null,null,"JOHN",287,277,0.50886524822695034,29]
[null,null,"JIM K.",277,276,0.50090415913200725,33.5]
[null,null,"JEAN",270,281,0.49001814882032668,39.5,null," "]
[null,null,"-----",0,460,0,"-----",null," "]
[null,null,"","","","","",null," "]
[null,null,"","","","",""]
[null,null,"","","","",""]
[]
[]
[]
[]
[]
[]
[]
[null,null,null,null,"CURRENT WEEK",null,null,null,null,null,null,"THIS WEEK"]
[null,null,"WEEK ENDING",null,"THIS WEEK","SEASON",null,null,null,null,null,"AL",null,"RANK"]
[null,null,"2021-07-18",null,"RANK","RANK",null,null,null,null,null,"DETROIT",1,1]
[null,null,"DETROIT",1,1,22,null,null,null,null,null,"TORONTO",1,1]
[null,null,"TORONTO",1,1,10,null,null,null,null,null,"TAMPA BAY",0.66666666666666663,3]
[null,null,"MILWAUKEE",1,1,7,null,null,null,null,null,"SEATTLE",0.66666666666666663,3]
[null,null,"PHILADELPHIA",0.75,4,16,null,null,null,null,null,"CHICAGO A",0.66666666666666663,3]
[null,null,"PITTSBURGH",0.66666666666666663,5,27,null,null,null,null,null,"NEW YORK A",0.66666666666666663,3]
[null,null,"SAN DIEGO",0.66666666666666663,5,8,null,null,null,null,null,"CLEVELAND",0.66666666666666663,3]
[null,null,"LOS ANGELES N",0.66666666666666663,5,2,null,null,null,null,null,"BALTIMORE",0.66666666666666663,3]
[null,null,"CHICAGO N",0.66666666666666663,5,18,null,null,null,null,null,"HOUSTON",0.33333333333333331,9]
[null,null,"TAMPA BAY",0.66666666666666663,5,6,null,null,null,null,null,"OAKLAND",0.33333333333333331,9]
[null,null,"SEATTLE",0.66666666666666663,5,12,null,null,null,null,null,"BOSTON",0.33333333333333331,9]
[null,null,"CHICAGO A",0.66666666666666663,5,3,null,null,null,null,null,"KANSAS CITY",0.33333333333333331,9]
[null,null,"NEW YORK A",0.66666666666666663,5,14,null,null,null,null,null,"LOS ANGELES A",0.33333333333333331,9]
[null,null,"ST LOUIS",0.66666666666666663,5,18,null,null,null,null,null,"MINNESOTA",0,14]
[null,null,"CLEVELAND",0.66666666666666663,5,13,null,null,null,null,null,"TEXAS",0,14]
[null,null,"BALTIMORE",0.66666666666666663,5,29,null,null,null,null,null,"NL"]
[null,null,"SAN FRANCISCO",0.33333333333333331,16,1,null,null,null,null,null,"MILWAUKEE",1,1]
[null,null,"HOUSTON",0.33333333333333331,16,4,null,null,null,null,null,"PHILADELPHIA",0.75,2]
[null,null,"OAKLAND",0.33333333333333331,16,9,null,null,null,null,null,"PITTSBURGH",0.66666666666666663,3]
[null,null,"BOSTON",0.33333333333333331,16,4,null,null,null,null,null,"SAN DIEGO",0.66666666666666663,3]
[null,null,"KANSAS CITY",0.33333333333333331,16,26,null,null,null,null,null,"LOS ANGELES N",0.66666666666666663,3]
[null,null,"ATLANTA",0.33333333333333331,16,20,null,null,null,null,null,"CHICAGO N",0.66666666666666663,3]
[null,null,"LOS ANGELES A",0.33333333333333331,16,17,null,null,null,null,null,"ST LOUIS",0.66666666666666663,3]
[null,null,"NEW YORK N",0.33333333333333331,16,10,null,null,null,null,null,"SAN FRANCISCO",0.33333333333333331,8]
[null,null,"ARIZONA",0.33333333333333331,16,30,null,null,null,null,null,"ATLANTA",0.33333333333333331,8]
[null,null,"COLORADO",0.33333333333333331,16,23,null,null,null,null,null,"NEW YORK N",0.33333333333333331,8]
[null,null,"WASHINGTON",0.33333333333333331,16,21,null,null,null,null,null,"ARIZONA",0.33333333333333331,8]
[null,null,"MIAMI",0.25,27,24,null,null,null,null,null,"COLORADO",0.33333333333333331,8]
[null,null,"MINNESOTA",0,28,25,null,null,null,null,null,"WASHINGTON",0.33333333333333331,8]
[null,null,"CINCINNATI",0,28,15,null,null,null,null,null,"MIAMI",0.25,14]
[null,null,"TEXAS",0,28,28,null,null,null,null,null,"CINCINNATI",0,15]
[]
[null,null,null,null,"SEASON TO DATE",null,null,null,null,null,null,"SEASON TO DATE"]
[null,null,null,null,null,null,null,null,null,null,null,"AL"]
[null,null,"SEASON TO-DATE",null,"RANK",null,null,null,null,null,null,"CHICAGO A",0.60869565217391308,1]
[null,null,"SAN FRANCISCO",0.63043478260869568,1,null,null,null,null,null,null,"BOSTON",0.5957446808510638,2]
[null,null,"LOS ANGELES N",0.61702127659574468,2,null,null,null,null,null,null,"HOUSTON",0.5957446808510638,2]
[null,null,"CHICAGO A",0.60869565217391308,3,null,null,null,null,null,null,"TAMPA BAY",0.59139784946236562,4]
[null,null,"BOSTON",0.5957446808510638,4,null,null,null,null,null,null,"OAKLAND",0.55789473684210522,5]
[null,null,"HOUSTON",0.5957446808510638,4,null,null,null,null,null,null,"TORONTO",0.53333333333333333,6]
[null,null,"TAMPA BAY",0.59139784946236562,6,null,null,null,null,null,null,"SEATTLE",0.53191489361702127,7]
[null,null,"MILWAUKEE",0.58947368421052626,7,null,null,null,null,null,null,"CLEVELAND",0.52222222222222225,8]
[null,null,"SAN DIEGO",0.57291666666666663,8,null,null,null,null,null,null,"NEW YORK A",0.52173913043478259,9]
[null,null,"OAKLAND",0.55789473684210522,9,null,null,null,null,null,null,"LOS ANGELES A",0.5,10]
[null,null,"NEW YORK N",0.53333333333333333,10,null,null,null,null,null,null,"DETROIT",0.45744680851063829,11]
[null,null,"TORONTO",0.53333333333333333,10,null,null,null,null,null,null,"MINNESOTA",0.42391304347826086,12]
[null,null,"SEATTLE",0.53191489361702127,12,null,null,null,null,null,null,"KANSAS CITY",0.40217391304347827,13]
[null,null,"CLEVELAND",0.52222222222222225,13,null,null,null,null,null,null,"TEXAS",0.37634408602150538,14]
[null,null,"NEW YORK A",0.52173913043478259,14,null,null,null,null,null,null,"BALTIMORE",0.32608695652173914,15]
[null,null,"CINCINNATI",0.5161290322580645,15,null,null,null,null,null,null,"NL"]
[null,null,"PHILADELPHIA",0.51086956521739135,16,null,null,null,null,null,null,"SAN FRANCISCO",0.63043478260869568,1]
[null,null,"LOS ANGELES A",0.5,17,null,null,null,null,null,null,"LOS ANGELES N",0.61702127659574468,2]
[null,null,"CHICAGO N",0.4946236559139785,18,null,null,null,null,null,null,"MILWAUKEE",0.58947368421052626,3]
[null,null,"ST LOUIS",0.4946236559139785,18,null,null,null,null,null,null,"SAN DIEGO",0.57291666666666663,4]
[null,null,"ATLANTA",0.4891304347826087,20,null,null,null,null,null,null,"NEW YORK N",0.53333333333333333,5]
[null,null,"WASHINGTON",0.46739130434782611,21,null,null,null,null,null,null,"CINCINNATI",0.5161290322580645,6]
[null,null,"DETROIT",0.45744680851063829,22,null,null,null,null,null,null,"PHILADELPHIA",0.51086956521739135,7]
[null,null,"COLORADO",0.43617021276595747,23,null,null,null,null,null,null,"CHICAGO N",0.4946236559139785,8]
[null,null,"MIAMI",0.43010752688172044,24,null,null,null,null,null,null,"ST LOUIS",0.4946236559139785,8]
[null,null,"MINNESOTA",0.42391304347826086,25,null,null,null,null,null,null,"ATLANTA",0.4891304347826087,10]
[null,null,"KANSAS CITY",0.40217391304347827,26,null,null,null,null,null,null,"WASHINGTON",0.46739130434782611,11]
[null,null,"PITTSBURGH",0.38709677419354838,27,null,null,null,null,null,null,"COLORADO",0.43617021276595747,12]
[null,null,"TEXAS",0.37634408602150538,28,null,null,null,null,null,null,"MIAMI",0.43010752688172044,13]
[null,null,"BALTIMORE",0.32608695652173914,29,null,null,null,null,null,null,"PITTSBURGH",0.38709677419354838,14]

{"sheet":"11-Jul","index":24,"n_rows":172,"n_cols":34,"rows_kept":172,"cut":false,"hidden":false,"merged":[[141,11,141,12],[142,2,142,3],[157,11,157,12],[108,2,108,3],[113,16,113,20],[123,11,123,12],[124,16,124,20],[140,4,140,5],[140,11,140,12],[94,9,94,13],[95,9,95,13],[102,16,102,20],[106,4,106,5],[107,2,107,3],[107,11,107,12],[50,16,50,17],[51,16,51,17],[56,2,56,6],[71,2,71,6],[85,2,85,3],[85,4,85,5],[37,22,37,25],[37,26,37,29],[37,30,37,33],[45,16,45,17],[46,16,46,17],[37,18,37,21],[47,16,47,17],[28,16,28,17],[29,16,29,17],[30,16,30,17],[33,16,33,17],[34,16,34,17],[20,30,20,33],[4,2,4,4],[4,6,4,9],[4,11,4,14],[11,16,11,17],[12,16,12,17],[13,16,13,17],[16,16,16,17],[17,16,17,17],[20,18,20,21],[20,22,20,25],[20,26,20,29],[1,16,1,33],[2,13,2,14],[3,18,3,21],[3,22,3,25],[3,26,3,29],[3,30,3,33]]}
[null,2021,"STANDINGS"]
[null,null,null,null,null,null,null,null,null,null,null,null,null,null,null,null,"CURRENT WEEK RESULTS"]
[null,"WEEK ENDING "," ","2021-07-11",null,null,null," ",null,null,null,"WEEK",14,"JULY",null," "]
[null,null,null,null,null,null,null,null,null,null,null,null,null,null,null,null,null,null,"MIKE",null,null,null,"JOHN",null,null,null,"LARRY",null,null,null,0]
[null,null,"CURRENT WEEK-SEASON TO DATE",null,null,null,"PREVIOUS WEEK-SEASON TO DATE",null,null,null,null,"CURRENT WEEK TOTALS",null,null,null,null,null,null,"RANK","W","L","PCT","RANK","W","L","PCT","RANK","W","L","PCT","RANK","W","L","PCT"]
[null,null,null,null,null,null,null,null,null,null,null,null,null,null,null,null,null,null,"Dodgers",3,4,0.42857142857142855,"Dodgers",3,4,0.42857142857142855,"Brewers",2,5,0.2857142857142857,0,{"$error":"#N/A"},{"$error":"#N/A"},{"$error":"#N/A"}]
[null,"American League",null,null,null,null,"AL EAST",null,null,null,"Times","AL EAST",null,null,null,null,null,null,"White Sox",5,1,0.83333333333333337,"Brewers",2,5,0.2857142857142857,"White Sox",5,1,0.83333333333333337,0,{"$error":"#N/A"},{"$error":"#N/A"},{"$error":"#N/A"}]
[null,"East","W","L","PCT","Rank","TEAM","W","L","PCT","Picked","TEAM","W","L","PCT","Rank",null,null,"Red Sox",2,4,0.33333333333333331,"Rays",5,1,0.83333333333333337,"Dodgers",3,4,0.42857142857142855,0,{"$error":"#N/A"},{"$error":"#N/A"},{"$error":"#N/A"}]
[null,"Orioles",28,61,0.3146067415730337,5,"BALTIMORE",27,57,0.32142857142857145,2,"Orioles",1,4,0.2,5,null,null,"Braves",3,3,0.5,"Athletics",3,3,0.5,"Braves",3,3,0.5,0,{"$error":"#N/A"},{"$error":"#N/A"},{"$error":"#N/A"}]
[null,"Red Sox",55,36,0.60439560439560436,1,"BOSTON",53,32,0.62352941176470589,5,"Red Sox",2,4,0.33333333333333331,4,null,null,"Astros",3,3,0.5,"Mets",4,3,0.5714285714285714,"Red Sox",2,4,0.33333333333333331,0,{"$error":"#N/A"},{"$error":"#N/A"},{"$error":"#N/A"}]
[null,"Yankees",46,43,0.5168539325842697,4,"NEW YORK",42,41,0.50602409638554213,0,"Yankees",4,2,0.66666666666666663,2,null,null,"Cardinals",3,2,0.6,"Indians",3,3,0.5,"Athletics",3,3,0.5,0,{"$error":"#N/A"},{"$error":"#N/A"},{"$error":"#N/A"}]
[null,"Rays",53,37,0.58888888888888891,2,"TAMPA BAY",48,36,0.5714285714285714,1,"Rays",5,1,0.83333333333333337,1,"WEEKLY TOTAL",null,null,19,17,0.52777777777777779,null,20,19,0.51282051282051277,null,18,20,0.47368421052631576,null,{"$error":"#N/A"},{"$error":"#N/A"},{"$error":"#N/A"}]
[null,"Blue Jays",45,42,0.51724137931034486,3,"TORONTO",43,39,0.52439024390243905,1,"Blue Jays",2,3,0.4,3,"PREV WEEK TO DATE",null,"  ",273,231,0.54166666666666663,null,256,251,0.50493096646942803,null,285,219,0.56547619047619047,null,{"$error":"#N/A"},{"$error":"#N/A"},{"$error":"#N/A"}]
[null,null,null," ",null,null,null,null," ",null,null,null,null,null,null,null,"CUR TOTAL TO DATE",null,"  ",292,248,0.54074074074074074,null,276,270,0.50549450549450547,null,303,239,0.55904059040590404,null,{"$error":"#N/A"},{"$error":"#N/A"},{"$error":"#N/A"}]
[null,null,null," ",null,null,"AL CENTRAL",null," ",null,null,"AL CENTRAL"]
[null,"Central","W","L","PCT",null,"TEAM","W","L","PCT",null,"TEAM","W","L","PCT"]
[null,"White Sox",54,35,0.6067415730337079,1,"CHICAGO",49,34,0.59036144578313254,4,"White Sox",5,1,0.83333333333333337,1,"SEASON TLT TO DATE",null,"  ",273,231,0.54166666666666663,null,256,251,0.50493096646942803,null,285,219,0.56547619047619047,null,{"$error":"#N/A"},{"$error":"#N/A"},{"$error":"#N/A"}]
[null,"Indians",45,42,0.51724137931034486,2,"CLEVELAND",42,39,0.51851851851851849,3,"Indians",3,3,0.5,3,"JULY TOTAL TO DATE",null,null,19,17,0.52777777777777779,null,20,19,0.51282051282051277,null,18,20,0.47368421052631576,null,{"$error":"#N/A"},{"$error":"#N/A"},{"$error":"#N/A"}]
[null,"Tigers",40,51,0.43956043956043955,3,"DETROIT",38,46,0.45238095238095238,1,"Tigers",2,5,0.2857142857142857,4]
[null,"Royals",36,53,0.4044943820224719,5,"KANSAS CITY",35,48,0.42168674698795183,1,"Royals",1,5,0.16666666666666666,5]
[null,"Twins",39,50,0.43820224719101125,4,"MINNESOTA",34,48,0.41463414634146339,0,"Twins",5,2,0.7142857142857143,2,null,null,"JIM T.",null,null,null,"JEAN",null,null,null,"DIANE",null,null,null,0]
[null,null,null," ",null,null,null,null," ",null,null,null,null,null,null,null,null,null,"RANK","W","L","PCT","RANK","W","L","PCT","RANK","W","L","PCT","RANK","W","L","PCT"]
[null,null,null," ",null,null,"AL WEST",null," ",null,null,"AL WEST",null,null,null,null,null,null,"Red Sox",2,4,0.33333333333333331,"Mets",4,3,0.5714285714285714,"Red Sox",2,4,0.33333333333333331,0,{"$error":"#N/A"},{"$error":"#N/A"},{"$error":"#N/A"}]
[null,"West","W","L","PCT",null,"TEAM","W","L","PCT",null,"TEAM","W","L","PCT",null,null,null,"White Sox",5,1,0.83333333333333337,"Astros",3,3,0.5,"Mets",4,3,0.5714285714285714,0,{"$error":"#N/A"},{"$error":"#N/A"},{"$error":"#N/A"}]
[null,"Angels",45,44,0.5056179775280899,4,"LOS ANGELES",42,41,0.50602409638554213,0,"Angels",3,3,0.5,1,null,null,"Athletics",3,3,0.5,"Giants",4,2,0.66666666666666663,"Brewers",2,5,0.2857142857142857,0,{"$error":"#N/A"},{"$error":"#N/A"},{"$error":"#N/A"}]
[null,"Athletics",52,40,0.56521739130434778,2,"OAKLAND",49,37,0.56976744186046513,4,"Athletics",3,3,0.5,1,null,null,"Braves",3,3,0.5,"Blue Jays",2,3,0.4,"Padres",3,4,0.42857142857142855,0,{"$error":"#N/A"},{"$error":"#N/A"},{"$error":"#N/A"}]
[null,"Mariners",48,43,0.52747252747252749,3,"SEATTLE",45,40,0.52941176470588236,1,"Mariners",3,3,0.5,1,null,null,"Brewers",2,5,0.2857142857142857,"Royals",1,5,0.16666666666666666,"Indians",3,3,0.5,0,{"$error":"#N/A"},{"$error":"#N/A"},{"$error":"#N/A"}]
[null,"Rangers",35,55,0.3888888888888889,5,"TEXAS",33,51,0.39285714285714285,1,"Rangers",2,4,0.33333333333333331,5,null,null,"Dodgers",3,4,0.42857142857142855,"Cardinals",3,2,0.6,"Mariners",3,3,0.5,0,{"$error":"#N/A"},{"$error":"#N/A"},{"$error":"#N/A"}]
[null,"Astros",55,36,0.60439560439560436,1,"HOUSTON",52,33,0.61176470588235299,3,"Astros",3,3,0.5,1,"WEEKLY TOTAL",null,null,18,20,0.47368421052631576,null,17,18,0.48571428571428571,null,17,22,0.4358974358974359,null,{"$error":"#N/A"},{"$error":"#N/A"},{"$error":"#N/A"}]
[null,null,null,null,null,null,null,null,null,null,null,null,null,null,null,null,"PREV WEEK TO DATE",null,null,276,226,0.54980079681274896,null,244,254,0.48995983935742971,null,268,234,0.53386454183266929,null,{"$error":"#N/A"},{"$error":"#N/A"},{"$error":"#N/A"}]
[null,"National League",null," ",null,null,"NL EAST",null," ",null,null,"NL EAST",null,null,null,null,"CUR TOTAL TO DATE",null,null,294,246,0.5444444444444444,null,261,272,0.4896810506566604,null,285,256,0.52680221811460259,null,{"$error":"#N/A"},{"$error":"#N/A"},{"$error":"#N/A"}]
[null,"East","W","L","PCT",null,"TEAM","W","L","PCT",null,"TEAM","W","L","PCT"]
[null,"Braves",44,45,0.4943820224719101,3,"ATLANTA",41,42,0.49397590361445781,4,"Braves",3,3,0.5,4]
[null,"Marlins",39,50,0.43820224719101125,5,"Miami",35,47,0.42682926829268292,0,"Marlins",4,3,0.5714285714285714,2,"SEASON TLT TO DATE",null,null,276,226,0.54980079681274896,null,244,254,0.48995983935742971,null,268,234,0.53386454183266929,null,{"$error":"#N/A"},{"$error":"#N/A"},{"$error":"#N/A"}]
[null,"Mets",47,40,0.54022988505747127,1,"NEW YORK",43,37,0.53749999999999998,3,"Mets",4,3,0.5714285714285714,2,"JULY TOTAL TO DATE",null,null,18,20,0.47368421052631576,null,17,18,0.48571428571428571,null,17,22,0.4358974358974359,null,{"$error":"#N/A"},{"$error":"#N/A"},{"$error":"#N/A"}]
[null,"Phillies",44,44,0.5,2,"PHILADELPHIA",39,42,0.48148148148148145,0,"Phillies",5,2,0.7142857142857143,1]
[null,"Nationals",42,47,0.47191011235955055,4,"WASHINGTON",40,42,0.48780487804878048,2,"Nationals",2,5,0.2857142857142857,5]
[null,null,null," ",null,null,null,null," ",null,null,null,null,null,null,null,null,null,"JIM K.",null,null,null,"TIM",null,null,null,"-----",null,null,null,0]
[null,null,null," ",null,null,"NL CENTRAL",null," ",null,null,"NL CENTRAL",null,null,null,null,null,null,"RANK","W","L","PCT","RANK","W","L","PCT","RANK","W","L","PCT","RANK","W","L","PCT"]
[null,"Central","W","L","PCT",null,"TEAM","W","L","PCT",null,"TEAM","W","L","PCT",null,null,null,"Orioles",1,4,0.2,"Red Sox",2,4,0.33333333333333331,null,null,null,null,0,{"$error":"#N/A"},{"$error":"#N/A"},{"$error":"#N/A"}]
[null,"Cubs",44,46,0.48888888888888887,3,"CHICAGO",42,42,0.5,1,"Cubs",2,4,0.33333333333333331,4,null,null,"Nationals",2,5,0.2857142857142857,"White Sox",5,1,0.83333333333333337,null,null,null,null,0,{"$error":"#N/A"},{"$error":"#N/A"},{"$error":"#N/A"}]
[null,"Reds",48,42,0.53333333333333333,2,"CINCINNATI",43,40,0.51807228915662651,0,"Reds",5,2,0.7142857142857143,1,null,null,"Pirates",4,3,0.5714285714285714,"Athletics",3,3,0.5,null,null,null,null,0,{"$error":"#N/A"},{"$error":"#N/A"},{"$error":"#N/A"}]
[null,"Brewers",53,39,0.57608695652173914,1,"MILWAUKEE",51,34,0.6,4,"Brewers",2,5,0.2857142857142857,5,null,null,"Giants",4,2,0.66666666666666663,"Nationals",2,5,0.2857142857142857,null,null,null,null,0,{"$error":"#N/A"},{"$error":"#N/A"},{"$error":"#N/A"}]
[null,"Pirates",34,56,0.37777777777777777,5,"PITTSBURGH",30,53,0.36144578313253012,1,"Pirates",4,3,0.5714285714285714,3,null,null,"Indians",3,3,0.5,"Cubs",2,4,0.33333333333333331,null,null,null,null,0,{"$error":"#N/A"},{"$error":"#N/A"},{"$error":"#N/A"}]
[null,"Cardinals",44,46,0.48888888888888887,3,"ST LOUIS",41,44,0.4823529411764706,3,"Cardinals",3,2,0.6,2,null,null,"Rangers",2,4,0.33333333333333331,"Giants",4,2,0.66666666666666663,null,null,null,null,0,{"$error":"#N/A"},{"$error":"#N/A"},{"$error":"#N/A"}]
[null,null,null," ",null,null,null,null," ",null,null,null,null,null,null,null,"WEEKLY TOTAL",null,null,16,21,0.43243243243243246,null,18,19,0.48648648648648651,null,0,30,"",null,{"$error":"#N/A"},{"$error":"#N/A"},{"$error":"#N/A"}]
[null,null,null," ",null,null,"NL WEST",null," ",null,null,"NL WEST",null,null,null,null,"PREV WEEK TO DATE",null,null,253,244,0.50905432595573441,null,267,242,0.5245579567779961,null,0,400,"",null,{"$error":"#N/A"},{"$error":"#N/A"},{"$error":"#N/A"}]
[null,"West","W","L","PCT",null,"TEAM","W","L","PCT",null,"TEAM","W","L","PCT",null,"CUR TOTAL TO DATE",null,null,269,265,0.50374531835205993,null,285,261,0.52197802197802201,null,0,430,"",null,{"$error":"#N/A"},{"$error":"#N/A"},{"$error":"#N/A"}]
[null,"Diamondbacks",26,66,0.28260869565217389,5,"ARIZONA",23,63,0.26744186046511625,1,"Diamondbacks",3,3,0.5,2]
[null,"Rockies",40,51,0.43956043956043955,4,"COLORADO",37,48,0.43529411764705883,0,"Rockies",3,3,0.5,2]
[null,"Dodgers",56,35,0.61538461538461542,2,"LOS ANGELES",53,31,0.63095238095238093,4,"Dodgers",3,4,0.42857142857142855,4,"SEASON TLT TO DATE",null,null,253,244,0.50905432595573441,null,267,242,0.5245579567779961,null,0,400,"",null,{"$error":"#N/A"},{"$error":"#N/A"},{"$error":"#N/A"}]
[null,"Padres",53,40,0.56989247311827962,3,"SAN DIEGO",50,36,0.58139534883720934,1,"Padres",3,4,0.42857142857142855,4,"JULY TOTAL TO DATE",null,null,16,21,0.43243243243243246,null,18,19,0.48648648648648651,null,0,30,"",null,{"$error":"#N/A"},{"$error":"#N/A"},{"$error":"#N/A"}]
[null,"Giants",57,32,0.6404494382022472,1,"SAN FRANCISCO",53,30,0.63855421686746983,3,"Giants",4,2,0.66666666666666663,1]
[null,null,null,null,null,null,null,null,null,null,null,null,94,94]
[null,null,null,"2021-07-15"," Morning"]
[]
[null,null,"WEEK 14"]
[null," ","NAME","W","L","PCT","GB"]
[null,null,"MIKE",19,17,0.52777777777777779,0]
[null," ","JOHN",20,19,0.51282051282051277,0.5]
[null," ","TIM",18,19,0.48648648648648651,1.5]
[null," ","JEAN",17,18,0.48571428571428571,1.5]
[null," ","LARRY",18,20,0.47368421052631576,2]
[null,null,"JIM T.",18,20,0.47368421052631576,2]
[null,null,"DIANE",17,22,0.4358974358974359,3.5]
[null,null,"JIM K.",16,21,0.43243243243243246,3.5]
[null,null,"-----",0,30,0,"-----"]
[null,null,"","","","",""]
[null,null,"","","","",""]
[null,null,"","","","",""]
[]
[null,null,"MONTH OF  JULY"]
[null,null,"NAME","W","L","PCT","GB"]
[null,null,"MIKE",19,17,0.52777777777777779,0]
[null,null,"JOHN",20,19,0.51282051282051277,0.5]
[null,null,"TIM",18,19,0.48648648648648651,1.5]
[null,null,"JEAN",17,18,0.48571428571428571,1.5]
[null,null,"LARRY",18,20,0.47368421052631576,2]
[null,null,"JIM T.",18,20,0.47368421052631576,2]
[null,null,"DIANE",17,22,0.4358974358974359,3.5]
[null,null,"JIM K.",16,21,0.43243243243243246,3.5]
[null,null,"-----",0,30,0,"-----"]
[null,null,"","","","",""]
[null,null,"","","","",""]
[null,null,"","","","",""]
[null,null,2021,null,"SEASON"]
[null,null,"NAME","W","L","PCT","GB"]
[null,null,"LARRY",303,239,0.55904059040590404,0]
[null,null,"JIM T.",294,246,0.5444444444444444,8]
[null,null,"MIKE",292,248,0.54074074074074074,10]
[null,null,"DIANE",285,256,0.52680221811460259,17.5]
[null,null,"TIM",285,261,0.52197802197802201,20]
[null,null,"JOHN",276,270,0.50549450549450547,29]
[null,null,"JIM K.",269,265,0.50374531835205993,30]
[null,null,"JEAN",261,272,0.4896810506566604,37.5,null," "]
[null,null,"-----",0,430,0,"-----",null," "]
[null,null,"","","","","",null," "]
[null,null,"","","","",""]
[null,null,"","","","",""]
[]
[]
[]
[]
[]
[]
[]
[null,null,null,null,"CURRENT WEEK",null,null,null,null,null,null,"THIS WEEK"]
[null,null,"WEEK ENDING",null,"THIS WEEK","SEASON",null,null,null,null,null,"AL",null,"RANK"]
[null,null,"2021-07-11",null,"RANK","RANK",null,null,null,null,null,"TAMPA BAY",0.83333333333333337,1]
[null,null,"TAMPA BAY",0.83333333333333337,1,6,null,null,null,null,null,"CHICAGO A",0.83333333333333337,1]
[null,null,"CHICAGO A",0.83333333333333337,1,3,null,null,null,null,null,"MINNESOTA",0.7142857142857143,3]
[null,null,"PHILADELPHIA",0.7142857142857143,3,17,null,null,null,null,null,"NEW YORK A",0.66666666666666663,4]
[null,null,"CINCINNATI",0.7142857142857143,3,11,null,null,null,null,null,"SEATTLE",0.5,5]
[null,null,"MINNESOTA",0.7142857142857143,3,24,null,null,null,null,null,"CLEVELAND",0.5,5]
[null,null,"NEW YORK A",0.66666666666666663,6,15,null,null,null,null,null,"HOUSTON",0.5,5]
[null,null,"SAN FRANCISCO",0.66666666666666663,6,1,null,null,null,null,null,"LOS ANGELES A",0.5,5]
[null,null,"ST LOUIS",0.6,8,19,null,null,null,null,null,"OAKLAND",0.5,5]
[null,null,"NEW YORK N",0.5714285714285714,9,10,null,null,null,null,null,"TORONTO",0.4,10]
[null,null,"MIAMI",0.5714285714285714,9,24,null,null,null,null,null,"BOSTON",0.33333333333333331,11]
[null,null,"PITTSBURGH",0.5714285714285714,9,28,null,null,null,null,null,"TEXAS",0.33333333333333331,11]
[null,null,"ARIZONA",0.5,12,30,null,null,null,null,null,"DETROIT",0.2857142857142857,13]
[null,null,"ATLANTA",0.5,12,18,null,null,null,null,null,"BALTIMORE",0.2,14]
[null,null,"SEATTLE",0.5,12,12,null,null,null,null,null,"KANSAS CITY",0.16666666666666666,15]
[null,null,"CLEVELAND",0.5,12,13,null,null,null,null,null,"NL"]
[null,null,"HOUSTON",0.5,12,4,null,null,null,null,null,"PHILADELPHIA",0.7142857142857143,1]
[null,null,"LOS ANGELES A",0.5,12,16,null,null,null,null,null,"CINCINNATI",0.7142857142857143,1]
[null,null,"COLORADO",0.5,12,22,null,null,null,null,null,"SAN FRANCISCO",0.66666666666666663,3]
[null,null,"OAKLAND",0.5,12,9,null,null,null,null,null,"ST LOUIS",0.6,4]
[null,null,"SAN DIEGO",0.42857142857142855,20,8,null,null,null,null,null,"NEW YORK N",0.5714285714285714,5]
[null,null,"LOS ANGELES N",0.42857142857142855,20,2,null,null,null,null,null,"MIAMI",0.5714285714285714,5]
[null,null,"TORONTO",0.4,22,13,null,null,null,null,null,"PITTSBURGH",0.5714285714285714,5]
[null,null,"BOSTON",0.33333333333333331,23,4,null,null,null,null,null,"ARIZONA",0.5,8]
[null,null,"TEXAS",0.33333333333333331,23,27,null,null,null,null,null,"ATLANTA",0.5,8]
[null,null,"CHICAGO N",0.33333333333333331,23,19,null,null,null,null,null,"COLORADO",0.5,8]
[null,null,"DETROIT",0.2857142857142857,26,22,null,null,null,null,null,"SAN DIEGO",0.42857142857142855,11]
[null,null,"WASHINGTON",0.2857142857142857,26,21,null,null,null,null,null,"LOS ANGELES N",0.42857142857142855,11]
[null,null,"MILWAUKEE",0.2857142857142857,26,7,null,null,null,null,null,"CHICAGO N",0.33333333333333331,13]
[null,null,"BALTIMORE",0.2,29,29,null,null,null,null,null,"WASHINGTON",0.2857142857142857,14]
[null,null,"KANSAS CITY",0.16666666666666666,30,26,null,null,null,null,null,"MILWAUKEE",0.2857142857142857,14]
[]
[null,null,null,null,"SEASON TO DATE",null,null,null,null,null,null,"SEASON TO DATE"]
[null,null,null,null,null,null,null,null,null,null,null,"AL"]
[null,null,"SEASON TO-DATE",null,"RANK",null,null,null,null,null,null,"CHICAGO A",0.6067415730337079,1]
[null,null,"SAN FRANCISCO",0.6404494382022472,1,null,null,null,null,null,null,"BOSTON",0.60439560439560436,2]
[null,null,"LOS ANGELES N",0.61538461538461542,2,null,null,null,null,null,null,"HOUSTON",0.60439560439560436,2]
[null,null,"CHICAGO A",0.6067415730337079,3,null,null,null,null,null,null,"TAMPA BAY",0.58888888888888891,4]
[null,null,"BOSTON",0.60439560439560436,4,null,null,null,null,null,null,"OAKLAND",0.56521739130434778,5]
[null,null,"HOUSTON",0.60439560439560436,4,null,null,null,null,null,null,"SEATTLE",0.52747252747252749,6]
[null,null,"TAMPA BAY",0.58888888888888891,6,null,null,null,null,null,null,"CLEVELAND",0.51724137931034486,7]
[null,null,"MILWAUKEE",0.57608695652173914,7,null,null,null,null,null,null,"TORONTO",0.51724137931034486,7]
[null,null,"SAN DIEGO",0.56989247311827962,8,null,null,null,null,null,null,"NEW YORK A",0.5168539325842697,9]
[null,null,"OAKLAND",0.56521739130434778,9,null,null,null,null,null,null,"LOS ANGELES A",0.5056179775280899,10]
[null,null,"NEW YORK N",0.54022988505747127,10,null,null,null,null,null,null,"DETROIT",0.43956043956043955,11]
[null,null,"CINCINNATI",0.53333333333333333,11,null,null,null,null,null,null,"MINNESOTA",0.43820224719101125,12]
[null,null,"SEATTLE",0.52747252747252749,12,null,null,null,null,null,null,"KANSAS CITY",0.4044943820224719,13]
[null,null,"CLEVELAND",0.51724137931034486,13,null,null,null,null,null,null,"TEXAS",0.3888888888888889,14]
[null,null,"TORONTO",0.51724137931034486,13,null,null,null,null,null,null,"BALTIMORE",0.3146067415730337,15]
[null,null,"NEW YORK A",0.5168539325842697,15,null,null,null,null,null,null,"NL"]
[null,null,"LOS ANGELES A",0.5056179775280899,16,null,null,null,null,null,null,"SAN FRANCISCO",0.6404494382022472,1]
[null,null,"PHILADELPHIA",0.5,17,null,null,null,null,null,null,"LOS ANGELES N",0.61538461538461542,2]
[null,null,"ATLANTA",0.4943820224719101,18,null,null,null,null,null,null,"MILWAUKEE",0.57608695652173914,3]
[null,null,"CHICAGO N",0.48888888888888887,19,null,null,null,null,null,null,"SAN DIEGO",0.56989247311827962,4]
[null,null,"ST LOUIS",0.48888888888888887,19,null,null,null,null,null,null,"NEW YORK N",0.54022988505747127,5]
[null,null,"WASHINGTON",0.47191011235955055,21,null,null,null,null,null,null,"CINCINNATI",0.53333333333333333,6]
[null,null,"DETROIT",0.43956043956043955,22,null,null,null,null,null,null,"PHILADELPHIA",0.5,7]
[null,null,"COLORADO",0.43956043956043955,22,null,null,null,null,null,null,"ATLANTA",0.4943820224719101,8]
[null,null,"MIAMI",0.43820224719101125,24,null,null,null,null,null,null,"CHICAGO N",0.48888888888888887,9]
[null,null,"MINNESOTA",0.43820224719101125,24,null,null,null,null,null,null,"ST LOUIS",0.48888888888888887,9]
[null,null,"KANSAS CITY",0.4044943820224719,26,null,null,null,null,null,null,"WASHINGTON",0.47191011235955055,11]
[null,null,"TEXAS",0.3888888888888889,27,null,null,null,null,null,null,"COLORADO",0.43956043956043955,12]
[null,null,"PITTSBURGH",0.37777777777777777,28,null,null,null,null,null,null,"MIAMI",0.43820224719101125,13]
[null,null,"BALTIMORE",0.3146067415730337,29,null,null,null,null,null,null,"PITTSBURGH",0.37777777777777777,14]

{"sheet":"4-Jul","index":25,"n_rows":172,"n_cols":34,"rows_kept":172,"cut":false,"hidden":false,"merged":[[1,16,1,33],[2,13,2,14],[3,18,3,21],[3,22,3,25],[3,26,3,29],[3,30,3,33],[20,30,20,33],[4,2,4,4],[4,6,4,9],[4,11,4,14],[11,16,11,17],[12,16,12,17],[13,16,13,17],[16,16,16,17],[17,16,17,17],[20,18,20,21],[20,22,20,25],[20,26,20,29],[47,16,47,17],[28,16,28,17],[29,16,29,17],[30,16,30,17],[33,16,33,17],[34,16,34,17],[37,22,37,25],[37,26,37,29],[37,30,37,33],[45,16,45,17],[46,16,46,17],[37,18,37,21],[50,16,50,17],[51,16,51,17],[56,2,56,6],[71,2,71,6],[85,2,85,3],[85,4,85,5],[94,9,94,13],[95,9,95,13],[102,16,102,20],[106,4,106,5],[107,2,107,3],[107,11,107,12],[141,11,141,12],[142,2,142,3],[157,11,157,12],[108,2,108,3],[113,16,113,20],[123,11,123,12],[124,16,124,20],[140,4,140,5],[140,11,140,12]]}
[null,2021,"STANDINGS"]
[null,null,null,null,null,null,null,null,null,null,null,null,null,null,null,null,"CURRENT WEEK RESULTS"]
[null,"WEEK ENDING "," ","2021-07-04",null,null,null," ",null,null,null,"WEEK",13,"JULY",null," "]
[null,null,null,null,null,null,null,null,null,null,null,null,null,null,null,null,null,null,"MIKE",null,null,null,"JOHN",null,null,null,"LARRY",null,null,null,0]
[null,null,"CURRENT WEEK-SEASON TO DATE",null,null,null,"PREVIOUS WEEK-SEASON TO DATE",null,null,null,null,"CURRENT WEEK TOTALS",null,null,null,null,null,null,"RANK","W","L","PCT","RANK","W","L","PCT","RANK","W","L","PCT","RANK","W","L","PCT"]
[null,null,null,null,null,null,null,null,null,null,null,null,null,null,null,null,null,null,"Brewers",6,1,0.8571428571428571,"Giants",3,3,0.5,"Brewers",6,1,0.8571428571428571,0,{"$error":"#N/A"},{"$error":"#N/A"},{"$error":"#N/A"}]
[null,"American League",null,null,null,null,"AL EAST",null,null,null,"Times","AL EAST",null,null,null,null,null,null,"Indians",1,6,0.14285714285714285,"Rays",1,4,0.2,"White Sox",4,2,0.66666666666666663,0,{"$error":"#N/A"},{"$error":"#N/A"},{"$error":"#N/A"}]
[null,"East","W","L","PCT","Rank","TEAM","W","L","PCT","Picked","TEAM","W","L","PCT","Rank",null,null,"Red Sox",6,1,0.8571428571428571,"Cardinals",4,3,0.5714285714285714,"Dodgers",6,0,1,0,{"$error":"#N/A"},{"$error":"#N/A"},{"$error":"#N/A"}]
[null,"Orioles",27,57,0.32142857142857145,5,"BALTIMORE",24,54,0.30769230769230771,0,"Orioles",3,3,0.5,2,null,null,"Padres",3,3,0.5,"Astros",4,3,0.5714285714285714,"Red Sox",6,1,0.8571428571428571,0,{"$error":"#N/A"},{"$error":"#N/A"},{"$error":"#N/A"}]
[null,"Red Sox",53,32,0.62352941176470589,1,"BOSTON",47,31,0.60256410256410253,5,"Red Sox",6,1,0.8571428571428571,1,null,null,"Athletics",2,4,0.33333333333333331,"Braves",4,2,0.66666666666666663,"Phillies",3,3,0.5,0,{"$error":"#N/A"},{"$error":"#N/A"},{"$error":"#N/A"}]
[null,"Yankees",42,41,0.50602409638554213,4,"NEW YORK",40,37,0.51948051948051943,0,"Yankees",2,4,0.33333333333333331,4,null,null,"Phillies",3,3,0.5,"Indians",1,6,0.14285714285714285,"Astros",4,3,0.5714285714285714,0,{"$error":"#N/A"},{"$error":"#N/A"},{"$error":"#N/A"}]
[null,"Rays",48,36,0.5714285714285714,2,"TAMPA BAY",47,32,0.59493670886075944,4,"Rays",1,4,0.2,5,"WEEKLY TOTAL",null,null,21,18,0.53846153846153844,null,17,21,0.44736842105263158,null,29,10,0.74358974358974361,null,{"$error":"#N/A"},{"$error":"#N/A"},{"$error":"#N/A"}]
[null,"Blue Jays",43,39,0.52439024390243905,3,"TORONTO",40,36,0.52631578947368418,0,"Blue Jays",3,3,0.5,2,"PREV WEEK TO DATE",null,"  ",252,213,0.54193548387096779,null,239,230,0.50959488272921105,null,256,209,0.55053763440860215,null,{"$error":"#N/A"},{"$error":"#N/A"},{"$error":"#N/A"}]
[null,null,null," ",null,null,null,null," ",null,null,null,null,null,null,null,"CUR TOTAL TO DATE",null,"  ",273,231,0.54166666666666663,null,256,251,0.50493096646942803,null,285,219,0.56547619047619047,null,{"$error":"#N/A"},{"$error":"#N/A"},{"$error":"#N/A"}]
[null,null,null," ",null,null,"AL CENTRAL",null," ",null,null,"AL CENTRAL"]
[null,"Central","W","L","PCT",null,"TEAM","W","L","PCT",null,"TEAM","W","L","PCT"]
[null,"White Sox",49,34,0.59036144578313254,1,"CHICAGO",45,32,0.58441558441558439,1,"White Sox",4,2,0.66666666666666663,1,"SEASON TLT TO DATE",null,"  ",168,150,0.52830188679245282,null,159,157,0.50316455696202533,null,162,153,0.51428571428571423,null,{"$error":"#N/A"},{"$error":"#N/A"},{"$error":"#N/A"}]
[null,"Indians",42,39,0.51851851851851849,2,"CLEVELAND",41,33,0.55405405405405406,6,"Indians",1,6,0.14285714285714285,5,"JULY TOTAL TO DATE",null,null,105,81,0.56451612903225812,null,97,94,0.50785340314136129,null,123,66,0.65079365079365081,null,{"$error":"#N/A"},{"$error":"#N/A"},{"$error":"#N/A"}]
[null,"Tigers",38,46,0.45238095238095238,3,"DETROIT",34,44,0.4358974358974359,0,"Tigers",4,2,0.66666666666666663,1]
[null,"Royals",35,48,0.42168674698795183,4,"KANSAS CITY",33,43,0.43421052631578949,2,"Royals",2,5,0.2857142857142857,3]
[null,"Twins",34,48,0.41463414634146339,5,"MINNESOTA",33,43,0.43421052631578949,0,"Twins",1,5,0.16666666666666666,4,null,null,"JIM T.",null,null,null,"JEAN",null,null,null,"DIANE",null,null,null,0]
[null,null,null," ",null,null,null,null," ",null,null,null,null,null,null,null,null,null,"RANK","W","L","PCT","RANK","W","L","PCT","RANK","W","L","PCT","RANK","W","L","PCT"]
[null,null,null," ",null,null,"AL WEST",null," ",null,null,"AL WEST",null,null,null,null,null,null,"Red Sox",6,1,0.8571428571428571,"Cubs",0,6,0,"Red Sox",6,1,0.8571428571428571,0,{"$error":"#N/A"},{"$error":"#N/A"},{"$error":"#N/A"}]
[null,"West","W","L","PCT",null,"TEAM","W","L","PCT",null,"TEAM","W","L","PCT",null,null,null,"Indians",1,6,0.14285714285714285,"Rangers",3,3,0.5,"Dodgers",6,0,1,0,{"$error":"#N/A"},{"$error":"#N/A"},{"$error":"#N/A"}]
[null,"Angels",42,41,0.50602409638554213,4,"LOS ANGELES",37,40,0.48051948051948051,0,"Angels",5,1,0.83333333333333337,1,null,null,"Athletics",2,4,0.33333333333333331,"Mets",3,4,0.42857142857142855,"Brewers",6,1,0.8571428571428571,0,{"$error":"#N/A"},{"$error":"#N/A"},{"$error":"#N/A"}]
[null,"Athletics",49,37,0.56976744186046513,2,"OAKLAND",47,33,0.58750000000000002,3,"Athletics",2,4,0.33333333333333331,5,null,null,"Phillies",3,3,0.5,"Giants",3,3,0.5,"Phillies",3,3,0.5,0,{"$error":"#N/A"},{"$error":"#N/A"},{"$error":"#N/A"}]
[null,"Mariners",45,40,0.52941176470588236,3,"SEATTLE",41,38,0.51898734177215189,2,"Mariners",4,2,0.66666666666666663,2,null,null,"Brewers",6,1,0.8571428571428571,"Rays",1,4,0.2,"Mariners",4,2,0.66666666666666663,0,{"$error":"#N/A"},{"$error":"#N/A"},{"$error":"#N/A"}]
[null,"Rangers",33,51,0.39285714285714285,5,"TEXAS",30,48,0.38461538461538464,1,"Rangers",3,3,0.5,4,null,null,"Dodgers",6,0,1,"Royals",2,5,0.2857142857142857,"Royals",2,5,0.2857142857142857,0,{"$error":"#N/A"},{"$error":"#N/A"},{"$error":"#N/A"}]
[null,"Astros",52,33,0.61176470588235299,1,"HOUSTON",48,30,0.61538461538461542,3,"Astros",4,3,0.5714285714285714,3,"WEEKLY TOTAL",null,null,24,15,0.61538461538461542,null,12,25,0.32432432432432434,null,27,12,0.69230769230769229,null,{"$error":"#N/A"},{"$error":"#N/A"},{"$error":"#N/A"}]
[null,null,null,null,null,null,null,null,null,null,null,null,null,null,null,null,"PREV WEEK TO DATE",null,null,252,211,0.54427645788336931,null,232,229,0.50325379609544474,null,241,222,0.52051835853131745,null,{"$error":"#N/A"},{"$error":"#N/A"},{"$error":"#N/A"}]
[null,"National League",null," ",null,null,"NL EAST",null," ",null,null,"NL EAST",null,null,null,null,"CUR TOTAL TO DATE",null,null,276,226,0.54980079681274896,null,244,254,0.48995983935742971,null,268,234,0.53386454183266929,null,{"$error":"#N/A"},{"$error":"#N/A"},{"$error":"#N/A"}]
[null,"East","W","L","PCT",null,"TEAM","W","L","PCT",null,"TEAM","W","L","PCT"]
[null,"Braves",41,42,0.49397590361445781,2,"ATLANTA",37,40,0.48051948051948051,1,"Braves",4,2,0.66666666666666663,1]
[null,"Marlins",35,47,0.42682926829268292,5,"Miami",33,44,0.42857142857142855,1,"Marlins",2,3,0.4,5,"SEASON TLT TO DATE",null,null,164,153,0.51735015772870663,null,162,149,0.52090032154340837,null,168,147,0.53333333333333333,null,{"$error":"#N/A"},{"$error":"#N/A"},{"$error":"#N/A"}]
[null,"Mets",43,37,0.53749999999999998,1,"NEW YORK",40,33,0.54794520547945202,2,"Mets",3,4,0.42857142857142855,3,"JULY TOTAL TO DATE",null,null,112,73,0.60540540540540544,null,82,105,0.43850267379679142,null,100,87,0.53475935828877008,null,{"$error":"#N/A"},{"$error":"#N/A"},{"$error":"#N/A"}]
[null,"Phillies",39,42,0.48148148148148145,4,"PHILADELPHIA",36,39,0.48,5,"Phillies",3,3,0.5,2]
[null,"Nationals",40,42,0.48780487804878048,3,"WASHINGTON",37,38,0.49333333333333335,0,"Nationals",3,4,0.42857142857142855,3]
[null,null,null," ",null,null,null,null," ",null,null,null,null,null,null,null,null,null,"JIM K.",null,null,null,"TIM",null,null,null,"-----",null,null,null,0]
[null,null,null," ",null,null,"NL CENTRAL",null," ",null,null,"NL CENTRAL",null,null,null,null,null,null,"RANK","W","L","PCT","RANK","W","L","PCT","RANK","W","L","PCT","RANK","W","L","PCT"]
[null,"Central","W","L","PCT",null,"TEAM","W","L","PCT",null,"TEAM","W","L","PCT",null,null,null,"Rays",1,4,0.2,"Rays",1,4,0.2,null,null,null,null,0,{"$error":"#N/A"},{"$error":"#N/A"},{"$error":"#N/A"}]
[null,"Cubs",42,42,0.5,3,"CHICAGO",42,36,0.53846153846153844,2,"Cubs",0,6,0,5,null,null,"Cubs",0,6,0,"Mets",3,4,0.42857142857142855,null,null,null,null,0,{"$error":"#N/A"},{"$error":"#N/A"},{"$error":"#N/A"}]
[null,"Reds",43,40,0.51807228915662651,2,"CINCINNATI",38,38,0.5,0,"Reds",5,2,0.7142857142857143,2,null,null,"Athletics",2,4,0.33333333333333331,"Padres",3,3,0.5,null,null,null,null,0,{"$error":"#N/A"},{"$error":"#N/A"},{"$error":"#N/A"}]
[null,"Brewers",51,34,0.6,1,"MILWAUKEE",45,33,0.57692307692307687,4,"Brewers",6,1,0.8571428571428571,1,null,null,"Indians",1,6,0.14285714285714285,"Cardinals",4,3,0.5714285714285714,null,null,null,null,0,{"$error":"#N/A"},{"$error":"#N/A"},{"$error":"#N/A"}]
[null,"Pirates",30,53,0.36144578313253012,5,"PITTSBURGH",29,47,0.38157894736842107,0,"Pirates",1,6,0.14285714285714285,4,null,null,"Dodgers",6,0,1,"Astros",4,3,0.5714285714285714,null,null,null,null,0,{"$error":"#N/A"},{"$error":"#N/A"},{"$error":"#N/A"}]
[null,"Cardinals",41,44,0.4823529411764706,4,"ST LOUIS",37,41,0.47435897435897434,3,"Cardinals",4,3,0.5714285714285714,3,null,null,"Phillies",3,3,0.5,"Indians",1,6,0.14285714285714285,null,null,null,null,0,{"$error":"#N/A"},{"$error":"#N/A"},{"$error":"#N/A"}]
[null,null,null," ",null,null,null,null," ",null,null,null,null,null,null,null,"WEEKLY TOTAL",null,null,13,23,0.3611111111111111,null,16,23,0.41025641025641024,null,0,30,"",null,{"$error":"#N/A"},{"$error":"#N/A"},{"$error":"#N/A"}]
[null,null,null," ",null,null,"NL WEST",null," ",null,null,"NL WEST",null,null,null,null,"PREV WEEK TO DATE",null,null,240,221,0.52060737527114964,null,251,219,0.53404255319148941,null,0,370,"",null,{"$error":"#N/A"},{"$error":"#N/A"},{"$error":"#N/A"}]
[null,"West","W","L","PCT",null,"TEAM","W","L","PCT",null,"TEAM","W","L","PCT",null,"CUR TOTAL TO DATE",null,null,253,244,0.50905432595573441,null,267,242,0.5245579567779961,null,0,400,"",null,{"$error":"#N/A"},{"$error":"#N/A"},{"$error":"#N/A"}]
[null,"Diamondbacks",23,63,0.26744186046511625,5,"ARIZONA",22,57,0.27848101265822783,0,"Diamondbacks",1,6,0.14285714285714285,5]
[null,"Rockies",37,48,0.43529411764705883,4,"COLORADO",31,47,0.39743589743589741,0,"Rockies",6,1,0.8571428571428571,2]
[null,"Dodgers",53,31,0.63095238095238093,2,"LOS ANGELES",47,31,0.60256410256410253,5,"Dodgers",6,0,1,1,"SEASON TLT TO DATE",null,null,158,157,0.50158730158730158,null,170,147,0.5362776025236593,null,0,250,"",null,{"$error":"#N/A"},{"$error":"#N/A"},{"$error":"#N/A"}]
[null,"Padres",50,36,0.58139534883720934,3,"SAN DIEGO",47,33,0.58750000000000002,2,"Padres",3,3,0.5,3,"JULY TOTAL TO DATE",null,null,95,87,0.52197802197802201,null,97,95,0.50520833333333337,null,0,150,"",null,{"$error":"#N/A"},{"$error":"#N/A"},{"$error":"#N/A"}]
[null,"Giants",53,30,0.63855421686746983,1,"SAN FRANCISCO",50,27,0.64935064935064934,2,"Giants",3,3,0.5,3]
[null,null,null,null,null,null,null,null,null,null,null,null,95,95]
[null,null,null,"2021-07-05"," Morning"]
[]
[null,null,"WEEK 13"]
[null," ","NAME","W","L","PCT","GB"]
[null,null,"LARRY",29,10,0.74358974358974361,0]
[null," ","DIANE",27,12,0.69230769230769229,2]
[null," ","JIM T.",24,15,0.61538461538461542,5]
[null," ","MIKE",21,18,0.53846153846153844,8]
[null," ","JOHN",17,21,0.44736842105263158,11.5]
[null,null,"TIM",16,23,0.41025641025641024,13]
[null,null,"JIM K.",13,23,0.3611111111111111,14.5]
[null,null,"JEAN",12,25,0.32432432432432434,16]
[null,null,"-----",0,30,0,"-----"]
[null,null,"","","","",""]
[null,null,"","","","",""]
[null,null,"","","","",""]
[]
[null,null,"MONTH OF  JULY"]
[null,null,"NAME","W","L","PCT","GB"]
[null,null,"LARRY",123,66,0.65079365079365081,0]
[null,null,"JIM T.",112,73,0.60540540540540544,9]
[null,null,"MIKE",105,81,0.56451612903225812,16.5]
[null,null,"DIANE",100,87,0.53475935828877008,22]
[null,null,"JIM K.",95,87,0.52197802197802201,24.5]
[null,null,"JOHN",97,94,0.50785340314136129,27]
[null,null,"TIM",97,95,0.50520833333333337,27.5]
[null,null,"JEAN",82,105,0.43850267379679142,40]
[null,null,"-----",0,150,0,"-----"]
[null,null,"","","","",""]
[null,null,"","","","",""]
[null,null,"","","","",""]
[null,null,2021,null,"SEASON"]
[null,null,"NAME","W","L","PCT","GB"]
[null,null,"LARRY",285,219,0.56547619047619047,0]
[null,null,"JIM T.",276,226,0.54980079681274896,8]
[null,null,"MIKE",273,231,0.54166666666666663,12]
[null,null,"DIANE",268,234,0.53386454183266929,16]
[null,null,"TIM",267,242,0.5245579567779961,20.5]
[null,null,"JIM K.",253,244,0.50905432595573441,28.5]
[null,null,"JOHN",256,251,0.50493096646942803,30.5]
[null,null,"JEAN",244,254,0.48995983935742971,38,null," "]
[null,null,"-----",0,400,0,"-----",null," "]
[null,null,"","","","","",null," "]
[null,null,"","","","",""]
[null,null,"","","","",""]
[]
[]
[]
[]
[]
[]
[]
[null,null,null,null,"CURRENT WEEK",null,null,null,null,null,null,"THIS WEEK"]
[null,null,"WEEK ENDING",null,"THIS WEEK","SEASON",null,null,null,null,null,"AL",null,"RANK"]
[null,null,"2021-07-04",null,"RANK","RANK",null,null,null,null,null,"BOSTON",0.8571428571428571,1]
[null,null,"LOS ANGELES N",1,1,2,null,null,null,null,null,"LOS ANGELES A",0.83333333333333337,2]
[null,null,"MILWAUKEE",0.8571428571428571,2,5,null,null,null,null,null,"CHICAGO A",0.66666666666666663,3]
[null,null,"BOSTON",0.8571428571428571,2,3,null,null,null,null,null,"SEATTLE",0.66666666666666663,3]
[null,null,"COLORADO",0.8571428571428571,2,23,null,null,null,null,null,"DETROIT",0.66666666666666663,3]
[null,null,"LOS ANGELES A",0.83333333333333337,5,15,null,null,null,null,null,"HOUSTON",0.5714285714285714,6]
[null,null,"CINCINNATI",0.7142857142857143,6,14,null,null,null,null,null,"BALTIMORE",0.5,7]
[null,null,"CHICAGO A",0.66666666666666663,7,6,null,null,null,null,null,"TEXAS",0.5,7]
[null,null,"SEATTLE",0.66666666666666663,7,11,null,null,null,null,null,"TORONTO",0.5,7]
[null,null,"ATLANTA",0.66666666666666663,7,18,null,null,null,null,null,"OAKLAND",0.33333333333333331,10]
[null,null,"DETROIT",0.66666666666666663,7,22,null,null,null,null,null,"NEW YORK A",0.33333333333333331,10]
[null,null,"ST LOUIS",0.5714285714285714,11,20,null,null,null,null,null,"KANSAS CITY",0.2857142857142857,12]
[null,null,"HOUSTON",0.5714285714285714,11,4,null,null,null,null,null,"TAMPA BAY",0.2,13]
[null,null,"BALTIMORE",0.5,13,29,null,null,null,null,null,"MINNESOTA",0.16666666666666666,14]
[null,null,"TEXAS",0.5,13,27,null,null,null,null,null,"CLEVELAND",0.14285714285714285,15]
[null,null,"TORONTO",0.5,13,12,null,null,null,null,null,"NL"]
[null,null,"PHILADELPHIA",0.5,13,21,null,null,null,null,null,"LOS ANGELES N",1,1]
[null,null,"SAN DIEGO",0.5,13,7,null,null,null,null,null,"MILWAUKEE",0.8571428571428571,2]
[null,null,"SAN FRANCISCO",0.5,13,1,null,null,null,null,null,"COLORADO",0.8571428571428571,2]
[null,null,"WASHINGTON",0.42857142857142855,19,19,null,null,null,null,null,"CINCINNATI",0.7142857142857143,4]
[null,null,"NEW YORK N",0.42857142857142855,19,10,null,null,null,null,null,"ATLANTA",0.66666666666666663,5]
[null,null,"MIAMI",0.4,21,24,null,null,null,null,null,"ST LOUIS",0.5714285714285714,6]
[null,null,"OAKLAND",0.33333333333333331,22,9,null,null,null,null,null,"PHILADELPHIA",0.5,7]
[null,null,"NEW YORK A",0.33333333333333331,22,15,null,null,null,null,null,"SAN DIEGO",0.5,7]
[null,null,"KANSAS CITY",0.2857142857142857,24,25,null,null,null,null,null,"SAN FRANCISCO",0.5,7]
[null,null,"TAMPA BAY",0.2,25,8,null,null,null,null,null,"WASHINGTON",0.42857142857142855,10]
[null,null,"MINNESOTA",0.16666666666666666,26,26,null,null,null,null,null,"NEW YORK N",0.42857142857142855,10]
[null,null,"CLEVELAND",0.14285714285714285,27,13,null,null,null,null,null,"MIAMI",0.4,12]
[null,null,"ARIZONA",0.14285714285714285,27,30,null,null,null,null,null,"ARIZONA",0.14285714285714285,13]
[null,null,"PITTSBURGH",0.14285714285714285,27,28,null,null,null,null,null,"PITTSBURGH",0.14285714285714285,13]
[null,null,"CHICAGO N",0,30,17,null,null,null,null,null,"CHICAGO N",0,15]
[]
[null,null,null,null,"SEASON TO DATE",null,null,null,null,null,null,"SEASON TO DATE"]
[null,null,null,null,null,null,null,null,null,null,null,"AL"]
[null,null,"SEASON TO-DATE",null,"RANK",null,null,null,null,null,null,"BOSTON",0.62352941176470589,1]
[null,null,"SAN FRANCISCO",0.63855421686746983,1,null,null,null,null,null,null,"HOUSTON",0.61176470588235299,2]
[null,null,"LOS ANGELES N",0.63095238095238093,2,null,null,null,null,null,null,"CHICAGO A",0.59036144578313254,3]
[null,null,"BOSTON",0.62352941176470589,3,null,null,null,null,null,null,"TAMPA BAY",0.5714285714285714,4]
[null,null,"HOUSTON",0.61176470588235299,4,null,null,null,null,null,null,"OAKLAND",0.56976744186046513,5]
[null,null,"MILWAUKEE",0.6,5,null,null,null,null,null,null,"SEATTLE",0.52941176470588236,6]
[null,null,"CHICAGO A",0.59036144578313254,6,null,null,null,null,null,null,"TORONTO",0.52439024390243905,7]
[null,null,"SAN DIEGO",0.58139534883720934,7,null,null,null,null,null,null,"CLEVELAND",0.51851851851851849,8]
[null,null,"TAMPA BAY",0.5714285714285714,8,null,null,null,null,null,null,"NEW YORK A",0.50602409638554213,9]
[null,null,"OAKLAND",0.56976744186046513,9,null,null,null,null,null,null,"LOS ANGELES A",0.50602409638554213,9]
[null,null,"NEW YORK N",0.53749999999999998,10,null,null,null,null,null,null,"DETROIT",0.45238095238095238,11]
[null,null,"SEATTLE",0.52941176470588236,11,null,null,null,null,null,null,"KANSAS CITY",0.42168674698795183,12]
[null,null,"TORONTO",0.52439024390243905,12,null,null,null,null,null,null,"MINNESOTA",0.41463414634146339,13]
[null,null,"CLEVELAND",0.51851851851851849,13,null,null,null,null,null,null,"TEXAS",0.39285714285714285,14]
[null,null,"CINCINNATI",0.51807228915662651,14,null,null,null,null,null,null,"BALTIMORE",0.32142857142857145,15]
[null,null,"NEW YORK A",0.50602409638554213,15,null,null,null,null,null,null,"NL"]
[null,null,"LOS ANGELES A",0.50602409638554213,15,null,null,null,null,null,null,"SAN FRANCISCO",0.63855421686746983,1]
[null,null,"CHICAGO N",0.5,17,null,null,null,null,null,null,"LOS ANGELES N",0.63095238095238093,2]
[null,null,"ATLANTA",0.49397590361445781,18,null,null,null,null,null,null,"MILWAUKEE",0.6,3]
[null,null,"WASHINGTON",0.48780487804878048,19,null,null,null,null,null,null,"SAN DIEGO",0.58139534883720934,4]
[null,null,"ST LOUIS",0.4823529411764706,20,null,null,null,null,null,null,"NEW YORK N",0.53749999999999998,5]
[null,null,"PHILADELPHIA",0.48148148148148145,21,null,null,null,null,null,null,"CINCINNATI",0.51807228915662651,6]
[null,null,"DETROIT",0.45238095238095238,22,null,null,null,null,null,null,"CHICAGO N",0.5,7]
[null,null,"COLORADO",0.43529411764705883,23,null,null,null,null,null,null,"ATLANTA",0.49397590361445781,8]
[null,null,"MIAMI",0.42682926829268292,24,null,null,null,null,null,null,"WASHINGTON",0.48780487804878048,9]
[null,null,"KANSAS CITY",0.42168674698795183,25,null,null,null,null,null,null,"ST LOUIS",0.4823529411764706,10]
[null,null,"MINNESOTA",0.41463414634146339,26,null,null,null,null,null,null,"PHILADELPHIA",0.48148148148148145,11]
[null,null,"TEXAS",0.39285714285714285,27,null,null,null,null,null,null,"COLORADO",0.43529411764705883,12]
[null,null,"PITTSBURGH",0.36144578313253012,28,null,null,null,null,null,null,"MIAMI",0.42682926829268292,13]
[null,null,"BALTIMORE",0.32142857142857145,29,null,null,null,null,null,null,"PITTSBURGH",0.36144578313253012,14]

{"sheet":"27-Jun","index":26,"n_rows":172,"n_cols":34,"rows_kept":172,"cut":false,"hidden":false,"merged":[[1,16,1,33],[2,13,2,14],[3,18,3,21],[3,22,3,25],[3,26,3,29],[3,30,3,33],[20,30,20,33],[4,2,4,4],[4,6,4,9],[4,11,4,14],[11,16,11,17],[12,16,12,17],[13,16,13,17],[16,16,16,17],[17,16,17,17],[20,18,20,21],[20,22,20,25],[20,26,20,29],[47,16,47,17],[28,16,28,17],[29,16,29,17],[30,16,30,17],[33,16,33,17],[34,16,34,17],[37,22,37,25],[37,26,37,29],[37,30,37,33],[45,16,45,17],[46,16,46,17],[37,18,37,21],[50,16,50,17],[51,16,51,17],[56,2,56,6],[71,2,71,6],[85,2,85,3],[85,4,85,5],[94,9,94,13],[95,9,95,13],[102,16,102,20],[106,4,106,5],[107,2,107,3],[107,11,107,12],[141,11,141,12],[142,2,142,3],[157,11,157,12],[108,2,108,3],[113,16,113,20],[123,11,123,12],[124,16,124,20],[140,4,140,5],[140,11,140,12]]}
[null,2021,"STANDINGS"]
[null,null,null,null,null,null,null,null,null,null,null,null,null,null,null,null,"CURRENT WEEK RESULTS"]
[null,"WEEK ENDING "," ","2021-06-27",null,null,null," ",null,null,null,"WEEK",12,"JUNE",null," "]
[null,null,null,null,null,null,null,null,null,null,null,null,null,null,null,null,null,null,"MIKE",null,null,null,"JOHN",null,null,null,"LARRY",null,null,null,0]
[null,null,"CURRENT WEEK-SEASON TO DATE",null,null,null,"PREVIOUS WEEK-SEASON TO DATE",null,null,null,null,"CURRENT WEEK TOTALS",null,null,null,null,null,null,"RANK","W","L","PCT","RANK","W","L","PCT","RANK","W","L","PCT","RANK","W","L","PCT"]
[null,null,null,null,null,null,null,null,null,null,null,null,null,null,null,null,null,null,"Brewers",5,1,0.83333333333333337,"Giants",4,1,0.8,"Brewers",5,1,0.83333333333333337,0,{"$error":"#N/A"},{"$error":"#N/A"},{"$error":"#N/A"}]
[null,"American League",null,null,null,null,"AL EAST",null,null,null,"Times","AL EAST",null,null,null,null,null,null,"Indians",2,3,0.4,"Rays",4,2,0.66666666666666663,"White Sox",2,3,0.4,0,{"$error":"#N/A"},{"$error":"#N/A"},{"$error":"#N/A"}]
[null,"East","W","L","PCT","Rank","TEAM","W","L","PCT","Picked","TEAM","W","L","PCT","Rank",null,null,"Red Sox",4,2,0.66666666666666663,"Cardinals",1,5,0.16666666666666666,"Dodgers",3,4,0.42857142857142855,0,{"$error":"#N/A"},{"$error":"#N/A"},{"$error":"#N/A"}]
[null,"Orioles",24,54,0.30769230769230771,5,"BALTIMORE",23,48,0.323943661971831,0,"Orioles",1,6,0.14285714285714285,5,null,null,"Padres",5,1,0.83333333333333337,"Astros",5,2,0.7142857142857143,"Red Sox",4,2,0.66666666666666663,0,{"$error":"#N/A"},{"$error":"#N/A"},{"$error":"#N/A"}]
[null,"Red Sox",47,31,0.60256410256410253,1,"BOSTON",43,29,0.59722222222222221,5,"Red Sox",4,2,0.66666666666666663,2,null,null,"Athletics",3,4,0.42857142857142855,"Braves",4,4,0.5,"Phillies",2,4,0.33333333333333331,0,{"$error":"#N/A"},{"$error":"#N/A"},{"$error":"#N/A"}]
[null,"Yankees",40,37,0.51948051948051943,4,"NEW YORK",38,33,0.53521126760563376,0,"Yankees",2,4,0.33333333333333331,4,null,null,"Phillies",2,4,0.33333333333333331,"Indians",2,3,0.4,"Astros",5,2,0.7142857142857143,0,{"$error":"#N/A"},{"$error":"#N/A"},{"$error":"#N/A"}]
[null,"Rays",47,32,0.59493670886075944,2,"TAMPA BAY",43,30,0.58904109589041098,4,"Rays",4,2,0.66666666666666663,2,"WEEKLY TOTAL",null,null,21,15,0.58333333333333337,null,20,17,0.54054054054054057,null,21,16,0.56756756756756754,null,{"$error":"#N/A"},{"$error":"#N/A"},{"$error":"#N/A"}]
[null,"Blue Jays",40,36,0.52631578947368418,3,"TORONTO",35,35,0.5,0,"Blue Jays",5,1,0.83333333333333337,1,"PREV WEEK TO DATE",null,"  ",231,198,0.53846153846153844,null,219,213,0.50694444444444442,null,235,193,0.5490654205607477,null,{"$error":"#N/A"},{"$error":"#N/A"},{"$error":"#N/A"}]
[null,null,null," ",null,null,null,null," ",null,null,null,null,null,null,null,"CUR TOTAL TO DATE",null,"  ",252,213,0.54193548387096779,null,239,230,0.50959488272921105,null,256,209,0.55053763440860215,null,{"$error":"#N/A"},{"$error":"#N/A"},{"$error":"#N/A"}]
[null,null,null," ",null,null,"AL CENTRAL",null," ",null,null,"AL CENTRAL"]
[null,"Central","W","L","PCT",null,"TEAM","W","L","PCT",null,"TEAM","W","L","PCT"]
[null,"White Sox",45,32,0.58441558441558439,1,"CHICAGO",43,29,0.59722222222222221,1,"White Sox",2,3,0.4,3,"SEASON TLT TO DATE",null,"  ",168,150,0.52830188679245282,null,159,157,0.50316455696202533,null,162,153,0.51428571428571423,null,{"$error":"#N/A"},{"$error":"#N/A"},{"$error":"#N/A"}]
[null,"Indians",41,33,0.55405405405405406,2,"CLEVELAND",39,30,0.56521739130434778,6,"Indians",2,3,0.4,3,"JUNE TOTAL TO DATE",null,null,84,63,0.5714285714285714,null,80,73,0.52287581699346408,null,94,56,0.62666666666666671,null,{"$error":"#N/A"},{"$error":"#N/A"},{"$error":"#N/A"}]
[null,"Tigers",34,44,0.4358974358974359,3,"DETROIT",30,42,0.41666666666666669,0,"Tigers",4,2,0.66666666666666663,1]
[null,"Royals",33,43,0.43421052631578949,4,"KANSAS CITY",32,38,0.45714285714285713,2,"Royals",1,5,0.16666666666666666,5]
[null,"Twins",33,43,0.43421052631578949,4,"MINNESOTA",30,41,0.42253521126760563,0,"Twins",3,2,0.6,2,null,null,"JIM T.",null,null,null,"JEAN",null,null,null,"DIANE",null,null,null,0]
[null,null,null," ",null,null,null,null," ",null,null,null,null,null,null,null,null,null,"RANK","W","L","PCT","RANK","W","L","PCT","RANK","W","L","PCT","RANK","W","L","PCT"]
[null,null,null," ",null,null,"AL WEST",null," ",null,null,"AL WEST",null,null,null,null,null,null,"Red Sox",4,2,0.66666666666666663,"Cubs",2,4,0.33333333333333331,"Red Sox",4,2,0.66666666666666663,0,{"$error":"#N/A"},{"$error":"#N/A"},{"$error":"#N/A"}]
[null,"West","W","L","PCT",null,"TEAM","W","L","PCT",null,"TEAM","W","L","PCT",null,null,null,"Indians",2,3,0.4,"Rangers",5,2,0.7142857142857143,"Dodgers",3,4,0.42857142857142855,0,{"$error":"#N/A"},{"$error":"#N/A"},{"$error":"#N/A"}]
[null,"Angels",37,40,0.48051948051948051,4,"LOS ANGELES",36,36,0.5,0,"Angels",1,4,0.2,5,null,null,"Athletics",3,4,0.42857142857142855,"Mets",4,4,0.5,"Brewers",5,1,0.83333333333333337,0,{"$error":"#N/A"},{"$error":"#N/A"},{"$error":"#N/A"}]
[null,"Athletics",47,33,0.58750000000000002,2,"OAKLAND",44,29,0.60273972602739723,3,"Athletics",3,4,0.42857142857142855,4,null,null,"Phillies",2,4,0.33333333333333331,"Giants",4,1,0.8,"Phillies",2,4,0.33333333333333331,0,{"$error":"#N/A"},{"$error":"#N/A"},{"$error":"#N/A"}]
[null,"Mariners",41,38,0.51898734177215189,3,"SEATTLE",38,36,0.51351351351351349,2,"Mariners",3,2,0.6,3,null,null,"Brewers",5,1,0.83333333333333337,"Rays",4,2,0.66666666666666663,"Mariners",3,2,0.6,0,{"$error":"#N/A"},{"$error":"#N/A"},{"$error":"#N/A"}]
[null,"Rangers",30,48,0.38461538461538464,5,"TEXAS",25,46,0.352112676056338,1,"Rangers",5,2,0.7142857142857143,1,null,null,"Dodgers",3,4,0.42857142857142855,"Royals",1,5,0.16666666666666666,"Royals",1,5,0.16666666666666666,0,{"$error":"#N/A"},{"$error":"#N/A"},{"$error":"#N/A"}]
[null,"Astros",48,30,0.61538461538461542,1,"HOUSTON",43,28,0.60563380281690138,3,"Astros",5,2,0.7142857142857143,1,"WEEKLY TOTAL",null,null,19,18,0.51351351351351349,null,20,18,0.52631578947368418,null,18,18,0.5,null,{"$error":"#N/A"},{"$error":"#N/A"},{"$error":"#N/A"}]
[null,null,null,null,null,null,null,null,null,null,null,null,null,null,null,null,"PREV WEEK TO DATE",null,null,233,193,0.54694835680751175,null,212,211,0.50118203309692666,null,223,204,0.52224824355971899,null,{"$error":"#N/A"},{"$error":"#N/A"},{"$error":"#N/A"}]
[null,"National League",null," ",null,null,"NL EAST",null," ",null,null,"NL EAST",null,null,null,null,"CUR TOTAL TO DATE",null,null,252,211,0.54427645788336931,null,232,229,0.50325379609544474,null,241,222,0.52051835853131745,null,{"$error":"#N/A"},{"$error":"#N/A"},{"$error":"#N/A"}]
[null,"East","W","L","PCT",null,"TEAM","W","L","PCT",null,"TEAM","W","L","PCT"]
[null,"Braves",37,40,0.48051948051948051,3,"ATLANTA",33,36,0.47826086956521741,1,"Braves",4,4,0.5,2]
[null,"Marlins",33,44,0.42857142857142855,5,"Miami",31,40,0.43661971830985913,1,"Marlins",2,4,0.33333333333333331,4,"SEASON TLT TO DATE",null,null,164,153,0.51735015772870663,null,162,149,0.52090032154340837,null,168,147,0.53333333333333333,null,{"$error":"#N/A"},{"$error":"#N/A"},{"$error":"#N/A"}]
[null,"Mets",40,33,0.54794520547945202,1,"NEW YORK",36,29,0.55384615384615388,2,"Mets",4,4,0.5,2,"JUNE TOTAL TO DATE",null,null,88,58,0.60273972602739723,null,70,80,0.46666666666666667,null,73,75,0.49324324324324326,null,{"$error":"#N/A"},{"$error":"#N/A"},{"$error":"#N/A"}]
[null,"Phillies",36,39,0.48,4,"PHILADELPHIA",34,35,0.49275362318840582,5,"Phillies",2,4,0.33333333333333331,4]
[null,"Nationals",37,38,0.49333333333333335,2,"WASHINGTON",33,36,0.47826086956521741,0,"Nationals",4,2,0.66666666666666663,1]
[null,null,null," ",null,null,null,null," ",null,null,null,null,null,null,null,null,null,"JIM K.",null,null,null,"TIM",null,null,null,"-----",null,null,null,0]
[null,null,null," ",null,null,"NL CENTRAL",null," ",null,null,"NL CENTRAL",null,null,null,null,null,null,"RANK","W","L","PCT","RANK","W","L","PCT","RANK","W","L","PCT","RANK","W","L","PCT"]
[null,"Central","W","L","PCT",null,"TEAM","W","L","PCT",null,"TEAM","W","L","PCT",null,null,null,"Rays",4,2,0.66666666666666663,"Rays",4,2,0.66666666666666663,null,null,null,null,0,{"$error":"#N/A"},{"$error":"#N/A"},{"$error":"#N/A"}]
[null,"Cubs",42,36,0.53846153846153844,2,"CHICAGO",40,32,0.55555555555555558,2,"Cubs",2,4,0.33333333333333331,4,null,null,"Cubs",2,4,0.33333333333333331,"Mets",4,4,0.5,null,null,null,null,0,{"$error":"#N/A"},{"$error":"#N/A"},{"$error":"#N/A"}]
[null,"Reds",38,38,0.5,3,"CINCINNATI",35,35,0.5,0,"Reds",3,3,0.5,3,null,null,"Athletics",3,4,0.42857142857142855,"Padres",5,1,0.83333333333333337,null,null,null,null,0,{"$error":"#N/A"},{"$error":"#N/A"},{"$error":"#N/A"}]
[null,"Brewers",45,33,0.57692307692307687,1,"MILWAUKEE",40,32,0.55555555555555558,4,"Brewers",5,1,0.83333333333333337,1,null,null,"Indians",2,3,0.4,"Cardinals",1,5,0.16666666666666666,null,null,null,null,0,{"$error":"#N/A"},{"$error":"#N/A"},{"$error":"#N/A"}]
[null,"Pirates",29,47,0.38157894736842107,5,"PITTSBURGH",25,45,0.35714285714285715,0,"Pirates",4,2,0.66666666666666663,2,null,null,"Dodgers",3,4,0.42857142857142855,"Astros",5,2,0.7142857142857143,null,null,null,null,0,{"$error":"#N/A"},{"$error":"#N/A"},{"$error":"#N/A"}]
[null,"Cardinals",37,41,0.47435897435897434,4,"ST LOUIS",36,36,0.5,3,"Cardinals",1,5,0.16666666666666666,5,null,null,"Phillies",2,4,0.33333333333333331,"Indians",2,3,0.4,null,null,null,null,0,{"$error":"#N/A"},{"$error":"#N/A"},{"$error":"#N/A"}]
[null,null,null," ",null,null,null,null," ",null,null,null,null,null,null,null,"WEEKLY TOTAL",null,null,16,21,0.43243243243243246,null,21,17,0.55263157894736847,null,0,30,"",null,{"$error":"#N/A"},{"$error":"#N/A"},{"$error":"#N/A"}]
[null,null,null," ",null,null,"NL WEST",null," ",null,null,"NL WEST",null,null,null,null,"PREV WEEK TO DATE",null,null,224,200,0.52830188679245282,null,230,202,0.53240740740740744,null,0,340,"",null,{"$error":"#N/A"},{"$error":"#N/A"},{"$error":"#N/A"}]
[null,"West","W","L","PCT",null,"TEAM","W","L","PCT",null,"TEAM","W","L","PCT",null,"CUR TOTAL TO DATE",null,null,240,221,0.52060737527114964,null,251,219,0.53404255319148941,null,0,370,"",null,{"$error":"#N/A"},{"$error":"#N/A"},{"$error":"#N/A"}]
[null,"Diamondbacks",22,57,0.27848101265822783,5,"ARIZONA",20,53,0.27397260273972601,0,"Diamondbacks",2,4,0.33333333333333331,4]
[null,"Rockies",31,47,0.39743589743589741,4,"COLORADO",30,43,0.41095890410958902,0,"Rockies",1,4,0.2,5]
[null,"Dodgers",47,31,0.60256410256410253,2,"LOS ANGELES",44,27,0.61971830985915488,5,"Dodgers",3,4,0.42857142857142855,3,"SEASON TLT TO DATE",null,null,158,157,0.50158730158730158,null,170,147,0.5362776025236593,null,0,250,"",null,{"$error":"#N/A"},{"$error":"#N/A"},{"$error":"#N/A"}]
[null,"Padres",47,33,0.58750000000000002,3,"SAN DIEGO",42,32,0.56756756756756754,2,"Padres",5,1,0.83333333333333337,1,"JUNE TOTAL TO DATE",null,null,82,64,0.56164383561643838,null,81,72,0.52941176470588236,null,0,120,"",null,{"$error":"#N/A"},{"$error":"#N/A"},{"$error":"#N/A"}]
[null,"Giants",50,27,0.64935064935064934,1,"SAN FRANCISCO",46,26,0.63888888888888884,2,"Giants",4,1,0.8,2]
[null,null,null,null,null,null,null,null,null,null,null,null,91,91]
[null,null,null,"2021-06-28"," Morning"]
[]
[null,null,"WEEK 12"]
[null," ","NAME","W","L","PCT","GB"]
[null,null,"MIKE",21,15,0.58333333333333337,0]
[null," ","LARRY",21,16,0.56756756756756754,0.5]
[null," ","TIM",21,17,0.55263157894736847,1]
[null," ","JOHN",20,17,0.54054054054054057,1.5]
[null," ","JEAN",20,18,0.52631578947368418,2]
[null,null,"JIM T.",19,18,0.51351351351351349,2.5]
[null,null,"DIANE",18,18,0.5,3]
[null,null,"JIM K.",16,21,0.43243243243243246,5.5]
[null,null,"-----",0,30,0,"-----"]
[null,null,"","","","",""]
[null,null,"","","","",""]
[null,null,"","","","",""]
[]
[null,null,"MONTH OF  JUNE"]
[null,null,"NAME","W","L","PCT","GB"]
[null,null,"LARRY",94,56,0.62666666666666671,0]
[null,null,"JIM T.",88,58,0.60273972602739723,4]
[null,null,"MIKE",84,63,0.5714285714285714,8.5]
[null,null,"JIM K.",82,64,0.56164383561643838,10]
[null,null,"TIM",81,72,0.52941176470588236,14.5]
[null,null,"JOHN",80,73,0.52287581699346408,15.5]
[null,null,"DIANE",73,75,0.49324324324324326,20]
[null,null,"JEAN",70,80,0.46666666666666667,24]
[null,null,"-----",0,120,0,"-----"]
[null,null,"","","","",""]
[null,null,"","","","",""]
[null,null,"","","","",""]
[null,null,2021,null,"SEASON"]
[null,null,"NAME","W","L","PCT","GB"]
[null,null,"LARRY",256,209,0.55053763440860215,0]
[null,null,"JIM T.",252,211,0.54427645788336931,3]
[null,null,"MIKE",252,213,0.54193548387096779,4]
[null,null,"TIM",251,219,0.53404255319148941,7.5]
[null,null,"JIM K.",240,221,0.52060737527114964,14]
[null,null,"DIANE",241,222,0.52051835853131745,14]
[null,null,"JOHN",239,230,0.50959488272921105,19]
[null,null,"JEAN",232,229,0.50325379609544474,22,null," "]
[null,null,"-----",0,370,0,"-----",null," "]
[null,null,"","","","","",null," "]
[null,null,"","","","",""]
[null,null,"","","","",""]
[]
[]
[]
[]
[]
[]
[]
[null,null,null,null,"CURRENT WEEK",null,null,null,null,null,null,"THIS WEEK"]
[null,null,"WEEK ENDING",null,"THIS WEEK","SEASON",null,null,null,null,null,"AL",null,"RANK"]
[null,null,"2021-06-27",null,"RANK","RANK",null,null,null,null,null,"TORONTO",0.83333333333333337,1]
[null,null,"SAN DIEGO",0.83333333333333337,1,6,null,null,null,null,null,"HOUSTON",0.7142857142857143,2]
[null,null,"TORONTO",0.83333333333333337,1,13,null,null,null,null,null,"TEXAS",0.7142857142857143,2]
[null,null,"MILWAUKEE",0.83333333333333337,1,9,null,null,null,null,null,"TAMPA BAY",0.66666666666666663,4]
[null,null,"SAN FRANCISCO",0.8,4,1,null,null,null,null,null,"DETROIT",0.66666666666666663,4]
[null,null,"HOUSTON",0.7142857142857143,5,2,null,null,null,null,null,"BOSTON",0.66666666666666663,4]
[null,null,"TEXAS",0.7142857142857143,5,27,null,null,null,null,null,"SEATTLE",0.6,7]
[null,null,"TAMPA BAY",0.66666666666666663,7,5,null,null,null,null,null,"MINNESOTA",0.6,7]
[null,null,"WASHINGTON",0.66666666666666663,7,17,null,null,null,null,null,"OAKLAND",0.42857142857142855,9]
[null,null,"PITTSBURGH",0.66666666666666663,7,28,null,null,null,null,null,"CLEVELAND",0.4,10]
[null,null,"DETROIT",0.66666666666666663,7,22,null,null,null,null,null,"CHICAGO A",0.4,10]
[null,null,"BOSTON",0.66666666666666663,7,3,null,null,null,null,null,"NEW YORK A",0.33333333333333331,12]
[null,null,"SEATTLE",0.6,12,15,null,null,null,null,null,"LOS ANGELES A",0.2,13]
[null,null,"MINNESOTA",0.6,12,23,null,null,null,null,null,"KANSAS CITY",0.16666666666666666,14]
[null,null,"CINCINNATI",0.5,14,16,null,null,null,null,null,"BALTIMORE",0.14285714285714285,15]
[null,null,"NEW YORK N",0.5,14,11,null,null,null,null,null,"NL"]
[null,null,"ATLANTA",0.5,14,18,null,null,null,null,null,"SAN DIEGO",0.83333333333333337,1]
[null,null,"OAKLAND",0.42857142857142855,17,6,null,null,null,null,null,"MILWAUKEE",0.83333333333333337,1]
[null,null,"LOS ANGELES N",0.42857142857142855,17,3,null,null,null,null,null,"SAN FRANCISCO",0.8,3]
[null,null,"CLEVELAND",0.4,19,10,null,null,null,null,null,"WASHINGTON",0.66666666666666663,4]
[null,null,"CHICAGO A",0.4,19,8,null,null,null,null,null,"PITTSBURGH",0.66666666666666663,4]
[null,null,"CHICAGO N",0.33333333333333331,21,12,null,null,null,null,null,"CINCINNATI",0.5,6]
[null,null,"NEW YORK A",0.33333333333333331,21,14,null,null,null,null,null,"NEW YORK N",0.5,6]
[null,null,"ARIZONA",0.33333333333333331,21,30,null,null,null,null,null,"ATLANTA",0.5,6]
[null,null,"MIAMI",0.33333333333333331,21,25,null,null,null,null,null,"LOS ANGELES N",0.42857142857142855,9]
[null,null,"PHILADELPHIA",0.33333333333333331,21,20,null,null,null,null,null,"CHICAGO N",0.33333333333333331,10]
[null,null,"COLORADO",0.2,26,26,null,null,null,null,null,"ARIZONA",0.33333333333333331,10]
[null,null,"LOS ANGELES A",0.2,26,18,null,null,null,null,null,"MIAMI",0.33333333333333331,10]
[null,null,"KANSAS CITY",0.16666666666666666,28,23,null,null,null,null,null,"PHILADELPHIA",0.33333333333333331,10]
[null,null,"ST LOUIS",0.16666666666666666,28,21,null,null,null,null,null,"COLORADO",0.2,14]
[null,null,"BALTIMORE",0.14285714285714285,30,29,null,null,null,null,null,"ST LOUIS",0.16666666666666666,15]
[]
[null,null,null,null,"SEASON TO DATE",null,null,null,null,null,null,"SEASON TO DATE"]
[null,null,null,null,null,null,null,null,null,null,null,"AL"]
[null,null,"SEASON TO-DATE",null,"RANK",null,null,null,null,null,null,"HOUSTON",0.61538461538461542,1]
[null,null,"SAN FRANCISCO",0.64935064935064934,1,null,null,null,null,null,null,"BOSTON",0.60256410256410253,2]
[null,null,"HOUSTON",0.61538461538461542,2,null,null,null,null,null,null,"TAMPA BAY",0.59493670886075944,3]
[null,null,"LOS ANGELES N",0.60256410256410253,3,null,null,null,null,null,null,"OAKLAND",0.58750000000000002,4]
[null,null,"BOSTON",0.60256410256410253,3,null,null,null,null,null,null,"CHICAGO A",0.58441558441558439,5]
[null,null,"TAMPA BAY",0.59493670886075944,5,null,null,null,null,null,null,"CLEVELAND",0.55405405405405406,6]
[null,null,"OAKLAND",0.58750000000000002,6,null,null,null,null,null,null,"TORONTO",0.52631578947368418,7]
[null,null,"SAN DIEGO",0.58750000000000002,6,null,null,null,null,null,null,"NEW YORK A",0.51948051948051943,8]
[null,null,"CHICAGO A",0.58441558441558439,8,null,null,null,null,null,null,"SEATTLE",0.51898734177215189,9]
[null,null,"MILWAUKEE",0.57692307692307687,9,null,null,null,null,null,null,"LOS ANGELES A",0.48051948051948051,10]
[null,null,"CLEVELAND",0.55405405405405406,10,null,null,null,null,null,null,"DETROIT",0.4358974358974359,11]
[null,null,"NEW YORK N",0.54794520547945202,11,null,null,null,null,null,null,"KANSAS CITY",0.43421052631578949,12]
[null,null,"CHICAGO N",0.53846153846153844,12,null,null,null,null,null,null,"MINNESOTA",0.43421052631578949,12]
[null,null,"TORONTO",0.52631578947368418,13,null,null,null,null,null,null,"TEXAS",0.38461538461538464,14]
[null,null,"NEW YORK A",0.51948051948051943,14,null,null,null,null,null,null,"BALTIMORE",0.30769230769230771,15]
[null,null,"SEATTLE",0.51898734177215189,15,null,null,null,null,null,null,"NL"]
[null,null,"CINCINNATI",0.5,16,null,null,null,null,null,null,"SAN FRANCISCO",0.64935064935064934,1]
[null,null,"WASHINGTON",0.49333333333333335,17,null,null,null,null,null,null,"LOS ANGELES N",0.60256410256410253,2]
[null,null,"LOS ANGELES A",0.48051948051948051,18,null,null,null,null,null,null,"SAN DIEGO",0.58750000000000002,3]
[null,null,"ATLANTA",0.48051948051948051,18,null,null,null,null,null,null,"MILWAUKEE",0.57692307692307687,4]
[null,null,"PHILADELPHIA",0.48,20,null,null,null,null,null,null,"NEW YORK N",0.54794520547945202,5]
[null,null,"ST LOUIS",0.47435897435897434,21,null,null,null,null,null,null,"CHICAGO N",0.53846153846153844,6]
[null,null,"DETROIT",0.4358974358974359,22,null,null,null,null,null,null,"CINCINNATI",0.5,7]
[null,null,"KANSAS CITY",0.43421052631578949,23,null,null,null,null,null,null,"WASHINGTON",0.49333333333333335,8]
[null,null,"MINNESOTA",0.43421052631578949,23,null,null,null,null,null,null,"ATLANTA",0.48051948051948051,9]
[null,null,"MIAMI",0.42857142857142855,25,null,null,null,null,null,null,"PHILADELPHIA",0.48,10]
[null,null,"COLORADO",0.39743589743589741,26,null,null,null,null,null,null,"ST LOUIS",0.47435897435897434,11]
[null,null,"TEXAS",0.38461538461538464,27,null,null,null,null,null,null,"MIAMI",0.42857142857142855,12]
[null,null,"PITTSBURGH",0.38157894736842107,28,null,null,null,null,null,null,"COLORADO",0.39743589743589741,13]
[null,null,"BALTIMORE",0.30769230769230771,29,null,null,null,null,null,null,"PITTSBURGH",0.38157894736842107,14]

{"sheet":"20-Jun","index":27,"n_rows":172,"n_cols":34,"rows_kept":172,"cut":false,"hidden":false,"merged":[[141,11,141,12],[142,2,142,3],[157,11,157,12],[108,2,108,3],[113,16,113,20],[123,11,123,12],[124,16,124,20],[140,4,140,5],[140,11,140,12],[94,9,94,13],[95,9,95,13],[102,16,102,20],[106,4,106,5],[107,2,107,3],[107,11,107,12],[50,16,50,17],[51,16,51,17],[56,2,56,6],[71,2,71,6],[85,2,85,3],[85,4,85,5],[37,22,37,25],[37,26,37,29],[37,30,37,33],[45,16,45,17],[46,16,46,17],[37,18,37,21],[47,16,47,17],[28,16,28,17],[29,16,29,17],[30,16,30,17],[33,16,33,17],[34,16,34,17],[20,30,20,33],[4,2,4,4],[4,6,4,9],[4,11,4,14],[11,16,11,17],[12,16,12,17],[13,16,13,17],[16,16,16,17],[17,16,17,17],[20,18,20,21],[20,22,20,25],[20,26,20,29],[1,16,1,33],[2,13,2,14],[3,18,3,21],[3,22,3,25],[3,26,3,29],[3,30,3,33]]}
[null,2021,"STANDINGS"]
[null,null,null,null,null,null,null,null,null,null,null,null,null,null,null,null,"CURRENT WEEK RESULTS"]
[null,"WEEK ENDING "," ","2021-06-20",null,null,null," ",null,null,null,"WEEK",11,"JUNE",null," "]
[null,null,null,null,null,null,null,null,null,null,null,null,null,null,null,null,null,null,"MIKE",null,null,null,"JOHN",null,null,null,"LARRY",null,null,null,0]
[null,null,"CURRENT WEEK-SEASON TO DATE",null,null,null,"PREVIOUS WEEK-SEASON TO DATE",null,null,null,null,"CURRENT WEEK TOTALS",null,null,null,null,null,null,"RANK","W","L","PCT","RANK","W","L","PCT","RANK","W","L","PCT","RANK","W","L","PCT"]
[null,null,null,null,null,null,null,null,null,null,null,null,null,null,null,null,null,null,"Athletics",4,2,0.66666666666666663,"Giants",6,1,0.8571428571428571,"Brewers",2,5,0.2857142857142857,0,{"$error":"#N/A"},{"$error":"#N/A"},{"$error":"#N/A"}]
[null,"American League",null,null,null,null,"AL EAST",null,null,null,"Times","AL EAST",null,null,null,null,null,null,"Phillies",2,4,0.33333333333333331,"Rays",1,6,0.14285714285714285,"Indians",5,2,0.7142857142857143,0,{"$error":"#N/A"},{"$error":"#N/A"},{"$error":"#N/A"}]
[null,"East","W","L","PCT","Rank","TEAM","W","L","PCT","Picked","TEAM","W","L","PCT","Rank",null,null,"Cardinals",4,3,0.5714285714285714,"Cardinals",4,3,0.5714285714285714,"Dodgers",5,1,0.83333333333333337,0,{"$error":"#N/A"},{"$error":"#N/A"},{"$error":"#N/A"}]
[null,"Orioles",23,48,0.323943661971831,5,"BALTIMORE",22,42,0.34375,0,"Orioles",1,6,0.14285714285714285,4,null,null,"White Sox",2,5,0.2857142857142857,"Astros",6,0,1,"Red Sox",4,2,0.66666666666666663,0,{"$error":"#N/A"},{"$error":"#N/A"},{"$error":"#N/A"}]
[null,"Red Sox",43,29,0.59722222222222221,1,"BOSTON",39,27,0.59090909090909094,5,"Red Sox",4,2,0.66666666666666663,2,null,null,"Dodgers",5,1,0.83333333333333337,"Braves",3,3,0.5,"Marlins",2,4,0.33333333333333331,0,{"$error":"#N/A"},{"$error":"#N/A"},{"$error":"#N/A"}]
[null,"Yankees",38,33,0.53521126760563376,3,"NEW YORK",33,32,0.50769230769230766,0,"Yankees",5,1,0.83333333333333337,1,null,null,"Red Sox",4,2,0.66666666666666663,"Indians",5,2,0.7142857142857143,"Astros",6,0,1,0,{"$error":"#N/A"},{"$error":"#N/A"},{"$error":"#N/A"}]
[null,"Rays",43,30,0.58904109589041098,2,"TAMPA BAY",42,24,0.63636363636363635,4,"Rays",1,6,0.14285714285714285,4,"WEEKLY TOTAL",null,null,21,17,0.55263157894736847,null,25,15,0.625,null,24,14,0.63157894736842102,null,{"$error":"#N/A"},{"$error":"#N/A"},{"$error":"#N/A"}]
[null,"Blue Jays",35,35,0.5,4,"TORONTO",33,30,0.52380952380952384,0,"Blue Jays",2,5,0.2857142857142857,3,"PREV WEEK TO DATE",null,"  ",210,181,0.53708439897698212,null,194,198,0.49489795918367346,null,211,179,0.54102564102564099,null,{"$error":"#N/A"},{"$error":"#N/A"},{"$error":"#N/A"}]
[null,null,null," ",null,null,null,null," ",null,null,null,null,null,null,null,"CUR TOTAL TO DATE",null,"  ",231,198,0.53846153846153844,null,219,213,0.50694444444444442,null,235,193,0.5490654205607477,null,{"$error":"#N/A"},{"$error":"#N/A"},{"$error":"#N/A"}]
[null,null,null," ",null,null,"AL CENTRAL",null," ",null,null,"AL CENTRAL"]
[null,"Central","W","L","PCT",null,"TEAM","W","L","PCT",null,"TEAM","W","L","PCT"]
[null,"White Sox",43,29,0.59722222222222221,1,"CHICAGO",41,24,0.63076923076923075,1,"White Sox",2,5,0.2857142857142857,5,"SEASON TLT TO DATE",null,"  ",168,150,0.52830188679245282,null,159,157,0.50316455696202533,null,162,153,0.51428571428571423,null,{"$error":"#N/A"},{"$error":"#N/A"},{"$error":"#N/A"}]
[null,"Indians",39,30,0.56521739130434778,2,"CLEVELAND",34,28,0.54838709677419351,6,"Indians",5,2,0.7142857142857143,1,"JUNE TOTAL TO DATE",null,null,63,48,0.56756756756756754,null,60,56,0.51724137931034486,null,73,40,0.64601769911504425,null,{"$error":"#N/A"},{"$error":"#N/A"},{"$error":"#N/A"}]
[null,"Tigers",30,42,0.41666666666666669,5,"DETROIT",26,39,0.4,0,"Tigers",4,3,0.5714285714285714,3]
[null,"Royals",32,38,0.45714285714285713,3,"KANSAS CITY",30,34,0.46875,2,"Royals",2,4,0.33333333333333331,4]
[null,"Twins",30,41,0.42253521126760563,4,"MINNESOTA",26,39,0.4,0,"Twins",4,2,0.66666666666666663,2,null,null,"JIM T.",null,null,null,"JEAN",null,null,null,"DIANE",null,null,null,0]
[null,null,null," ",null,null,null,null," ",null,null,null,null,null,null,null,null,null,"RANK","W","L","PCT","RANK","W","L","PCT","RANK","W","L","PCT","RANK","W","L","PCT"]
[null,null,null," ",null,null,"AL WEST",null," ",null,null,"AL WEST",null,null,null,null,null,null,"Red Sox",4,2,0.66666666666666663,"Cubs",2,5,0.2857142857142857,"Red Sox",4,2,0.66666666666666663,0,{"$error":"#N/A"},{"$error":"#N/A"},{"$error":"#N/A"}]
[null,"West","W","L","PCT",null,"TEAM","W","L","PCT",null,"TEAM","W","L","PCT",null,null,null,"Indians",5,2,0.7142857142857143,"Rangers",0,5,0,"Dodgers",5,1,0.83333333333333337,0,{"$error":"#N/A"},{"$error":"#N/A"},{"$error":"#N/A"}]
[null,"Angels",36,36,0.5,4,"LOS ANGELES",33,32,0.50769230769230766,0,"Angels",3,4,0.42857142857142855,4,null,null,"Athletics",4,2,0.66666666666666663,"Mets",4,4,0.5,"Brewers",2,5,0.2857142857142857,0,{"$error":"#N/A"},{"$error":"#N/A"},{"$error":"#N/A"}]
[null,"Athletics",44,29,0.60273972602739723,2,"OAKLAND",40,27,0.59701492537313428,3,"Athletics",4,2,0.66666666666666663,3,null,null,"Phillies",2,4,0.33333333333333331,"Giants",6,1,0.8571428571428571,"Phillies",2,4,0.33333333333333331,0,{"$error":"#N/A"},{"$error":"#N/A"},{"$error":"#N/A"}]
[null,"Mariners",38,36,0.51351351351351349,3,"SEATTLE",32,35,0.47761194029850745,2,"Mariners",6,1,0.8571428571428571,2,null,null,"Brewers",2,5,0.2857142857142857,"Rays",1,6,0.14285714285714285,"Mariners",6,1,0.8571428571428571,0,{"$error":"#N/A"},{"$error":"#N/A"},{"$error":"#N/A"}]
[null,"Rangers",25,46,0.352112676056338,5,"TEXAS",25,41,0.37878787878787878,1,"Rangers",0,5,0,5,null,null,"Dodgers",5,1,0.83333333333333337,"Royals",2,4,0.33333333333333331,"Royals",2,4,0.33333333333333331,0,{"$error":"#N/A"},{"$error":"#N/A"},{"$error":"#N/A"}]
[null,"Astros",43,28,0.60563380281690138,1,"HOUSTON",37,28,0.56923076923076921,3,"Astros",6,0,1,1,"WEEKLY TOTAL",null,null,22,16,0.57894736842105265,null,15,25,0.375,null,21,17,0.55263157894736847,null,{"$error":"#N/A"},{"$error":"#N/A"},{"$error":"#N/A"}]
[null,null,null,null,null,null,null,null,null,null,null,null,null,null,null,null,"PREV WEEK TO DATE",null,null,211,177,0.54381443298969068,null,197,186,0.51436031331592691,null,202,187,0.51928020565552702,null,{"$error":"#N/A"},{"$error":"#N/A"},{"$error":"#N/A"}]
[null,"National League",null," ",null,null,"NL EAST",null," ",null,null,"NL EAST",null,null,null,null,"CUR TOTAL TO DATE",null,null,233,193,0.54694835680751175,null,212,211,0.50118203309692666,null,223,204,0.52224824355971899,null,{"$error":"#N/A"},{"$error":"#N/A"},{"$error":"#N/A"}]
[null,"East","W","L","PCT",null,"TEAM","W","L","PCT",null,"TEAM","W","L","PCT"]
[null,"Braves",33,36,0.47826086956521741,3,"ATLANTA",30,33,0.47619047619047616,1,"Braves",3,3,0.5,2]
[null,"Marlins",31,40,0.43661971830985913,5,"Miami",29,36,0.44615384615384618,2,"Marlins",2,4,0.33333333333333331,4,"SEASON TLT TO DATE",null,null,164,153,0.51735015772870663,null,162,149,0.52090032154340837,null,168,147,0.53333333333333333,null,{"$error":"#N/A"},{"$error":"#N/A"},{"$error":"#N/A"}]
[null,"Mets",36,29,0.55384615384615388,1,"NEW YORK",32,25,0.56140350877192979,2,"Mets",4,4,0.5,2,"JUNE TOTAL TO DATE",null,null,69,40,0.6330275229357798,null,50,62,0.44642857142857145,null,55,57,0.49107142857142855,null,{"$error":"#N/A"},{"$error":"#N/A"},{"$error":"#N/A"}]
[null,"Phillies",34,35,0.49275362318840582,2,"PHILADELPHIA",32,31,0.50793650793650791,4,"Phillies",2,4,0.33333333333333331,4]
[null,"Nationals",33,36,0.47826086956521741,3,"WASHINGTON",27,35,0.43548387096774194,0,"Nationals",6,1,0.8571428571428571,1]
[null,null,null," ",null,null,null,null," ",null,null,null,null,null,null,null,null,null,"JIM K.",null,null,null,"TIM",null,null,null,"-----",null,null,null,0]
[null,null,null," ",null,null,"NL CENTRAL",null," ",null,null,"NL CENTRAL",null,null,null,null,null,null,"RANK","W","L","PCT","RANK","W","L","PCT","RANK","W","L","PCT","RANK","W","L","PCT"]
[null,"Central","W","L","PCT",null,"TEAM","W","L","PCT",null,"TEAM","W","L","PCT",null,null,null,"Rays",1,6,0.14285714285714285,"Rays",1,6,0.14285714285714285,null,null,null,null,0,{"$error":"#N/A"},{"$error":"#N/A"},{"$error":"#N/A"}]
[null,"Cubs",40,32,0.55555555555555558,1,"CHICAGO",38,27,0.58461538461538465,2,"Cubs",2,5,0.2857142857142857,4,null,null,"Cubs",2,5,0.2857142857142857,"Mets",4,4,0.5,null,null,null,null,0,{"$error":"#N/A"},{"$error":"#N/A"},{"$error":"#N/A"}]
[null,"Reds",35,35,0.5,3,"CINCINNATI",32,31,0.50793650793650791,0,"Reds",3,4,0.42857142857142855,2,null,null,"Athletics",4,2,0.66666666666666663,"Padres",4,3,0.5714285714285714,null,null,null,null,0,{"$error":"#N/A"},{"$error":"#N/A"},{"$error":"#N/A"}]
[null,"Brewers",40,32,0.55555555555555558,1,"MILWAUKEE",38,27,0.58461538461538465,3,"Brewers",2,5,0.2857142857142857,4,null,null,"Indians",5,2,0.7142857142857143,"Cardinals",4,3,0.5714285714285714,null,null,null,null,0,{"$error":"#N/A"},{"$error":"#N/A"},{"$error":"#N/A"}]
[null,"Pirates",25,45,0.35714285714285715,5,"PITTSBURGH",23,41,0.359375,0,"Pirates",2,4,0.33333333333333331,3,null,null,"Dodgers",5,1,0.83333333333333337,"Astros",6,0,1,null,null,null,null,0,{"$error":"#N/A"},{"$error":"#N/A"},{"$error":"#N/A"}]
[null,"Cardinals",36,36,0.5,3,"ST LOUIS",32,33,0.49230769230769234,4,"Cardinals",4,3,0.5714285714285714,1,null,null,"Phillies",2,4,0.33333333333333331,"Indians",5,2,0.7142857142857143,null,null,null,null,0,{"$error":"#N/A"},{"$error":"#N/A"},{"$error":"#N/A"}]
[null,null,null," ",null,null,null,null," ",null,null,null,null,null,null,null,"WEEKLY TOTAL",null,null,19,20,0.48717948717948717,null,24,18,0.5714285714285714,null,0,30,"",null,{"$error":"#N/A"},{"$error":"#N/A"},{"$error":"#N/A"}]
[null,null,null," ",null,null,"NL WEST",null," ",null,null,"NL WEST",null,null,null,null,"PREV WEEK TO DATE",null,null,205,180,0.53246753246753242,null,206,184,0.52820512820512822,null,0,310,"",null,{"$error":"#N/A"},{"$error":"#N/A"},{"$error":"#N/A"}]
[null,"West","W","L","PCT",null,"TEAM","W","L","PCT",null,"TEAM","W","L","PCT",null,"CUR TOTAL TO DATE",null,null,224,200,0.52830188679245282,null,230,202,0.53240740740740744,null,0,340,"",null,{"$error":"#N/A"},{"$error":"#N/A"},{"$error":"#N/A"}]
[null,"Diamondbacks",20,53,0.27397260273972601,5,"ARIZONA",20,46,0.30303030303030304,0,"Diamondbacks",0,7,0,5]
[null,"Rockies",30,43,0.41095890410958902,4,"COLORADO",25,41,0.37878787878787878,0,"Rockies",5,2,0.7142857142857143,3]
[null,"Dodgers",44,27,0.61971830985915488,2,"LOS ANGELES",39,26,0.6,6,"Dodgers",5,1,0.83333333333333337,2,"SEASON TLT TO DATE",null,null,158,157,0.50158730158730158,null,170,147,0.5362776025236593,null,0,250,"",null,{"$error":"#N/A"},{"$error":"#N/A"},{"$error":"#N/A"}]
[null,"Padres",42,32,0.56756756756756754,3,"SAN DIEGO",38,29,0.56716417910447758,1,"Padres",4,3,0.5714285714285714,4,"JUNE TOTAL TO DATE",null,null,66,43,0.60550458715596334,null,60,55,0.52173913043478259,null,0,90,"",null,{"$error":"#N/A"},{"$error":"#N/A"},{"$error":"#N/A"}]
[null,"Giants",46,26,0.63888888888888884,1,"SAN FRANCISCO",40,25,0.61538461538461542,2,"Giants",6,1,0.8571428571428571,1]
[null,null,null,null,null,null,null,null,null,null,null,null,99,99]
[null,null,null,"2021-06-22"," Morning"]
[]
[null,null,"WEEK 11"]
[null," ","NAME","W","L","PCT","GB"]
[null,null,"LARRY",24,14,0.63157894736842102,0]
[null," ","JOHN",25,15,0.625,0]
[null," ","JIM T.",22,16,0.57894736842105265,2]
[null," ","TIM",24,18,0.5714285714285714,2]
[null," ","MIKE",21,17,0.55263157894736847,3]
[null,null,"DIANE",21,17,0.55263157894736847,3]
[null,null,"JIM K.",19,20,0.48717948717948717,5.5]
[null,null,"JEAN",15,25,0.375,10]
[null,null,"-----",0,30,0,"-----"]
[null,null,"","","","",""]
[null,null,"","","","",""]
[null,null,"","","","",""]
[]
[null,null,"MONTH OF  JUNE"]
[null,null,"NAME","W","L","PCT","GB"]
[null,null,"LARRY",73,40,0.64601769911504425,0]
[null,null,"JIM T.",69,40,0.6330275229357798,2]
[null,null,"JIM K.",66,43,0.60550458715596334,5]
[null,null,"MIKE",63,48,0.56756756756756754,9]
[null,null,"TIM",60,55,0.52173913043478259,14]
[null,null,"JOHN",60,56,0.51724137931034486,14.5]
[null,null,"DIANE",55,57,0.49107142857142855,17.5]
[null,null,"JEAN",50,62,0.44642857142857145,22.5]
[null,null,"-----",0,90,0,"-----"]
[null,null,"","","","",""]
[null,null,"","","","",""]
[null,null,"","","","",""]
[null,null,2021,null,"SEASON"]
[null,null,"NAME","W","L","PCT","GB"]
[null,null,"LARRY",235,193,0.5490654205607477,0]
[null,null,"JIM T.",233,193,0.54694835680751175,1]
[null,null,"MIKE",231,198,0.53846153846153844,4.5]
[null,null,"TIM",230,202,0.53240740740740744,7]
[null,null,"JIM K.",224,200,0.52830188679245282,9]
[null,null,"DIANE",223,204,0.52224824355971899,11.5]
[null,null,"JOHN",219,213,0.50694444444444442,18]
[null,null,"JEAN",212,211,0.50118203309692666,20.5,null," "]
[null,null,"-----",0,340,0,"-----",null," "]
[null,null,"","","","","",null," "]
[null,null,"","","","",""]
[null,null,"","","","",""]
[]
[]
[]
[]
[]
[]
[]
[null,null,null,null,"CURRENT WEEK",null,null,null,null,null,null,"THIS WEEK"]
[null,null,"WEEK ENDING",null,"THIS WEEK","SEASON",null,null,null,null,null,"AL",null,"RANK"]
[null,null,"2021-06-20",null,"RANK","RANK",null,null,null,null,null,"HOUSTON",1,1]
[null,null,"HOUSTON",1,1,3,null,null,null,null,null,"SEATTLE",0.8571428571428571,2]
[null,null,"SAN FRANCISCO",0.8571428571428571,2,1,null,null,null,null,null,"NEW YORK A",0.83333333333333337,3]
[null,null,"WASHINGTON",0.8571428571428571,2,20,null,null,null,null,null,"CLEVELAND",0.7142857142857143,4]
[null,null,"SEATTLE",0.8571428571428571,2,14,null,null,null,null,null,"OAKLAND",0.66666666666666663,5]
[null,null,"NEW YORK A",0.83333333333333337,5,13,null,null,null,null,null,"BOSTON",0.66666666666666663,5]
[null,null,"LOS ANGELES N",0.83333333333333337,5,2,null,null,null,null,null,"MINNESOTA",0.66666666666666663,5]
[null,null,"COLORADO",0.7142857142857143,7,26,null,null,null,null,null,"DETROIT",0.5714285714285714,8]
[null,null,"CLEVELAND",0.7142857142857143,7,9,null,null,null,null,null,"LOS ANGELES A",0.42857142857142855,9]
[null,null,"OAKLAND",0.66666666666666663,9,4,null,null,null,null,null,"KANSAS CITY",0.33333333333333331,10]
[null,null,"BOSTON",0.66666666666666663,9,5,null,null,null,null,null,"CHICAGO A",0.2857142857142857,11]
[null,null,"MINNESOTA",0.66666666666666663,9,24,null,null,null,null,null,"TORONTO",0.2857142857142857,11]
[null,null,"ST LOUIS",0.5714285714285714,12,15,null,null,null,null,null,"TAMPA BAY",0.14285714285714285,13]
[null,null,"DETROIT",0.5714285714285714,12,25,null,null,null,null,null,"BALTIMORE",0.14285714285714285,13]
[null,null,"SAN DIEGO",0.5714285714285714,12,8,null,null,null,null,null,"TEXAS",0,15]
[null,null,"NEW YORK N",0.5,15,12,null,null,null,null,null,"NL"]
[null,null,"ATLANTA",0.5,15,20,null,null,null,null,null,"SAN FRANCISCO",0.8571428571428571,1]
[null,null,"CINCINNATI",0.42857142857142855,17,15,null,null,null,null,null,"WASHINGTON",0.8571428571428571,1]
[null,null,"LOS ANGELES A",0.42857142857142855,17,15,null,null,null,null,null,"LOS ANGELES N",0.83333333333333337,3]
[null,null,"PHILADELPHIA",0.33333333333333331,19,19,null,null,null,null,null,"COLORADO",0.7142857142857143,4]
[null,null,"MIAMI",0.33333333333333331,19,23,null,null,null,null,null,"ST LOUIS",0.5714285714285714,5]
[null,null,"PITTSBURGH",0.33333333333333331,19,27,null,null,null,null,null,"SAN DIEGO",0.5714285714285714,5]
[null,null,"KANSAS CITY",0.33333333333333331,19,22,null,null,null,null,null,"NEW YORK N",0.5,7]
[null,null,"CHICAGO A",0.2857142857142857,23,5,null,null,null,null,null,"ATLANTA",0.5,7]
[null,null,"CHICAGO N",0.2857142857142857,23,10,null,null,null,null,null,"CINCINNATI",0.42857142857142855,9]
[null,null,"MILWAUKEE",0.2857142857142857,23,10,null,null,null,null,null,"PHILADELPHIA",0.33333333333333331,10]
[null,null,"TORONTO",0.2857142857142857,23,15,null,null,null,null,null,"MIAMI",0.33333333333333331,10]
[null,null,"TAMPA BAY",0.14285714285714285,27,7,null,null,null,null,null,"PITTSBURGH",0.33333333333333331,10]
[null,null,"BALTIMORE",0.14285714285714285,27,29,null,null,null,null,null,"CHICAGO N",0.2857142857142857,13]
[null,null,"TEXAS",0,29,28,null,null,null,null,null,"MILWAUKEE",0.2857142857142857,13]
[null,null,"ARIZONA",0,29,30,null,null,null,null,null,"ARIZONA",0,15]
[]
[null,null,null,null,"SEASON TO DATE",null,null,null,null,null,null,"SEASON TO DATE"]
[null,null,null,null,null,null,null,null,null,null,null,"AL"]
[null,null,"SEASON TO-DATE",null,"RANK",null,null,null,null,null,null,"HOUSTON",0.60563380281690138,1]
[null,null,"SAN FRANCISCO",0.63888888888888884,1,null,null,null,null,null,null,"OAKLAND",0.60273972602739723,2]
[null,null,"LOS ANGELES N",0.61971830985915488,2,null,null,null,null,null,null,"CHICAGO A",0.59722222222222221,3]
[null,null,"HOUSTON",0.60563380281690138,3,null,null,null,null,null,null,"BOSTON",0.59722222222222221,3]
[null,null,"OAKLAND",0.60273972602739723,4,null,null,null,null,null,null,"TAMPA BAY",0.58904109589041098,5]
[null,null,"CHICAGO A",0.59722222222222221,5,null,null,null,null,null,null,"CLEVELAND",0.56521739130434778,6]
[null,null,"BOSTON",0.59722222222222221,5,null,null,null,null,null,null,"NEW YORK A",0.53521126760563376,7]
[null,null,"TAMPA BAY",0.58904109589041098,7,null,null,null,null,null,null,"SEATTLE",0.51351351351351349,8]
[null,null,"SAN DIEGO",0.56756756756756754,8,null,null,null,null,null,null,"LOS ANGELES A",0.5,9]
[null,null,"CLEVELAND",0.56521739130434778,9,null,null,null,null,null,null,"TORONTO",0.5,9]
[null,null,"CHICAGO N",0.55555555555555558,10,null,null,null,null,null,null,"KANSAS CITY",0.45714285714285713,11]
[null,null,"MILWAUKEE",0.55555555555555558,10,null,null,null,null,null,null,"MINNESOTA",0.42253521126760563,12]
[null,null,"NEW YORK N",0.55384615384615388,12,null,null,null,null,null,null,"DETROIT",0.41666666666666669,13]
[null,null,"NEW YORK A",0.53521126760563376,13,null,null,null,null,null,null,"TEXAS",0.352112676056338,14]
[null,null,"SEATTLE",0.51351351351351349,14,null,null,null,null,null,null,"BALTIMORE",0.323943661971831,15]
[null,null,"CINCINNATI",0.5,15,null,null,null,null,null,null,"NL"]
[null,null,"LOS ANGELES A",0.5,15,null,null,null,null,null,null,"SAN FRANCISCO",0.63888888888888884,1]
[null,null,"ST LOUIS",0.5,15,null,null,null,null,null,null,"LOS ANGELES N",0.61971830985915488,2]
[null,null,"TORONTO",0.5,15,null,null,null,null,null,null,"SAN DIEGO",0.56756756756756754,3]
[null,null,"PHILADELPHIA",0.49275362318840582,19,null,null,null,null,null,null,"CHICAGO N",0.55555555555555558,4]
[null,null,"ATLANTA",0.47826086956521741,20,null,null,null,null,null,null,"MILWAUKEE",0.55555555555555558,4]
[null,null,"WASHINGTON",0.47826086956521741,20,null,null,null,null,null,null,"NEW YORK N",0.55384615384615388,6]
[null,null,"KANSAS CITY",0.45714285714285713,22,null,null,null,null,null,null,"CINCINNATI",0.5,7]
[null,null,"MIAMI",0.43661971830985913,23,null,null,null,null,null,null,"ST LOUIS",0.5,7]
[null,null,"MINNESOTA",0.42253521126760563,24,null,null,null,null,null,null,"PHILADELPHIA",0.49275362318840582,9]
[null,null,"DETROIT",0.41666666666666669,25,null,null,null,null,null,null,"ATLANTA",0.47826086956521741,10]
[null,null,"COLORADO",0.41095890410958902,26,null,null,null,null,null,null,"WASHINGTON",0.47826086956521741,10]
[null,null,"PITTSBURGH",0.35714285714285715,27,null,null,null,null,null,null,"MIAMI",0.43661971830985913,12]
[null,null,"TEXAS",0.352112676056338,28,null,null,null,null,null,null,"COLORADO",0.41095890410958902,13]
[null,null,"BALTIMORE",0.323943661971831,29,null,null,null,null,null,null,"PITTSBURGH",0.35714285714285715,14]

{"sheet":"13-Jun","index":28,"n_rows":172,"n_cols":34,"rows_kept":172,"cut":false,"hidden":false,"merged":[[1,16,1,33],[2,13,2,14],[3,18,3,21],[3,22,3,25],[3,26,3,29],[3,30,3,33],[20,30,20,33],[4,2,4,4],[4,6,4,9],[4,11,4,14],[11,16,11,17],[12,16,12,17],[13,16,13,17],[16,16,16,17],[17,16,17,17],[20,18,20,21],[20,22,20,25],[20,26,20,29],[47,16,47,17],[28,16,28,17],[29,16,29,17],[30,16,30,17],[33,16,33,17],[34,16,34,17],[37,22,37,25],[37,26,37,29],[37,30,37,33],[45,16,45,17],[46,16,46,17],[37,18,37,21],[50,16,50,17],[51,16,51,17],[56,2,56,6],[71,2,71,6],[85,2,85,3],[85,4,85,5],[94,9,94,13],[95,9,95,13],[102,16,102,20],[106,4,106,5],[107,2,107,3],[107,11,107,12],[141,11,141,12],[142,2,142,3],[157,11,157,12],[108,2,108,3],[113,16,113,20],[123,11,123,12],[124,16,124,20],[140,4,140,5],[140,11,140,12]]}
[null,2021,"STANDINGS"]
[null,null,null,null,null,null,null,null,null,null,null,null,null,null,null,null,"CURRENT WEEK RESULTS"]
[null,"WEEK ENDING "," ","2021-06-13",null,null,null," ",null,null,null,"WEEK",10,"JUNE",null," "]
[null,null,null,null,null,null,null,null,null,null,null,null,null,null,null,null,null,null,"MIKE",null,null,null,"JOHN",null,null,null,"LARRY",null,null,null,0]
[null,null,"CURRENT WEEK-SEASON TO DATE",null,null,null,"PREVIOUS WEEK-SEASON TO DATE",null,null,null,null,"CURRENT WEEK TOTALS",null,null,null,null,null,null,"RANK","W","L","PCT","RANK","W","L","PCT","RANK","W","L","PCT","RANK","W","L","PCT"]
[null,null,null,null,null,null,null,null,null,null,null,null,null,null,null,null,null,null,"Athletics",5,1,0.83333333333333337,"Giants",3,3,0.5,"Dodgers",5,1,0.83333333333333337,0,{"$error":"#N/A"},{"$error":"#N/A"},{"$error":"#N/A"}]
[null,"American League",null,null,null,null,"AL EAST",null,null,null,"Times","AL EAST",null,null,null,null,null,null,"Phillies",4,1,0.8,"Rays",4,1,0.8,"Brewers",5,1,0.83333333333333337,0,{"$error":"#N/A"},{"$error":"#N/A"},{"$error":"#N/A"}]
[null,"East","W","L","PCT","Rank","TEAM","W","L","PCT","Picked","TEAM","W","L","PCT","Rank",null,null,"Cardinals",1,4,0.2,"Cardinals",1,4,0.2,"Red Sox",3,4,0.42857142857142855,0,{"$error":"#N/A"},{"$error":"#N/A"},{"$error":"#N/A"}]
[null,"Orioles",22,42,0.34375,5,"BALTIMORE",21,38,0.3559322033898305,0,"Orioles",1,4,0.2,5,null,null,"White Sox",5,1,0.83333333333333337,"Astros",4,2,0.66666666666666663,"White Sox",5,1,0.83333333333333337,0,{"$error":"#N/A"},{"$error":"#N/A"},{"$error":"#N/A"}]
[null,"Red Sox",39,27,0.59090909090909094,2,"BOSTON",36,23,0.61016949152542377,5,"Red Sox",3,4,0.42857142857142855,3,null,null,"Dodgers",5,1,0.83333333333333337,"Braves",2,4,0.33333333333333331,"Phillies",4,1,0.8,0,{"$error":"#N/A"},{"$error":"#N/A"},{"$error":"#N/A"}]
[null,"Yankees",33,32,0.50769230769230766,4,"NEW YORK",31,29,0.51666666666666672,0,"Yankees",2,3,0.4,4,null,null,"Red Sox",3,4,0.42857142857142855,"Royals",1,6,0.14285714285714285,"Astros",4,2,0.66666666666666663,0,{"$error":"#N/A"},{"$error":"#N/A"},{"$error":"#N/A"}]
[null,"Rays",42,24,0.63636363636363635,1,"TAMPA BAY",38,23,0.62295081967213117,4,"Rays",4,1,0.8,1,"WEEKLY TOTAL",null,null,23,12,0.65714285714285714,null,15,20,0.42857142857142855,null,26,10,0.72222222222222221,null,{"$error":"#N/A"},{"$error":"#N/A"},{"$error":"#N/A"}]
[null,"Blue Jays",33,30,0.52380952380952384,3,"TORONTO",30,27,0.52631578947368418,0,"Blue Jays",3,3,0.5,2,"PREV WEEK TO DATE",null,"  ",187,169,0.5252808988764045,null,179,178,0.50140056022408963,null,185,169,0.52259887005649719,null,{"$error":"#N/A"},{"$error":"#N/A"},{"$error":"#N/A"}]
[null,null,null," ",null,null,null,null," ",null,null,null,null,null,null,null,"CUR TOTAL TO DATE",null,"  ",210,181,0.53708439897698212,null,194,198,0.49489795918367346,null,211,179,0.54102564102564099,null,{"$error":"#N/A"},{"$error":"#N/A"},{"$error":"#N/A"}]
[null,null,null," ",null,null,"AL CENTRAL",null," ",null,null,"AL CENTRAL"]
[null,"Central","W","L","PCT",null,"TEAM","W","L","PCT",null,"TEAM","W","L","PCT"]
[null,"White Sox",41,24,0.63076923076923075,1,"CHICAGO",36,23,0.61016949152542377,2,"White Sox",5,1,0.83333333333333337,1,"SEASON TLT TO DATE",null,"  ",168,150,0.52830188679245282,null,159,157,0.50316455696202533,null,162,153,0.51428571428571423,null,{"$error":"#N/A"},{"$error":"#N/A"},{"$error":"#N/A"}]
[null,"Indians",34,28,0.54838709677419351,2,"CLEVELAND",31,26,0.54385964912280704,4,"Indians",3,2,0.6,2,"JUNE TOTAL TO DATE",null,null,42,31,0.57534246575342463,null,35,41,0.46052631578947367,null,49,26,0.65333333333333332,null,{"$error":"#N/A"},{"$error":"#N/A"},{"$error":"#N/A"}]
[null,"Tigers",26,39,0.4,4,"DETROIT",24,35,0.40677966101694918,0,"Tigers",2,4,0.33333333333333331,3]
[null,"Royals",30,34,0.46875,3,"KANSAS CITY",29,28,0.50877192982456143,3,"Royals",1,6,0.14285714285714285,5]
[null,"Twins",26,39,0.4,4,"MINNESOTA",24,35,0.40677966101694918,0,"Twins",2,4,0.33333333333333331,3,null,null,"JIM T.",null,null,null,"JEAN",null,null,null,"DIANE",null,null,null,0]
[null,null,null," ",null,null,null,null," ",null,null,null,null,null,null,null,null,null,"RANK","W","L","PCT","RANK","W","L","PCT","RANK","W","L","PCT","RANK","W","L","PCT"]
[null,null,null," ",null,null,"AL WEST",null," ",null,null,"AL WEST",null,null,null,null,null,null,"Red Sox",3,4,0.42857142857142855,"Cubs",5,1,0.83333333333333337,"Red Sox",3,4,0.42857142857142855,0,{"$error":"#N/A"},{"$error":"#N/A"},{"$error":"#N/A"}]
[null,"West","W","L","PCT",null,"TEAM","W","L","PCT",null,"TEAM","W","L","PCT",null,null,null,"Indians",3,2,0.6,"Rangers",2,3,0.4,"Cardinals",1,4,0.2,0,{"$error":"#N/A"},{"$error":"#N/A"},{"$error":"#N/A"}]
[null,"Angels",33,32,0.50769230769230766,3,"LOS ANGELES",27,32,0.4576271186440678,0,"Angels",6,0,1,1,null,null,"Athletics",5,1,0.83333333333333337,"Mets",3,2,0.6,"Phillies",4,1,0.8,0,{"$error":"#N/A"},{"$error":"#N/A"},{"$error":"#N/A"}]
[null,"Athletics",40,27,0.59701492537313428,1,"OAKLAND",35,26,0.57377049180327866,3,"Athletics",5,1,0.83333333333333337,2,null,null,"Phillies",4,1,0.8,"Giants",3,3,0.5,"Dodgers",5,1,0.83333333333333337,0,{"$error":"#N/A"},{"$error":"#N/A"},{"$error":"#N/A"}]
[null,"Mariners",32,35,0.47761194029850745,4,"SEATTLE",30,31,0.49180327868852458,2,"Mariners",2,4,0.33333333333333331,5,null,null,"Brewers",5,1,0.83333333333333337,"Rays",4,1,0.8,"Mariners",2,4,0.33333333333333331,0,{"$error":"#N/A"},{"$error":"#N/A"},{"$error":"#N/A"}]
[null,"Rangers",25,41,0.37878787878787878,5,"TEXAS",23,38,0.37704918032786883,1,"Rangers",2,3,0.4,4,null,null,"Dodgers",5,1,0.83333333333333337,"Royals",1,6,0.14285714285714285,"Royals",1,6,0.14285714285714285,0,{"$error":"#N/A"},{"$error":"#N/A"},{"$error":"#N/A"}]
[null,"Astros",37,28,0.56923076923076921,2,"HOUSTON",33,26,0.55932203389830504,3,"Astros",4,2,0.66666666666666663,3,"WEEKLY TOTAL",null,null,25,10,0.7142857142857143,null,18,16,0.52941176470588236,null,16,20,0.44444444444444442,null,{"$error":"#N/A"},{"$error":"#N/A"},{"$error":"#N/A"}]
[null,null,null,null,null,null,null,null,null,null,null,null,null,null,null,null,"PREV WEEK TO DATE",null,null,186,167,0.52691218130311612,null,179,170,0.5128939828080229,null,186,167,0.52691218130311612,null,{"$error":"#N/A"},{"$error":"#N/A"},{"$error":"#N/A"}]
[null,"National League",null," ",null,null,"NL EAST",null," ",null,null,"NL EAST",null,null,null,null,"CUR TOTAL TO DATE",null,null,211,177,0.54381443298969068,null,197,186,0.51436031331592691,null,202,187,0.51928020565552702,null,{"$error":"#N/A"},{"$error":"#N/A"},{"$error":"#N/A"}]
[null,"East","W","L","PCT",null,"TEAM","W","L","PCT",null,"TEAM","W","L","PCT"]
[null,"Braves",30,33,0.47619047619047616,3,"ATLANTA",28,29,0.49122807017543857,1,"Braves",2,4,0.33333333333333331,5]
[null,"Marlins",29,36,0.44615384615384618,4,"Miami",25,33,0.43103448275862066,1,"Marlins",4,3,0.5714285714285714,3,"SEASON TLT TO DATE",null,null,164,153,0.51735015772870663,null,162,149,0.52090032154340837,null,168,147,0.53333333333333333,null,{"$error":"#N/A"},{"$error":"#N/A"},{"$error":"#N/A"}]
[null,"Mets",32,25,0.56140350877192979,1,"NEW YORK",29,23,0.55769230769230771,2,"Mets",3,2,0.6,2,"JUNE TOTAL TO DATE",null,null,47,24,0.6619718309859155,null,35,37,0.4861111111111111,null,34,40,0.45945945945945948,null,{"$error":"#N/A"},{"$error":"#N/A"},{"$error":"#N/A"}]
[null,"Phillies",32,31,0.50793650793650791,2,"PHILADELPHIA",28,30,0.48275862068965519,5,"Phillies",4,1,0.8,1]
[null,"Nationals",27,35,0.43548387096774194,5,"WASHINGTON",24,32,0.42857142857142855,0,"Nationals",3,3,0.5,4]
[null,null,null," ",null,null,null,null," ",null,null,null,null,null,null,null,null,null,"JIM K.",null,null,null,"TIM",null,null,null,"-----",null,null,null,0]
[null,null,null," ",null,null,"NL CENTRAL",null," ",null,null,"NL CENTRAL",null,null,null,null,null,null,"RANK","W","L","PCT","RANK","W","L","PCT","RANK","W","L","PCT","RANK","W","L","PCT"]
[null,"Central","W","L","PCT",null,"TEAM","W","L","PCT",null,"TEAM","W","L","PCT",null,null,null,"Rays",4,1,0.8,"Rays",4,1,0.8,null,null,null,null,0,{"$error":"#N/A"},{"$error":"#N/A"},{"$error":"#N/A"}]
[null,"Cubs",38,27,0.58461538461538465,1,"CHICAGO",33,26,0.55932203389830504,2,"Cubs",5,1,0.83333333333333337,1,null,null,"Cubs",5,1,0.83333333333333337,"Mets",3,2,0.6,null,null,null,null,0,{"$error":"#N/A"},{"$error":"#N/A"},{"$error":"#N/A"}]
[null,"Reds",32,31,0.50793650793650791,3,"CINCINNATI",28,29,0.49122807017543857,0,"Reds",4,2,0.66666666666666663,3,null,null,"Athletics",5,1,0.83333333333333337,"Padres",2,4,0.33333333333333331,null,null,null,null,0,{"$error":"#N/A"},{"$error":"#N/A"},{"$error":"#N/A"}]
[null,"Brewers",38,27,0.58461538461538465,1,"MILWAUKEE",33,26,0.55932203389830504,2,"Brewers",5,1,0.83333333333333337,1,null,null,"Indians",3,2,0.6,"Cardinals",1,4,0.2,null,null,null,null,0,{"$error":"#N/A"},{"$error":"#N/A"},{"$error":"#N/A"}]
[null,"Pirates",23,41,0.359375,5,"PITTSBURGH",23,35,0.39655172413793105,0,"Pirates",0,6,0,5,null,null,"Dodgers",5,1,0.83333333333333337,"Astros",4,2,0.66666666666666663,null,null,null,null,0,{"$error":"#N/A"},{"$error":"#N/A"},{"$error":"#N/A"}]
[null,"Cardinals",32,33,0.49230769230769234,4,"ST LOUIS",31,29,0.51666666666666672,5,"Cardinals",1,4,0.2,4,null,null,"Phillies",4,1,0.8,"Indians",3,2,0.6,null,null,null,null,0,{"$error":"#N/A"},{"$error":"#N/A"},{"$error":"#N/A"}]
[null,null,null," ",null,null,null,null," ",null,null,null,null,null,null,null,"WEEKLY TOTAL",null,null,26,7,0.78787878787878785,null,17,15,0.53125,null,0,30,"",null,{"$error":"#N/A"},{"$error":"#N/A"},{"$error":"#N/A"}]
[null,null,null," ",null,null,"NL WEST",null," ",null,null,"NL WEST",null,null,null,null,"PREV WEEK TO DATE",null,null,179,173,0.50852272727272729,null,189,169,0.52793296089385477,null,0,280,"",null,{"$error":"#N/A"},{"$error":"#N/A"},{"$error":"#N/A"}]
[null,"West","W","L","PCT",null,"TEAM","W","L","PCT",null,"TEAM","W","L","PCT",null,"CUR TOTAL TO DATE",null,null,205,180,0.53246753246753242,null,206,184,0.52820512820512822,null,0,310,"",null,{"$error":"#N/A"},{"$error":"#N/A"},{"$error":"#N/A"}]
[null,"Diamondbacks",20,46,0.30303030303030304,5,"ARIZONA",20,41,0.32786885245901637,0,"Diamondbacks",0,5,0,5]
[null,"Rockies",25,41,0.37878787878787878,4,"COLORADO",24,36,0.4,0,"Rockies",1,5,0.16666666666666666,4]
[null,"Dodgers",39,26,0.6,2,"LOS ANGELES",34,25,0.57627118644067798,6,"Dodgers",5,1,0.83333333333333337,1,"SEASON TLT TO DATE",null,null,158,157,0.50158730158730158,null,170,147,0.5362776025236593,null,0,250,"",null,{"$error":"#N/A"},{"$error":"#N/A"},{"$error":"#N/A"}]
[null,"Padres",38,29,0.56716417910447758,3,"SAN DIEGO",36,25,0.5901639344262295,1,"Padres",2,4,0.33333333333333331,3,"JUNE TOTAL TO DATE",null,null,47,23,0.67142857142857137,null,36,37,0.49315068493150682,null,0,60,"",null,{"$error":"#N/A"},{"$error":"#N/A"},{"$error":"#N/A"}]
[null,"Giants",40,25,0.61538461538461542,1,"SAN FRANCISCO",37,22,0.6271186440677966,2,"Giants",3,3,0.5,2]
[null,null,null,null,null,null,null,null,null,null,null,null,87,87]
[null,null,null,"2021-06-14"," Morning"]
[]
[null,null,"WEEK 10"]
[null," ","NAME","W","L","PCT","GB"]
[null,null,"JIM K.",26,7,0.78787878787878785,0]
[null," ","LARRY",26,10,0.72222222222222221,1.5]
[null," ","JIM T.",25,10,0.7142857142857143,2]
[null," ","MIKE",23,12,0.65714285714285714,4]
[null," ","TIM",17,15,0.53125,8.5]
[null,null,"JEAN",18,16,0.52941176470588236,8.5]
[null,null,"DIANE",16,20,0.44444444444444442,11.5]
[null,null,"JOHN",15,20,0.42857142857142855,12]
[null,null,"-----",0,30,0,"-----"]
[null,null,"","","","",""]
[null,null,"","","","",""]
[null,null,"","","","",""]
[]
[null,null,"MONTH OF  JUNE"]
[null,null,"NAME","W","L","PCT","GB"]
[null,null,"JIM K.",47,23,0.67142857142857137,0]
[null,null,"JIM T.",47,24,0.6619718309859155,0.5]
[null,null,"LARRY",49,26,0.65333333333333332,0.5]
[null,null,"MIKE",42,31,0.57534246575342463,6.5]
[null,null,"TIM",36,37,0.49315068493150682,12.5]
[null,null,"JEAN",35,37,0.4861111111111111,13]
[null,null,"JOHN",35,41,0.46052631578947367,15]
[null,null,"DIANE",34,40,0.45945945945945948,15]
[null,null,"-----",0,60,0,"-----"]
[null,null,"","","","",""]
[null,null,"","","","",""]
[null,null,"","","","",""]
[null,null,2021,null,"SEASON"]
[null,null,"NAME","W","L","PCT","GB"]
[null,null,"JIM T.",211,177,0.54381443298969068,0]
[null,null,"LARRY",211,179,0.54102564102564099,1]
[null,null,"MIKE",210,181,0.53708439897698212,2.5]
[null,null,"JIM K.",205,180,0.53246753246753242,4.5]
[null,null,"TIM",206,184,0.52820512820512822,6]
[null,null,"DIANE",202,187,0.51928020565552702,9.5]
[null,null,"JEAN",197,186,0.51436031331592691,11.5]
[null,null,"JOHN",194,198,0.49489795918367346,19,null," "]
[null,null,"-----",0,310,0,"-----",null," "]
[null,null,"","","","","",null," "]
[null,null,"","","","",""]
[null,null,"","","","",""]
[]
[]
[]
[]
[]
[]
[]
[null,null,null,null,"CURRENT WEEK",null,null,null,null,null,null,"THIS WEEK"]
[null,null,"WEEK ENDING",null,"THIS WEEK","SEASON",null,null,null,null,null,"AL",null,"RANK"]
[null,null,"2021-06-13",null,"RANK","RANK",null,null,null,null,null,"LOS ANGELES A",1,1]
[null,null,"LOS ANGELES A",1,1,16,null,null,null,null,null,"OAKLAND",0.83333333333333337,2]
[null,null,"LOS ANGELES N",0.83333333333333337,2,4,null,null,null,null,null,"CHICAGO A",0.83333333333333337,2]
[null,null,"OAKLAND",0.83333333333333337,2,5,null,null,null,null,null,"TAMPA BAY",0.8,4]
[null,null,"CHICAGO N",0.83333333333333337,2,7,null,null,null,null,null,"HOUSTON",0.66666666666666663,5]
[null,null,"MILWAUKEE",0.83333333333333337,2,7,null,null,null,null,null,"CLEVELAND",0.6,6]
[null,null,"CHICAGO A",0.83333333333333337,2,2,null,null,null,null,null,"TORONTO",0.5,7]
[null,null,"PHILADELPHIA",0.8,7,14,null,null,null,null,null,"BOSTON",0.42857142857142855,8]
[null,null,"TAMPA BAY",0.8,7,1,null,null,null,null,null,"NEW YORK A",0.4,9]
[null,null,"HOUSTON",0.66666666666666663,9,9,null,null,null,null,null,"TEXAS",0.4,9]
[null,null,"CINCINNATI",0.66666666666666663,9,14,null,null,null,null,null,"DETROIT",0.33333333333333331,11]
[null,null,"CLEVELAND",0.6,11,12,null,null,null,null,null,"MINNESOTA",0.33333333333333331,11]
[null,null,"NEW YORK N",0.6,11,11,null,null,null,null,null,"SEATTLE",0.33333333333333331,11]
[null,null,"MIAMI",0.5714285714285714,13,22,null,null,null,null,null,"BALTIMORE",0.2,14]
[null,null,"SAN FRANCISCO",0.5,14,3,null,null,null,null,null,"KANSAS CITY",0.14285714285714285,15]
[null,null,"WASHINGTON",0.5,14,23,null,null,null,null,null,"NL"]
[null,null,"TORONTO",0.5,14,13,null,null,null,null,null,"LOS ANGELES N",0.83333333333333337,1]
[null,null,"BOSTON",0.42857142857142855,17,6,null,null,null,null,null,"CHICAGO N",0.83333333333333337,1]
[null,null,"NEW YORK A",0.4,18,16,null,null,null,null,null,"MILWAUKEE",0.83333333333333337,1]
[null,null,"TEXAS",0.4,18,26,null,null,null,null,null,"PHILADELPHIA",0.8,4]
[null,null,"DETROIT",0.33333333333333331,20,24,null,null,null,null,null,"CINCINNATI",0.66666666666666663,5]
[null,null,"MINNESOTA",0.33333333333333331,20,24,null,null,null,null,null,"NEW YORK N",0.6,6]
[null,null,"ATLANTA",0.33333333333333331,20,20,null,null,null,null,null,"MIAMI",0.5714285714285714,7]
[null,null,"SEATTLE",0.33333333333333331,20,19,null,null,null,null,null,"SAN FRANCISCO",0.5,8]
[null,null,"SAN DIEGO",0.33333333333333331,20,10,null,null,null,null,null,"WASHINGTON",0.5,8]
[null,null,"BALTIMORE",0.2,25,29,null,null,null,null,null,"ATLANTA",0.33333333333333331,10]
[null,null,"ST LOUIS",0.2,25,18,null,null,null,null,null,"SAN DIEGO",0.33333333333333331,10]
[null,null,"COLORADO",0.16666666666666666,27,26,null,null,null,null,null,"ST LOUIS",0.2,12]
[null,null,"KANSAS CITY",0.14285714285714285,28,21,null,null,null,null,null,"COLORADO",0.16666666666666666,13]
[null,null,"PITTSBURGH",0,29,28,null,null,null,null,null,"PITTSBURGH",0,14]
[null,null,"ARIZONA",0,29,30,null,null,null,null,null,"ARIZONA",0,14]
[]
[null,null,null,null,"SEASON TO DATE",null,null,null,null,null,null,"SEASON TO DATE"]
[null,null,null,null,null,null,null,null,null,null,null,"AL"]
[null,null,"SEASON TO-DATE",null,"RANK",null,null,null,null,null,null,"TAMPA BAY",0.63636363636363635,1]
[null,null,"TAMPA BAY",0.63636363636363635,1,null,null,null,null,null,null,"CHICAGO A",0.63076923076923075,2]
[null,null,"CHICAGO A",0.63076923076923075,2,null,null,null,null,null,null,"OAKLAND",0.59701492537313428,3]
[null,null,"SAN FRANCISCO",0.61538461538461542,3,null,null,null,null,null,null,"BOSTON",0.59090909090909094,4]
[null,null,"LOS ANGELES N",0.6,4,null,null,null,null,null,null,"HOUSTON",0.56923076923076921,5]
[null,null,"OAKLAND",0.59701492537313428,5,null,null,null,null,null,null,"CLEVELAND",0.54838709677419351,6]
[null,null,"BOSTON",0.59090909090909094,6,null,null,null,null,null,null,"TORONTO",0.52380952380952384,7]
[null,null,"CHICAGO N",0.58461538461538465,7,null,null,null,null,null,null,"NEW YORK A",0.50769230769230766,8]
[null,null,"MILWAUKEE",0.58461538461538465,7,null,null,null,null,null,null,"LOS ANGELES A",0.50769230769230766,8]
[null,null,"HOUSTON",0.56923076923076921,9,null,null,null,null,null,null,"SEATTLE",0.47761194029850745,10]
[null,null,"SAN DIEGO",0.56716417910447758,10,null,null,null,null,null,null,"KANSAS CITY",0.46875,11]
[null,null,"NEW YORK N",0.56140350877192979,11,null,null,null,null,null,null,"DETROIT",0.4,12]
[null,null,"CLEVELAND",0.54838709677419351,12,null,null,null,null,null,null,"MINNESOTA",0.4,12]
[null,null,"TORONTO",0.52380952380952384,13,null,null,null,null,null,null,"TEXAS",0.37878787878787878,14]
[null,null,"PHILADELPHIA",0.50793650793650791,14,null,null,null,null,null,null,"BALTIMORE",0.34375,15]
[null,null,"CINCINNATI",0.50793650793650791,14,null,null,null,null,null,null,"NL"]
[null,null,"NEW YORK A",0.50769230769230766,16,null,null,null,null,null,null,"SAN FRANCISCO",0.61538461538461542,1]
[null,null,"LOS ANGELES A",0.50769230769230766,16,null,null,null,null,null,null,"LOS ANGELES N",0.6,2]
[null,null,"ST LOUIS",0.49230769230769234,18,null,null,null,null,null,null,"CHICAGO N",0.58461538461538465,3]
[null,null,"SEATTLE",0.47761194029850745,19,null,null,null,null,null,null,"MILWAUKEE",0.58461538461538465,3]
[null,null,"ATLANTA",0.47619047619047616,20,null,null,null,null,null,null,"SAN DIEGO",0.56716417910447758,5]
[null,null,"KANSAS CITY",0.46875,21,null,null,null,null,null,null,"NEW YORK N",0.56140350877192979,6]
[null,null,"MIAMI",0.44615384615384618,22,null,null,null,null,null,null,"PHILADELPHIA",0.50793650793650791,7]
[null,null,"WASHINGTON",0.43548387096774194,23,null,null,null,null,null,null,"CINCINNATI",0.50793650793650791,7]
[null,null,"DETROIT",0.4,24,null,null,null,null,null,null,"ST LOUIS",0.49230769230769234,9]
[null,null,"MINNESOTA",0.4,24,null,null,null,null,null,null,"ATLANTA",0.47619047619047616,10]
[null,null,"COLORADO",0.37878787878787878,26,null,null,null,null,null,null,"MIAMI",0.44615384615384618,11]
[null,null,"TEXAS",0.37878787878787878,26,null,null,null,null,null,null,"WASHINGTON",0.43548387096774194,12]
[null,null,"PITTSBURGH",0.359375,28,null,null,null,null,null,null,"COLORADO",0.37878787878787878,13]
[null,null,"BALTIMORE",0.34375,29,null,null,null,null,null,null,"PITTSBURGH",0.359375,14]

{"sheet":"6-Jun","index":29,"n_rows":172,"n_cols":34,"rows_kept":172,"cut":false,"hidden":false,"merged":[[1,16,1,33],[2,13,2,14],[3,18,3,21],[3,22,3,25],[3,26,3,29],[3,30,3,33],[20,30,20,33],[4,2,4,4],[4,6,4,9],[4,11,4,14],[11,16,11,17],[12,16,12,17],[13,16,13,17],[16,16,16,17],[17,16,17,17],[20,18,20,21],[20,22,20,25],[20,26,20,29],[47,16,47,17],[28,16,28,17],[29,16,29,17],[30,16,30,17],[33,16,33,17],[34,16,34,17],[37,22,37,25],[37,26,37,29],[37,30,37,33],[45,16,45,17],[46,16,46,17],[37,18,37,21],[50,16,50,17],[51,16,51,17],[56,2,56,6],[71,2,71,6],[85,2,85,3],[85,4,85,5],[94,9,94,13],[95,9,95,13],[102,16,102,20],[106,4,106,5],[107,2,107,3],[107,11,107,12],[141,11,141,12],[142,2,142,3],[157,11,157,12],[108,2,108,3],[113,16,113,20],[123,11,123,12],[124,16,124,20],[140,4,140,5],[140,11,140,12]]}
[null,2021,"STANDINGS"]
[null,null,null,null,null,null,null,null,null,null,null,null,null,null,null,null,"CURRENT WEEK RESULTS"]
[null,"WEEK ENDING "," ","2021-06-06",null,null,null," ",null,null,null,"WEEK",9,"JUNE",null," "]
[null,null,null,null,null,null,null,null,null,null,null,null,null,null,null,null,null,null,"MIKE",null,null,null,"JOHN",null,null,null,"LARRY",null,null,null,0]
[null,null,"CURRENT WEEK-SEASON TO DATE",null,null,null,"PREVIOUS WEEK-SEASON TO DATE",null,null,null,null,"CURRENT WEEK TOTALS",null,null,null,null,null,null,"RANK","W","L","PCT","RANK","W","L","PCT","RANK","W","L","PCT","RANK","W","L","PCT"]
[null,null,null,null,null,null,null,null,null,null,null,null,null,null,null,null,null,null,"Athletics",4,2,0.66666666666666663,"Padres",2,5,0.2857142857142857,"White Sox",4,3,0.5714285714285714,0,{"$error":"#N/A"},{"$error":"#N/A"},{"$error":"#N/A"}]
[null,"American League",null,null,null,null,"AL EAST",null,null,null,"Times","AL EAST",null,null,null,null,null,null,"Phillies",3,2,0.6,"Rays",4,3,0.5714285714285714,"Brewers",5,1,0.83333333333333337,0,{"$error":"#N/A"},{"$error":"#N/A"},{"$error":"#N/A"}]
[null,"East","W","L","PCT","Rank","TEAM","W","L","PCT","Picked","TEAM","W","L","PCT","Rank",null,null,"Cardinals",1,6,0.14285714285714285,"Cardinals",1,6,0.14285714285714285,"Red Sox",4,3,0.5714285714285714,0,{"$error":"#N/A"},{"$error":"#N/A"},{"$error":"#N/A"}]
[null,"Orioles",21,38,0.3559322033898305,5,"BALTIMORE",17,36,0.32075471698113206,0,"Orioles",4,2,0.66666666666666663,1,null,null,"White Sox",4,3,0.5714285714285714,"Astros",5,2,0.7142857142857143,"Padres",2,5,0.2857142857142857,0,{"$error":"#N/A"},{"$error":"#N/A"},{"$error":"#N/A"}]
[null,"Red Sox",36,23,0.61016949152542377,2,"BOSTON",32,20,0.61538461538461542,5,"Red Sox",4,3,0.5714285714285714,3,null,null,"Dodgers",3,3,0.5,"Braves",4,3,0.5714285714285714,"Phillies",3,2,0.6,0,{"$error":"#N/A"},{"$error":"#N/A"},{"$error":"#N/A"}]
[null,"Yankees",31,29,0.51666666666666672,4,"NEW YORK",29,24,0.54716981132075471,1,"Yankees",2,5,0.2857142857142857,5,null,null,"Red Sox",4,3,0.5714285714285714,"Royals",4,2,0.66666666666666663,"Astros",5,2,0.7142857142857143,0,{"$error":"#N/A"},{"$error":"#N/A"},{"$error":"#N/A"}]
[null,"Rays",38,23,0.62295081967213117,1,"TAMPA BAY",34,20,0.62962962962962965,3,"Rays",4,3,0.5714285714285714,3,"WEEKLY TOTAL",null,null,19,19,0.5,null,20,21,0.48780487804878048,null,23,16,0.58974358974358976,null,{"$error":"#N/A"},{"$error":"#N/A"},{"$error":"#N/A"}]
[null,"Blue Jays",30,27,0.52631578947368418,3,"TORONTO",27,25,0.51923076923076927,0,"Blue Jays",3,2,0.6,2,"PREV WEEK TO DATE",null,"  ",168,150,0.52830188679245282,null,159,157,0.50316455696202533,null,162,153,0.51428571428571423,null,{"$error":"#N/A"},{"$error":"#N/A"},{"$error":"#N/A"}]
[null,null,null," ",null,null,null,null," ",null,null,null,null,null,null,null,"CUR TOTAL TO DATE",null,"  ",187,169,0.5252808988764045,null,179,178,0.50140056022408963,null,185,169,0.52259887005649719,null,{"$error":"#N/A"},{"$error":"#N/A"},{"$error":"#N/A"}]
[null,null,null," ",null,null,"AL CENTRAL",null," ",null,null,"AL CENTRAL"]
[null,"Central","W","L","PCT",null,"TEAM","W","L","PCT",null,"TEAM","W","L","PCT"]
[null,"White Sox",36,23,0.61016949152542377,1,"CHICAGO",32,20,0.61538461538461542,2,"White Sox",4,3,0.5714285714285714,2,"SEASON TLT TO DATE",null,"  ",168,150,0.52830188679245282,null,159,157,0.50316455696202533,null,162,153,0.51428571428571423,null,{"$error":"#N/A"},{"$error":"#N/A"},{"$error":"#N/A"}]
[null,"Indians",31,26,0.54385964912280704,2,"CLEVELAND",28,23,0.5490196078431373,4,"Indians",3,3,0.5,3,"JUNE TOTAL TO DATE",null,null,19,19,0.5,null,20,21,0.48780487804878048,null,23,16,0.58974358974358976,null,{"$error":"#N/A"},{"$error":"#N/A"},{"$error":"#N/A"}]
[null,"Tigers",24,35,0.40677966101694918,4,"DETROIT",22,31,0.41509433962264153,0,"Tigers",2,4,0.33333333333333331,5]
[null,"Royals",29,28,0.50877192982456143,3,"KANSAS CITY",25,26,0.49019607843137253,3,"Royals",4,2,0.66666666666666663,1]
[null,"Twins",24,35,0.40677966101694918,4,"MINNESOTA",21,31,0.40384615384615385,0,"Twins",3,4,0.42857142857142855,4,null,null,"JIM T.",null,null,null,"JEAN",null,null,null,"DIANE",null,null,null,0]
[null,null,null," ",null,null,null,null," ",null,null,null,null,null,null,null,null,null,"RANK","W","L","PCT","RANK","W","L","PCT","RANK","W","L","PCT","RANK","W","L","PCT"]
[null,null,null," ",null,null,"AL WEST",null," ",null,null,"AL WEST",null,null,null,null,null,null,"Red Sox",4,3,0.5714285714285714,"Pirates",3,3,0.5,"Red Sox",4,3,0.5714285714285714,0,{"$error":"#N/A"},{"$error":"#N/A"},{"$error":"#N/A"}]
[null,"West","W","L","PCT",null,"TEAM","W","L","PCT",null,"TEAM","W","L","PCT",null,null,null,"Indians",3,3,0.5,"Rangers",1,5,0.16666666666666666,"Cardinals",1,6,0.14285714285714285,0,{"$error":"#N/A"},{"$error":"#N/A"},{"$error":"#N/A"}]
[null,"Angels",27,32,0.4576271186440678,4,"LOS ANGELES",24,29,0.45283018867924529,0,"Angels",3,3,0.5,3,null,null,"Athletics",4,2,0.66666666666666663,"Braves",4,3,0.5714285714285714,"Phillies",3,2,0.6,0,{"$error":"#N/A"},{"$error":"#N/A"},{"$error":"#N/A"}]
[null,"Athletics",35,26,0.57377049180327866,1,"OAKLAND",31,24,0.5636363636363636,3,"Athletics",4,2,0.66666666666666663,2,null,null,"Phillies",3,2,0.6,"Dodgers",3,3,0.5,"Dodgers",3,3,0.5,0,{"$error":"#N/A"},{"$error":"#N/A"},{"$error":"#N/A"}]
[null,"Mariners",30,31,0.49180327868852458,3,"SEATTLE",27,27,0.5,2,"Mariners",3,4,0.42857142857142855,4,null,null,"Brewers",5,1,0.83333333333333337,"Yankees",2,5,0.2857142857142857,"Mariners",3,4,0.42857142857142855,0,{"$error":"#N/A"},{"$error":"#N/A"},{"$error":"#N/A"}]
[null,"Rangers",23,38,0.37704918032786883,5,"TEXAS",22,33,0.4,1,"Rangers",1,5,0.16666666666666666,5,null,null,"Dodgers",3,3,0.5,"Royals",4,2,0.66666666666666663,"Royals",4,2,0.66666666666666663,0,{"$error":"#N/A"},{"$error":"#N/A"},{"$error":"#N/A"}]
[null,"Astros",33,26,0.55932203389830504,2,"HOUSTON",28,24,0.53846153846153844,3,"Astros",5,2,0.7142857142857143,1,"WEEKLY TOTAL",null,null,22,14,0.61111111111111116,null,17,21,0.44736842105263158,null,18,20,0.47368421052631576,null,{"$error":"#N/A"},{"$error":"#N/A"},{"$error":"#N/A"}]
[null,null,null,null,null,null,null,null,null,null,null,null,null,null,null,null,"PREV WEEK TO DATE",null,null,164,153,0.51735015772870663,null,162,149,0.52090032154340837,null,168,147,0.53333333333333333,null,{"$error":"#N/A"},{"$error":"#N/A"},{"$error":"#N/A"}]
[null,"National League",null," ",null,null,"NL EAST",null," ",null,null,"NL EAST",null,null,null,null,"CUR TOTAL TO DATE",null,null,186,167,0.52691218130311612,null,179,170,0.5128939828080229,null,186,167,0.52691218130311612,null,{"$error":"#N/A"},{"$error":"#N/A"},{"$error":"#N/A"}]
[null,"East","W","L","PCT",null,"TEAM","W","L","PCT",null,"TEAM","W","L","PCT"]
[null,"Braves",28,29,0.49122807017543857,2,"ATLANTA",24,26,0.48,2,"Braves",4,3,0.5714285714285714,2]
[null,"Marlins",25,33,0.43103448275862066,4,"Miami",24,28,0.46153846153846156,1,"Marlins",1,5,0.16666666666666666,5,"SEASON TLT TO DATE",null,null,164,153,0.51735015772870663,null,162,149,0.52090032154340837,null,168,147,0.53333333333333333,null,{"$error":"#N/A"},{"$error":"#N/A"},{"$error":"#N/A"}]
[null,"Mets",29,23,0.55769230769230771,1,"NEW YORK",25,20,0.55555555555555558,1,"Mets",4,3,0.5714285714285714,2,"JUNE TOTAL TO DATE",null,null,22,14,0.61111111111111116,null,17,21,0.44736842105263158,null,18,20,0.47368421052631576,null,{"$error":"#N/A"},{"$error":"#N/A"},{"$error":"#N/A"}]
[null,"Phillies",28,30,0.48275862068965519,3,"PHILADELPHIA",25,28,0.47169811320754718,5,"Phillies",3,2,0.6,1]
[null,"Nationals",24,32,0.42857142857142855,5,"WASHINGTON",21,28,0.42857142857142855,0,"Nationals",3,4,0.42857142857142855,4]
[null,null,null," ",null,null,null,null," ",null,null,null,null,null,null,null,null,null,"JIM K.",null,null,null,"TIM",null,null,null,"-----",null,null,null,0]
[null,null,null," ",null,null,"NL CENTRAL",null," ",null,null,"NL CENTRAL",null,null,null,null,null,null,"RANK","W","L","PCT","RANK","W","L","PCT","RANK","W","L","PCT","RANK","W","L","PCT"]
[null,"Central","W","L","PCT",null,"TEAM","W","L","PCT",null,"TEAM","W","L","PCT",null,null,null,"Rays",4,3,0.5714285714285714,"Rays",4,3,0.5714285714285714,null,null,null,null,0,{"$error":"#N/A"},{"$error":"#N/A"},{"$error":"#N/A"}]
[null,"Cubs",33,26,0.55932203389830504,1,"CHICAGO",29,23,0.55769230769230771,1,"Cubs",4,3,0.5714285714285714,3,null,null,"Cubs",4,3,0.5714285714285714,"Mets",4,3,0.5714285714285714,null,null,null,null,0,{"$error":"#N/A"},{"$error":"#N/A"},{"$error":"#N/A"}]
[null,"Reds",28,29,0.49122807017543857,4,"CINCINNATI",23,28,0.45098039215686275,0,"Reds",5,1,0.83333333333333337,1,null,null,"Athletics",4,2,0.66666666666666663,"Padres",2,5,0.2857142857142857,null,null,null,null,0,{"$error":"#N/A"},{"$error":"#N/A"},{"$error":"#N/A"}]
[null,"Brewers",33,26,0.55932203389830504,1,"MILWAUKEE",28,25,0.52830188679245282,2,"Brewers",5,1,0.83333333333333337,1,null,null,"Indians",3,3,0.5,"Cardinals",1,6,0.14285714285714285,null,null,null,null,0,{"$error":"#N/A"},{"$error":"#N/A"},{"$error":"#N/A"}]
[null,"Pirates",23,35,0.39655172413793105,5,"PITTSBURGH",20,32,0.38461538461538464,1,"Pirates",3,3,0.5,4,null,null,"Dodgers",3,3,0.5,"Astros",5,2,0.7142857142857143,null,null,null,null,0,{"$error":"#N/A"},{"$error":"#N/A"},{"$error":"#N/A"}]
[null,"Cardinals",31,29,0.51666666666666672,3,"ST LOUIS",30,23,0.56603773584905659,5,"Cardinals",1,6,0.14285714285714285,5,null,null,"Phillies",3,2,0.6,"Indians",3,3,0.5,null,null,null,null,0,{"$error":"#N/A"},{"$error":"#N/A"},{"$error":"#N/A"}]
[null,null,null," ",null,null,null,null," ",null,null,null,null,null,null,null,"WEEKLY TOTAL",null,null,21,16,0.56756756756756754,null,19,22,0.46341463414634149,null,0,30,"",null,{"$error":"#N/A"},{"$error":"#N/A"},{"$error":"#N/A"}]
[null,null,null," ",null,null,"NL WEST",null," ",null,null,"NL WEST",null,null,null,null,"PREV WEEK TO DATE",null,null,158,157,0.50158730158730158,null,170,147,0.5362776025236593,null,0,250,"",null,{"$error":"#N/A"},{"$error":"#N/A"},{"$error":"#N/A"}]
[null,"West","W","L","PCT",null,"TEAM","W","L","PCT",null,"TEAM","W","L","PCT",null,"CUR TOTAL TO DATE",null,null,179,173,0.50852272727272729,null,189,169,0.52793296089385477,null,0,280,"",null,{"$error":"#N/A"},{"$error":"#N/A"},{"$error":"#N/A"}]
[null,"Diamondbacks",20,41,0.32786885245901637,5,"ARIZONA",19,35,0.35185185185185186,0,"Diamondbacks",1,6,0.14285714285714285,5]
[null,"Rockies",24,36,0.4,4,"COLORADO",20,34,0.37037037037037035,0,"Rockies",4,2,0.66666666666666663,1]
[null,"Dodgers",34,25,0.57627118644067798,3,"LOS ANGELES",31,22,0.58490566037735847,6,"Dodgers",3,3,0.5,3,"SEASON TLT TO DATE",null,null,158,157,0.50158730158730158,null,170,147,0.5362776025236593,null,0,250,"",null,{"$error":"#N/A"},{"$error":"#N/A"},{"$error":"#N/A"}]
[null,"Padres",36,25,0.5901639344262295,2,"SAN DIEGO",34,20,0.62962962962962965,3,"Padres",2,5,0.2857142857142857,4,"JUNE TOTAL TO DATE",null,null,21,16,0.56756756756756754,null,19,22,0.46341463414634149,null,0,30,"",null,{"$error":"#N/A"},{"$error":"#N/A"},{"$error":"#N/A"}]
[null,"Giants",37,22,0.6271186440677966,1,"SAN FRANCISCO",33,20,0.62264150943396224,0,"Giants",4,2,0.66666666666666663,1]
[null,null,null,null,null,null,null,null,null,null,null,null,96,96]
[null,null,null,"2021-06-07"," Morning"]
[]
[null,null,"WEEK 9"]
[null," ","NAME","W","L","PCT","GB"]
[null,null,"JIM T.",22,14,0.61111111111111116,0]
[null," ","LARRY",23,16,0.58974358974358976,0.5]
[null," ","JIM K.",21,16,0.56756756756756754,1.5]
[null," ","MIKE",19,19,0.5,4]
[null," ","JOHN",20,21,0.48780487804878048,4.5]
[null,null,"DIANE",18,20,0.47368421052631576,5]
[null,null,"TIM",19,22,0.46341463414634149,5.5]
[null,null,"JEAN",17,21,0.44736842105263158,6]
[null,null,"-----",0,30,0,"-----"]
[null,null,"","","","",""]
[null,null,"","","","",""]
[null,null,"","","","",""]
[]
[null,null,"MONTH OF  JUNE"]
[null,null,"NAME","W","L","PCT","GB"]
[null,null,"JIM T.",22,14,0.61111111111111116,0]
[null,null,"LARRY",23,16,0.58974358974358976,0.5]
[null,null,"JIM K.",21,16,0.56756756756756754,1.5]
[null,null,"MIKE",19,19,0.5,4]
[null,null,"JOHN",20,21,0.48780487804878048,4.5]
[null,null,"DIANE",18,20,0.47368421052631576,5]
[null,null,"TIM",19,22,0.46341463414634149,5.5]
[null,null,"JEAN",17,21,0.44736842105263158,6]
[null,null,"-----",0,30,0,"-----"]
[null,null,"","","","",""]
[null,null,"","","","",""]
[null,null,"","","","",""]
[null,null,2021,null,"SEASON"]
[null,null,"NAME","W","L","PCT","GB"]
[null,null,"TIM",189,169,0.52793296089385477,0]
[null,null,"DIANE",186,167,0.52691218130311612,0.5]
[null,null,"JIM T.",186,167,0.52691218130311612,0.5]
[null,null,"MIKE",187,169,0.5252808988764045,1]
[null,null,"LARRY",185,169,0.52259887005649719,2]
[null,null,"JEAN",179,170,0.5128939828080229,5.5]
[null,null,"JIM K.",179,173,0.50852272727272729,7]
[null,null,"JOHN",179,178,0.50140056022408963,9.5,null," "]
[null,null,"-----",0,280,0,"-----",null," "]
[null,null,"","","","","",null," "]
[null,null,"","","","",""]
[null,null,"","","","",""]
[]
[]
[]
[]
[]
[]
[]
[null,null,null,null,"CURRENT WEEK",null,null,null,null,null,null,"THIS WEEK"]
[null,null,"WEEK ENDING",null,"THIS WEEK","SEASON",null,null,null,null,null,"AL",null,"RANK"]
[null,null,"2021-06-06",null,"RANK","RANK",null,null,null,null,null,"HOUSTON",0.7142857142857143,1]
[null,null,"MILWAUKEE",0.83333333333333337,1,8,null,null,null,null,null,"KANSAS CITY",0.66666666666666663,2]
[null,null,"CINCINNATI",0.83333333333333337,1,18,null,null,null,null,null,"OAKLAND",0.66666666666666663,2]
[null,null,"HOUSTON",0.7142857142857143,3,8,null,null,null,null,null,"BALTIMORE",0.66666666666666663,2]
[null,null,"KANSAS CITY",0.66666666666666663,4,16,null,null,null,null,null,"TORONTO",0.6,5]
[null,null,"OAKLAND",0.66666666666666663,4,7,null,null,null,null,null,"CHICAGO A",0.5714285714285714,6]
[null,null,"SAN FRANCISCO",0.66666666666666663,4,1,null,null,null,null,null,"TAMPA BAY",0.5714285714285714,6]
[null,null,"COLORADO",0.66666666666666663,4,26,null,null,null,null,null,"BOSTON",0.5714285714285714,6]
[null,null,"BALTIMORE",0.66666666666666663,4,29,null,null,null,null,null,"CLEVELAND",0.5,9]
[null,null,"TORONTO",0.6,9,13,null,null,null,null,null,"LOS ANGELES A",0.5,9]
[null,null,"PHILADELPHIA",0.6,9,20,null,null,null,null,null,"SEATTLE",0.42857142857142855,11]
[null,null,"CHICAGO N",0.5714285714285714,11,8,null,null,null,null,null,"MINNESOTA",0.42857142857142855,11]
[null,null,"CHICAGO A",0.5714285714285714,11,3,null,null,null,null,null,"DETROIT",0.33333333333333331,13]
[null,null,"NEW YORK N",0.5714285714285714,11,11,null,null,null,null,null,"NEW YORK A",0.2857142857142857,14]
[null,null,"TAMPA BAY",0.5714285714285714,11,2,null,null,null,null,null,"TEXAS",0.16666666666666666,15]
[null,null,"ATLANTA",0.5714285714285714,11,18,null,null,null,null,null,"NL"]
[null,null,"BOSTON",0.5714285714285714,11,3,null,null,null,null,null,"MILWAUKEE",0.83333333333333337,1]
[null,null,"LOS ANGELES N",0.5,17,6,null,null,null,null,null,"CINCINNATI",0.83333333333333337,1]
[null,null,"CLEVELAND",0.5,17,12,null,null,null,null,null,"SAN FRANCISCO",0.66666666666666663,3]
[null,null,"LOS ANGELES A",0.5,17,21,null,null,null,null,null,"COLORADO",0.66666666666666663,3]
[null,null,"PITTSBURGH",0.5,17,27,null,null,null,null,null,"PHILADELPHIA",0.6,5]
[null,null,"WASHINGTON",0.42857142857142855,21,23,null,null,null,null,null,"CHICAGO N",0.5714285714285714,6]
[null,null,"SEATTLE",0.42857142857142855,21,17,null,null,null,null,null,"NEW YORK N",0.5714285714285714,6]
[null,null,"MINNESOTA",0.42857142857142855,21,24,null,null,null,null,null,"ATLANTA",0.5714285714285714,6]
[null,null,"DETROIT",0.33333333333333331,24,24,null,null,null,null,null,"LOS ANGELES N",0.5,9]
[null,null,"NEW YORK A",0.2857142857142857,25,14,null,null,null,null,null,"PITTSBURGH",0.5,9]
[null,null,"SAN DIEGO",0.2857142857142857,25,5,null,null,null,null,null,"WASHINGTON",0.42857142857142855,11]
[null,null,"TEXAS",0.16666666666666666,27,28,null,null,null,null,null,"SAN DIEGO",0.2857142857142857,12]
[null,null,"MIAMI",0.16666666666666666,27,22,null,null,null,null,null,"MIAMI",0.16666666666666666,13]
[null,null,"ST LOUIS",0.14285714285714285,29,14,null,null,null,null,null,"ST LOUIS",0.14285714285714285,14]
[null,null,"ARIZONA",0.14285714285714285,29,30,null,null,null,null,null,"ARIZONA",0.14285714285714285,14]
[]
[null,null,null,null,"SEASON TO DATE",null,null,null,null,null,null,"SEASON TO DATE"]
[null,null,null,null,null,null,null,null,null,null,null,"AL"]
[null,null,"SEASON TO-DATE",null,"RANK",null,null,null,null,null,null,"TAMPA BAY",0.62295081967213117,1]
[null,null,"SAN FRANCISCO",0.6271186440677966,1,null,null,null,null,null,null,"CHICAGO A",0.61016949152542377,2]
[null,null,"TAMPA BAY",0.62295081967213117,2,null,null,null,null,null,null,"BOSTON",0.61016949152542377,2]
[null,null,"CHICAGO A",0.61016949152542377,3,null,null,null,null,null,null,"OAKLAND",0.57377049180327866,4]
[null,null,"BOSTON",0.61016949152542377,3,null,null,null,null,null,null,"HOUSTON",0.55932203389830504,5]
[null,null,"SAN DIEGO",0.5901639344262295,5,null,null,null,null,null,null,"CLEVELAND",0.54385964912280704,6]
[null,null,"LOS ANGELES N",0.57627118644067798,6,null,null,null,null,null,null,"TORONTO",0.52631578947368418,7]
[null,null,"OAKLAND",0.57377049180327866,7,null,null,null,null,null,null,"NEW YORK A",0.51666666666666672,8]
[null,null,"CHICAGO N",0.55932203389830504,8,null,null,null,null,null,null,"KANSAS CITY",0.50877192982456143,9]
[null,null,"HOUSTON",0.55932203389830504,8,null,null,null,null,null,null,"SEATTLE",0.49180327868852458,10]
[null,null,"MILWAUKEE",0.55932203389830504,8,null,null,null,null,null,null,"LOS ANGELES A",0.4576271186440678,11]
[null,null,"NEW YORK N",0.55769230769230771,11,null,null,null,null,null,null,"DETROIT",0.40677966101694918,12]
[null,null,"CLEVELAND",0.54385964912280704,12,null,null,null,null,null,null,"MINNESOTA",0.40677966101694918,12]
[null,null,"TORONTO",0.52631578947368418,13,null,null,null,null,null,null,"TEXAS",0.37704918032786883,14]
[null,null,"ST LOUIS",0.51666666666666672,14,null,null,null,null,null,null,"BALTIMORE",0.3559322033898305,15]
[null,null,"NEW YORK A",0.51666666666666672,14,null,null,null,null,null,null,"NL"]
[null,null,"KANSAS CITY",0.50877192982456143,16,null,null,null,null,null,null,"SAN FRANCISCO",0.6271186440677966,1]
[null,null,"SEATTLE",0.49180327868852458,17,null,null,null,null,null,null,"SAN DIEGO",0.5901639344262295,2]
[null,null,"ATLANTA",0.49122807017543857,18,null,null,null,null,null,null,"LOS ANGELES N",0.57627118644067798,3]
[null,null,"CINCINNATI",0.49122807017543857,18,null,null,null,null,null,null,"CHICAGO N",0.55932203389830504,4]
[null,null,"PHILADELPHIA",0.48275862068965519,20,null,null,null,null,null,null,"MILWAUKEE",0.55932203389830504,4]
[null,null,"LOS ANGELES A",0.4576271186440678,21,null,null,null,null,null,null,"NEW YORK N",0.55769230769230771,6]
[null,null,"MIAMI",0.43103448275862066,22,null,null,null,null,null,null,"ST LOUIS",0.51666666666666672,7]
[null,null,"WASHINGTON",0.42857142857142855,23,null,null,null,null,null,null,"ATLANTA",0.49122807017543857,8]
[null,null,"DETROIT",0.40677966101694918,24,null,null,null,null,null,null,"CINCINNATI",0.49122807017543857,8]
[null,null,"MINNESOTA",0.40677966101694918,24,null,null,null,null,null,null,"PHILADELPHIA",0.48275862068965519,10]
[null,null,"COLORADO",0.4,26,null,null,null,null,null,null,"MIAMI",0.43103448275862066,11]
[null,null,"PITTSBURGH",0.39655172413793105,27,null,null,null,null,null,null,"WASHINGTON",0.42857142857142855,12]
[null,null,"TEXAS",0.37704918032786883,28,null,null,null,null,null,null,"COLORADO",0.4,13]
[null,null,"BALTIMORE",0.3559322033898305,29,null,null,null,null,null,null,"PITTSBURGH",0.39655172413793105,14]

{"sheet":"30-May","index":30,"n_rows":172,"n_cols":34,"rows_kept":172,"cut":false,"hidden":false,"merged":[[1,16,1,33],[2,13,2,14],[3,18,3,21],[3,22,3,25],[3,26,3,29],[3,30,3,33],[20,30,20,33],[4,2,4,4],[4,6,4,9],[4,11,4,14],[11,16,11,17],[12,16,12,17],[13,16,13,17],[16,16,16,17],[17,16,17,17],[20,18,20,21],[20,22,20,25],[20,26,20,29],[47,16,47,17],[28,16,28,17],[29,16,29,17],[30,16,30,17],[33,16,33,17],[34,16,34,17],[37,22,37,25],[37,26,37,29],[37,30,37,33],[45,16,45,17],[46,16,46,17],[37,18,37,21],[50,16,50,17],[51,16,51,17],[56,2,56,6],[71,2,71,6],[85,2,85,3],[85,4,85,5],[94,9,94,13],[95,9,95,13],[102,16,102,20],[106,4,106,5],[107,2,107,3],[107,11,107,12],[141,11,141,12],[142,2,142,3],[157,11,157,12],[108,2,108,3],[113,16,113,20],[123,11,123,12],[124,16,124,20],[140,4,140,5],[140,11,140,12]]}
[null,2021,"STANDINGS"]
[null,null,null,null,null,null,null,null,null,null,null,null,null,null,null,null,"CURRENT WEEK RESULTS"]
[null,"WEEK ENDING "," ","2021-05-30",null,null,null," ",null,null,null,"WEEK",8,"MAY",null," "]
[null,null,null,null,null,null,null,null,null,null,null,null,null,null,null,null,null,null,"MIKE",null,null,null,"JOHN",null,null,null,"LARRY",null,null,null,0]
[null,null,"CURRENT WEEK-SEASON TO DATE",null,null,null,"PREVIOUS WEEK-SEASON TO DATE",null,null,null,null,"CURRENT WEEK TOTALS",null,null,null,null,null,null,"RANK","W","L","PCT","RANK","W","L","PCT","RANK","W","L","PCT","RANK","W","L","PCT"]
[null,null,null,null,null,null,null,null,null,null,null,null,null,null,null,null,null,null,"Brewers",5,2,0.7142857142857143,"Cardinals",4,3,0.5714285714285714,"Rays",5,1,0.83333333333333337,0,{"$error":"#N/A"},{"$error":"#N/A"},{"$error":"#N/A"}]
[null,"American League",null,null,null,null,"AL EAST",null,null,null,"Times","AL EAST",null,null,null,null,null,null,"Giants",5,1,0.83333333333333337,"Mariners",6,1,0.8571428571428571,"Royals",3,3,0.5,0,{"$error":"#N/A"},{"$error":"#N/A"},{"$error":"#N/A"}]
[null,"East","W","L","PCT","Rank","TEAM","W","L","PCT","Picked","TEAM","W","L","PCT","Rank",null,null,"Mets",4,1,0.8,"Yankees",1,5,0.16666666666666666,"Athletics",3,4,0.42857142857142855,0,{"$error":"#N/A"},{"$error":"#N/A"},{"$error":"#N/A"}]
[null,"Orioles",17,36,0.32075471698113206,5,"BALTIMORE",17,29,0.36956521739130432,0,"Orioles",0,7,0,5,null,null,"White Sox",6,1,0.8571428571428571,"Padres",4,3,0.5714285714285714,"Mets",4,1,0.8,0,{"$error":"#N/A"},{"$error":"#N/A"},{"$error":"#N/A"}]
[null,"Red Sox",32,20,0.61538461538461542,2,"BOSTON",29,19,0.60416666666666663,2,"Red Sox",3,1,0.75,2,null,null,"Mariners",6,1,0.8571428571428571,"Mets",4,1,0.8,"Cubs",5,1,0.83333333333333337,0,{"$error":"#N/A"},{"$error":"#N/A"},{"$error":"#N/A"}]
[null,"Yankees",29,24,0.54716981132075471,3,"NEW YORK",28,19,0.5957446808510638,3,"Yankees",1,5,0.16666666666666666,4,null,null,"Blue Jays",4,3,0.5714285714285714,"Royals",3,3,0.5,"Giants",5,1,0.83333333333333337,0,{"$error":"#N/A"},{"$error":"#N/A"},{"$error":"#N/A"}]
[null,"Rays",34,20,0.62962962962962965,1,"TAMPA BAY",29,19,0.60416666666666663,2,"Rays",5,1,0.83333333333333337,1,"WEEKLY TOTAL",null,null,30,9,0.76923076923076927,null,22,16,0.57894736842105265,null,25,11,0.69444444444444442,null,{"$error":"#N/A"},{"$error":"#N/A"},{"$error":"#N/A"}]
[null,"Blue Jays",27,25,0.51923076923076927,4,"TORONTO",23,22,0.51111111111111107,2,"Blue Jays",4,3,0.5714285714285714,3,"PREV WEEK TO DATE",null,"  ",138,141,0.4946236559139785,null,137,141,0.49280575539568344,null,137,142,0.49103942652329752,null,{"$error":"#N/A"},{"$error":"#N/A"},{"$error":"#N/A"}]
[null,null,null," ",null,null,null,null," ",null,null,null,null,null,null,null,"CUR TOTAL TO DATE",null,"  ",168,150,0.52830188679245282,null,159,157,0.50316455696202533,null,162,153,0.51428571428571423,null,{"$error":"#N/A"},{"$error":"#N/A"},{"$error":"#N/A"}]
[null,null,null," ",null,null,"AL CENTRAL",null," ",null,null,"AL CENTRAL"]
[null,"Central","W","L","PCT",null,"TEAM","W","L","PCT",null,"TEAM","W","L","PCT"]
[null,"White Sox",32,20,0.61538461538461542,1,"CHICAGO",26,19,0.57777777777777772,4,"White Sox",6,1,0.8571428571428571,1,"SEASON TLT TO DATE",null,"  ",86,83,0.50887573964497046,null,81,88,0.47928994082840237,null,79,88,0.47305389221556887,null,{"$error":"#N/A"},{"$error":"#N/A"},{"$error":"#N/A"}]
[null,"Indians",28,23,0.5490196078431373,2,"CLEVELAND",24,20,0.54545454545454541,1,"Indians",4,3,0.5714285714285714,3,"MAY TOTAL TO DATE",null,null,82,67,0.55033557046979864,null,78,69,0.53061224489795922,null,83,65,0.56081081081081086,null,{"$error":"#N/A"},{"$error":"#N/A"},{"$error":"#N/A"}]
[null,"Tigers",22,31,0.41509433962264153,4,"DETROIT",18,28,0.39130434782608697,1,"Tigers",4,3,0.5714285714285714,3]
[null,"Royals",25,26,0.49019607843137253,3,"KANSAS CITY",22,23,0.48888888888888887,2,"Royals",3,3,0.5,5]
[null,"Twins",21,31,0.40384615384615385,5,"MINNESOTA",17,29,0.36956521739130432,1,"Twins",4,2,0.66666666666666663,2,null,null,"JIM T.",null,null,null,"JEAN",null,null,null,"DIANE",null,null,null,0]
[null,null,null," ",null,null,null,null," ",null,null,null,null,null,null,null,null,null,"RANK","W","L","PCT","RANK","W","L","PCT","RANK","W","L","PCT","RANK","W","L","PCT"]
[null,null,null," ",null,null,"AL WEST",null," ",null,null,"AL WEST",null,null,null,null,null,null,"Athletics",3,4,0.42857142857142855,"Red Sox",3,1,0.75,"Red Sox",3,1,0.75,0,{"$error":"#N/A"},{"$error":"#N/A"},{"$error":"#N/A"}]
[null,"West","W","L","PCT",null,"TEAM","W","L","PCT",null,"TEAM","W","L","PCT",null,null,null,"Diamondbacks",1,5,0.16666666666666666,"Cardinals",4,3,0.5714285714285714,"Dodgers",2,4,0.33333333333333331,0,{"$error":"#N/A"},{"$error":"#N/A"},{"$error":"#N/A"}]
[null,"Angels",24,29,0.45283018867924529,4,"LOS ANGELES",20,27,0.42553191489361702,0,"Angels",4,2,0.66666666666666663,2,null,null,"Rays",5,1,0.83333333333333337,"Nationals",1,5,0.16666666666666666,"Phillies",2,4,0.33333333333333331,0,{"$error":"#N/A"},{"$error":"#N/A"},{"$error":"#N/A"}]
[null,"Athletics",31,24,0.5636363636363636,1,"OAKLAND",28,20,0.58333333333333337,3,"Athletics",3,4,0.42857142857142855,3,null,null,"White Sox",6,1,0.8571428571428571,"Padres",4,3,0.5714285714285714,"Mariners",6,1,0.8571428571428571,0,{"$error":"#N/A"},{"$error":"#N/A"},{"$error":"#N/A"}]
[null,"Mariners",27,27,0.5,3,"SEATTLE",21,26,0.44680851063829785,4,"Mariners",6,1,0.8571428571428571,1,null,null,"Brewers",5,2,0.7142857142857143,"Astros",2,3,0.4,"Indians",4,3,0.5714285714285714,0,{"$error":"#N/A"},{"$error":"#N/A"},{"$error":"#N/A"}]
[null,"Rangers",22,33,0.4,5,"TEXAS",22,27,0.44897959183673469,0,"Rangers",0,6,0,5,null,null,"Mets",4,1,0.8,"Twins",4,2,0.66666666666666663,"Brewers",5,2,0.7142857142857143,0,{"$error":"#N/A"},{"$error":"#N/A"},{"$error":"#N/A"}]
[null,"Astros",28,24,0.53846153846153844,2,"HOUSTON",26,21,0.55319148936170215,2,"Astros",2,3,0.4,4,"WEEKLY TOTAL",null,null,24,14,0.63157894736842102,null,18,17,0.51428571428571423,null,22,15,0.59459459459459463,null,{"$error":"#N/A"},{"$error":"#N/A"},{"$error":"#N/A"}]
[null,null,null,null,null,null,null,null,null,null,null,null,null,null,null,null,"PREV WEEK TO DATE",null,null,140,139,0.50179211469534046,null,144,132,0.52173913043478259,null,146,132,0.52517985611510787,null,{"$error":"#N/A"},{"$error":"#N/A"},{"$error":"#N/A"}]
[null,"National League",null," ",null,null,"NL EAST",null," ",null,null,"NL EAST",null,null,null,null,"CUR TOTAL TO DATE",null,null,164,153,0.51735015772870663,null,162,149,0.52090032154340837,null,168,147,0.53333333333333333,null,{"$error":"#N/A"},{"$error":"#N/A"},{"$error":"#N/A"}]
[null,"East","W","L","PCT",null,"TEAM","W","L","PCT",null,"TEAM","W","L","PCT"]
[null,"Braves",24,26,0.48,2,"ATLANTA",23,24,0.48936170212765956,0,"Braves",1,2,0.33333333333333331,2]
[null,"Marlins",24,28,0.46153846153846156,4,"Miami",22,24,0.47826086956521741,0,"Marlins",2,4,0.33333333333333331,2,"SEASON TLT TO DATE",null,null,84,83,0.50299401197604787,null,82,81,0.50306748466257667,null,90,78,0.5357142857142857,null,{"$error":"#N/A"},{"$error":"#N/A"},{"$error":"#N/A"}]
[null,"Mets",25,20,0.55555555555555558,1,"NEW YORK",21,19,0.52500000000000002,6,"Mets",4,1,0.8,1,"MAY TOTAL TO DATE",null,null,80,70,0.53333333333333333,null,80,68,0.54054054054054057,null,78,69,0.53061224489795922,null,{"$error":"#N/A"},{"$error":"#N/A"},{"$error":"#N/A"}]
[null,"Phillies",25,28,0.47169811320754718,3,"PHILADELPHIA",23,24,0.48936170212765956,2,"Phillies",2,4,0.33333333333333331,2]
[null,"Nationals",21,28,0.42857142857142855,5,"WASHINGTON",20,23,0.46511627906976744,1,"Nationals",1,5,0.16666666666666666,5]
[null,null,null," ",null,null,null,null," ",null,null,null,null,null,null,null,null,null,"JIM K.",null,null,null,"TIM",null,null,null,"-----",null,null,null,0]
[null,null,null," ",null,null,"NL CENTRAL",null," ",null,null,"NL CENTRAL",null,null,null,null,null,null,"RANK","W","L","PCT","RANK","W","L","PCT","RANK","W","L","PCT","RANK","W","L","PCT"]
[null,"Central","W","L","PCT",null,"TEAM","W","L","PCT",null,"TEAM","W","L","PCT",null,null,null,"Mariners",6,1,0.8571428571428571,"White Sox",6,1,0.8571428571428571,null,null,null,null,0,{"$error":"#N/A"},{"$error":"#N/A"},{"$error":"#N/A"}]
[null,"Cubs",29,23,0.55769230769230771,2,"CHICAGO",24,22,0.52173913043478259,1,"Cubs",5,1,0.83333333333333337,1,null,null,"Blue Jays",4,3,0.5714285714285714,"Yankees",1,5,0.16666666666666666,null,null,null,null,0,{"$error":"#N/A"},{"$error":"#N/A"},{"$error":"#N/A"}]
[null,"Reds",23,28,0.45098039215686275,4,"CINCINNATI",20,25,0.44444444444444442,0,"Reds",3,3,0.5,4,null,null,"Tigers",4,3,0.5714285714285714,"Phillies",2,4,0.33333333333333331,null,null,null,null,0,{"$error":"#N/A"},{"$error":"#N/A"},{"$error":"#N/A"}]
[null,"Brewers",28,25,0.52830188679245282,3,"MILWAUKEE",23,23,0.5,3,"Brewers",5,2,0.7142857142857143,2,null,null,"Pirates",2,4,0.33333333333333331,"Astros",2,3,0.4,null,null,null,null,0,{"$error":"#N/A"},{"$error":"#N/A"},{"$error":"#N/A"}]
[null,"Pirates",20,32,0.38461538461538464,5,"PITTSBURGH",18,28,0.39130434782608697,2,"Pirates",2,4,0.33333333333333331,5,null,null,"Padres",4,3,0.5714285714285714,"Cardinals",4,3,0.5714285714285714,null,null,null,null,0,{"$error":"#N/A"},{"$error":"#N/A"},{"$error":"#N/A"}]
[null,"Cardinals",30,23,0.56603773584905659,1,"ST LOUIS",26,20,0.56521739130434778,3,"Cardinals",4,3,0.5714285714285714,3,null,null,"Mets",4,1,0.8,"Dodgers",2,4,0.33333333333333331,null,null,null,null,0,{"$error":"#N/A"},{"$error":"#N/A"},{"$error":"#N/A"}]
[null,null,null," ",null,null,null,null," ",null,null,null,null,null,null,null,"WEEKLY TOTAL",null,null,24,15,0.61538461538461542,null,17,20,0.45945945945945948,null,0,30,"",null,{"$error":"#N/A"},{"$error":"#N/A"},{"$error":"#N/A"}]
[null,null,null," ",null,null,"NL WEST",null," ",null,null,"NL WEST",null,null,null,null,"PREV WEEK TO DATE",null,null,134,142,0.48550724637681159,null,153,127,0.54642857142857137,null,0,220,"",null,{"$error":"#N/A"},{"$error":"#N/A"},{"$error":"#N/A"}]
[null,"West","W","L","PCT",null,"TEAM","W","L","PCT",null,"TEAM","W","L","PCT",null,"CUR TOTAL TO DATE",null,null,158,157,0.50158730158730158,null,170,147,0.5362776025236593,null,0,250,"",null,{"$error":"#N/A"},{"$error":"#N/A"},{"$error":"#N/A"}]
[null,"Diamondbacks",19,35,0.35185185185185186,5,"ARIZONA",18,30,0.375,1,"Diamondbacks",1,5,0.16666666666666666,5]
[null,"Rockies",20,34,0.37037037037037035,4,"COLORADO",18,29,0.38297872340425532,0,"Rockies",2,5,0.2857142857142857,4]
[null,"Dodgers",31,22,0.58490566037735847,3,"LOS ANGELES",29,18,0.61702127659574468,2,"Dodgers",2,4,0.33333333333333331,3,"SEASON TLT TO DATE",null,null,80,87,0.47904191616766467,null,89,79,0.52976190476190477,null,0,130,"",null,{"$error":"#N/A"},{"$error":"#N/A"},{"$error":"#N/A"}]
[null,"Padres",34,20,0.62962962962962965,1,"SAN DIEGO",30,17,0.63829787234042556,4,"Padres",4,3,0.5714285714285714,2,"MAY TOTAL TO DATE",null,null,78,70,0.52702702702702697,null,81,68,0.5436241610738255,null,0,120,"",null,{"$error":"#N/A"},{"$error":"#N/A"},{"$error":"#N/A"}]
[null,"Giants",33,20,0.62264150943396224,2,"SAN FRANCISCO",28,19,0.5957446808510638,2,"Giants",5,1,0.83333333333333337,1]
[null,null,null,null,null,null,null,null,null,null,null,null,92,92]
[null,null,null,"2021-05-31"," Morning"]
[]
[null,null,"WEEK 8"]
[null," ","NAME","W","L","PCT","GB"]
[null,null,"MIKE",30,9,0.76923076923076927,0]
[null," ","LARRY",25,11,0.69444444444444442,3.5]
[null," ","JIM T.",24,14,0.63157894736842102,5.5]
[null," ","JIM K.",24,15,0.61538461538461542,6]
[null," ","DIANE",22,15,0.59459459459459463,7]
[null,null,"JOHN",22,16,0.57894736842105265,7.5]
[null,null,"JEAN",18,17,0.51428571428571423,10]
[null,null,"TIM",17,20,0.45945945945945948,12]
[null,null,"-----",0,30,0,"-----"]
[null,null,"","","","",""]
[null,null,"","","","",""]
[null,null,"","","","",""]
[]
[null,null,"MONTH OF  MAY"]
[null,null,"NAME","W","L","PCT","GB"]
[null,null,"LARRY",83,65,0.56081081081081086,0]
[null,null,"MIKE",82,67,0.55033557046979864,1.5]
[null,null,"TIM",81,68,0.5436241610738255,2.5]
[null,null,"JEAN",80,68,0.54054054054054057,3]
[null,null,"JIM T.",80,70,0.53333333333333333,4]
[null,null,"JOHN",78,69,0.53061224489795922,4.5]
[null,null,"DIANE",78,69,0.53061224489795922,4.5]
[null,null,"JIM K.",78,70,0.52702702702702697,5]
[null,null,"-----",0,120,0,"-----"]
[null,null,"","","","",""]
[null,null,"","","","",""]
[null,null,"","","","",""]
[null,null,2021,null,"SEASON"]
[null,null,"NAME","W","L","PCT","GB"]
[null,null,"TIM",170,147,0.5362776025236593,0]
[null,null,"DIANE",168,147,0.53333333333333333,1]
[null,null,"MIKE",168,150,0.52830188679245282,2.5]
[null,null,"JEAN",162,149,0.52090032154340837,5]
[null,null,"JIM T.",164,153,0.51735015772870663,6]
[null,null,"LARRY",162,153,0.51428571428571423,7]
[null,null,"JOHN",159,157,0.50316455696202533,10.5]
[null,null,"JIM K.",158,157,0.50158730158730158,11,null," "]
[null,null,"-----",0,250,0,"-----",null," "]
[null,null,"","","","","",null," "]
[null,null,"","","","",""]
[null,null,"","","","",""]
[]
[]
[]
[]
[]
[]
[]
[null,null,null,null,"CURRENT WEEK",null,null,null,null,null,null,"THIS WEEK"]
[null,null,"WEEK ENDING",null,"THIS WEEK","SEASON",null,null,null,null,null,"AL",null,"RANK"]
[null,null,"2021-05-30",null,"RANK","RANK",null,null,null,null,null,"CHICAGO A",0.8571428571428571,1]
[null,null,"CHICAGO A",0.8571428571428571,1,4,null,null,null,null,null,"SEATTLE",0.8571428571428571,1]
[null,null,"SEATTLE",0.8571428571428571,1,16,null,null,null,null,null,"TAMPA BAY",0.83333333333333337,3]
[null,null,"CHICAGO N",0.83333333333333337,3,9,null,null,null,null,null,"BOSTON",0.75,4]
[null,null,"TAMPA BAY",0.83333333333333337,3,1,null,null,null,null,null,"MINNESOTA",0.66666666666666663,5]
[null,null,"SAN FRANCISCO",0.83333333333333337,3,3,null,null,null,null,null,"LOS ANGELES A",0.66666666666666663,5]
[null,null,"NEW YORK N",0.8,6,10,null,null,null,null,null,"CLEVELAND",0.5714285714285714,7]
[null,null,"BOSTON",0.75,7,4,null,null,null,null,null,"TORONTO",0.5714285714285714,7]
[null,null,"MILWAUKEE",0.7142857142857143,8,14,null,null,null,null,null,"DETROIT",0.5714285714285714,7]
[null,null,"MINNESOTA",0.66666666666666663,9,25,null,null,null,null,null,"KANSAS CITY",0.5,10]
[null,null,"LOS ANGELES A",0.66666666666666663,9,21,null,null,null,null,null,"OAKLAND",0.42857142857142855,11]
[null,null,"SAN DIEGO",0.5714285714285714,11,1,null,null,null,null,null,"HOUSTON",0.4,12]
[null,null,"ST LOUIS",0.5714285714285714,11,7,null,null,null,null,null,"NEW YORK A",0.16666666666666666,13]
[null,null,"CLEVELAND",0.5714285714285714,11,11,null,null,null,null,null,"TEXAS",0,14]
[null,null,"TORONTO",0.5714285714285714,11,15,null,null,null,null,null,"BALTIMORE",0,14]
[null,null,"DETROIT",0.5714285714285714,11,24,null,null,null,null,null,"NL"]
[null,null,"CINCINNATI",0.5,16,22,null,null,null,null,null,"CHICAGO N",0.83333333333333337,1]
[null,null,"KANSAS CITY",0.5,16,17,null,null,null,null,null,"SAN FRANCISCO",0.83333333333333337,1]
[null,null,"OAKLAND",0.42857142857142855,18,8,null,null,null,null,null,"NEW YORK N",0.8,3]
[null,null,"HOUSTON",0.4,19,13,null,null,null,null,null,"MILWAUKEE",0.7142857142857143,4]
[null,null,"LOS ANGELES N",0.33333333333333331,20,6,null,null,null,null,null,"SAN DIEGO",0.5714285714285714,5]
[null,null,"PHILADELPHIA",0.33333333333333331,20,19,null,null,null,null,null,"ST LOUIS",0.5714285714285714,5]
[null,null,"PITTSBURGH",0.33333333333333331,20,27,null,null,null,null,null,"CINCINNATI",0.5,7]
[null,null,"MIAMI",0.33333333333333331,20,20,null,null,null,null,null,"LOS ANGELES N",0.33333333333333331,8]
[null,null,"ATLANTA",0.33333333333333331,20,18,null,null,null,null,null,"PHILADELPHIA",0.33333333333333331,8]
[null,null,"COLORADO",0.2857142857142857,25,28,null,null,null,null,null,"PITTSBURGH",0.33333333333333331,8]
[null,null,"NEW YORK A",0.16666666666666666,26,12,null,null,null,null,null,"MIAMI",0.33333333333333331,8]
[null,null,"WASHINGTON",0.16666666666666666,26,23,null,null,null,null,null,"ATLANTA",0.33333333333333331,8]
[null,null,"ARIZONA",0.16666666666666666,26,29,null,null,null,null,null,"COLORADO",0.2857142857142857,13]
[null,null,"TEXAS",0,29,26,null,null,null,null,null,"WASHINGTON",0.16666666666666666,14]
[null,null,"BALTIMORE",0,29,30,null,null,null,null,null,"ARIZONA",0.16666666666666666,14]
[]
[null,null,null,null,"SEASON TO DATE",null,null,null,null,null,null,"SEASON TO DATE"]
[null,null,null,null,null,null,null,null,null,null,null,"AL"]
[null,null,"SEASON TO-DATE",null,"RANK",null,null,null,null,null,null,"TAMPA BAY",0.62962962962962965,1]
[null,null,"SAN DIEGO",0.62962962962962965,1,null,null,null,null,null,null,"BOSTON",0.61538461538461542,2]
[null,null,"TAMPA BAY",0.62962962962962965,1,null,null,null,null,null,null,"CHICAGO A",0.61538461538461542,2]
[null,null,"SAN FRANCISCO",0.62264150943396224,3,null,null,null,null,null,null,"OAKLAND",0.5636363636363636,4]
[null,null,"BOSTON",0.61538461538461542,4,null,null,null,null,null,null,"CLEVELAND",0.5490196078431373,5]
[null,null,"CHICAGO A",0.61538461538461542,4,null,null,null,null,null,null,"NEW YORK A",0.54716981132075471,6]
[null,null,"LOS ANGELES N",0.58490566037735847,6,null,null,null,null,null,null,"HOUSTON",0.53846153846153844,7]
[null,null,"ST LOUIS",0.56603773584905659,7,null,null,null,null,null,null,"TORONTO",0.51923076923076927,8]
[null,null,"OAKLAND",0.5636363636363636,8,null,null,null,null,null,null,"SEATTLE",0.5,9]
[null,null,"CHICAGO N",0.55769230769230771,9,null,null,null,null,null,null,"KANSAS CITY",0.49019607843137253,10]
[null,null,"NEW YORK N",0.55555555555555558,10,null,null,null,null,null,null,"LOS ANGELES A",0.45283018867924529,11]
[null,null,"CLEVELAND",0.5490196078431373,11,null,null,null,null,null,null,"DETROIT",0.41509433962264153,12]
[null,null,"NEW YORK A",0.54716981132075471,12,null,null,null,null,null,null,"MINNESOTA",0.40384615384615385,13]
[null,null,"HOUSTON",0.53846153846153844,13,null,null,null,null,null,null,"TEXAS",0.4,14]
[null,null,"MILWAUKEE",0.52830188679245282,14,null,null,null,null,null,null,"BALTIMORE",0.32075471698113206,15]
[null,null,"TORONTO",0.51923076923076927,15,null,null,null,null,null,null,"NL"]
[null,null,"SEATTLE",0.5,16,null,null,null,null,null,null,"SAN DIEGO",0.62962962962962965,1]
[null,null,"KANSAS CITY",0.49019607843137253,17,null,null,null,null,null,null,"SAN FRANCISCO",0.62264150943396224,2]
[null,null,"ATLANTA",0.48,18,null,null,null,null,null,null,"LOS ANGELES N",0.58490566037735847,3]
[null,null,"PHILADELPHIA",0.47169811320754718,19,null,null,null,null,null,null,"ST LOUIS",0.56603773584905659,4]
[null,null,"MIAMI",0.46153846153846156,20,null,null,null,null,null,null,"CHICAGO N",0.55769230769230771,5]
[null,null,"LOS ANGELES A",0.45283018867924529,21,null,null,null,null,null,null,"NEW YORK N",0.55555555555555558,6]
[null,null,"CINCINNATI",0.45098039215686275,22,null,null,null,null,null,null,"MILWAUKEE",0.52830188679245282,7]
[null,null,"WASHINGTON",0.42857142857142855,23,null,null,null,null,null,null,"ATLANTA",0.48,8]
[null,null,"DETROIT",0.41509433962264153,24,null,null,null,null,null,null,"PHILADELPHIA",0.47169811320754718,9]
[null,null,"MINNESOTA",0.40384615384615385,25,null,null,null,null,null,null,"MIAMI",0.46153846153846156,10]
[null,null,"TEXAS",0.4,26,null,null,null,null,null,null,"CINCINNATI",0.45098039215686275,11]
[null,null,"PITTSBURGH",0.38461538461538464,27,null,null,null,null,null,null,"WASHINGTON",0.42857142857142855,12]
[null,null,"COLORADO",0.37037037037037035,28,null,null,null,null,null,null,"PITTSBURGH",0.38461538461538464,13]
[null,null,"ARIZONA",0.35185185185185186,29,null,null,null,null,null,null,"COLORADO",0.37037037037037035,14]

{"sheet":"23-May","index":31,"n_rows":172,"n_cols":34,"rows_kept":172,"cut":false,"hidden":false,"merged":[[141,11,141,12],[142,2,142,3],[157,11,157,12],[108,2,108,3],[113,16,113,20],[123,11,123,12],[124,16,124,20],[140,4,140,5],[140,11,140,12],[94,9,94,13],[95,9,95,13],[102,16,102,20],[106,4,106,5],[107,2,107,3],[107,11,107,12],[50,16,50,17],[51,16,51,17],[56,2,56,6],[71,2,71,6],[85,2,85,3],[85,4,85,5],[37,22,37,25],[37,26,37,29],[37,30,37,33],[45,16,45,17],[46,16,46,17],[37,18,37,21],[47,16,47,17],[28,16,28,17],[29,16,29,17],[30,16,30,17],[33,16,33,17],[34,16,34,17],[20,30,20,33],[4,2,4,4],[4,6,4,9],[4,11,4,14],[11,16,11,17],[12,16,12,17],[13,16,13,17],[16,16,16,17],[17,16,17,17],[20,18,20,21],[20,22,20,25],[20,26,20,29],[1,16,1,33],[2,13,2,14],[3,18,3,21],[3,22,3,25],[3,26,3,29],[3,30,3,33]]}
[null,2021,"STANDINGS"]
[null,null,null,null,null,null,null,null,null,null,null,null,null,null,null,null,"CURRENT WEEK RESULTS"]
[null,"WEEK ENDING "," ","2021-05-23",null,null,null," ",null,null,null,"WEEK",7,"MAY",null," "]
[null,null,null,null,null,null,null,null,null,null,null,null,null,null,null,null,null,null,"MIKE",null,null,null,"JOHN",null,null,null,"LARRY",null,null,null,0]
[null,null,"CURRENT WEEK-SEASON TO DATE",null,null,null,"PREVIOUS WEEK-SEASON TO DATE",null,null,null,null,"CURRENT WEEK TOTALS",null,null,null,null,null,null,"RANK","W","L","PCT","RANK","W","L","PCT","RANK","W","L","PCT","RANK","W","L","PCT"]
[null,null,null,null,null,null,null,null,null,null,null,null,null,null,null,null,null,null,"Brewers",2,3,0.4,"Cardinals",3,2,0.6,"Rays",6,0,1,0,{"$error":"#N/A"},{"$error":"#N/A"},{"$error":"#N/A"}]
[null,"American League",null,null,null,null,"AL EAST",null,null,null,"Times","AL EAST",null,null,null,null,null,null,"Giants",4,3,0.5714285714285714,"Mariners",0,6,0,"Royals",4,1,0.8,0,{"$error":"#N/A"},{"$error":"#N/A"},{"$error":"#N/A"}]
[null,"East","W","L","PCT","Rank","TEAM","W","L","PCT","Picked","TEAM","W","L","PCT","Rank",null,null,"Mets",3,3,0.5,"Yankees",6,1,0.8571428571428571,"Athletics",3,3,0.5,0,{"$error":"#N/A"},{"$error":"#N/A"},{"$error":"#N/A"}]
[null,"Orioles",17,29,0.36956521739130432,5,"BALTIMORE",17,23,0.42499999999999999,0,"Orioles",0,6,0,5,null,null,"White Sox",2,4,0.33333333333333331,"Padres",6,0,1,"Mets",3,3,0.5,0,{"$error":"#N/A"},{"$error":"#N/A"},{"$error":"#N/A"}]
[null,"Red Sox",29,19,0.60416666666666663,1,"BOSTON",25,17,0.59523809523809523,2,"Red Sox",4,2,0.66666666666666663,3,null,null,"Mariners",0,6,0,"Mets",3,3,0.5,"Cubs",5,2,0.7142857142857143,0,{"$error":"#N/A"},{"$error":"#N/A"},{"$error":"#N/A"}]
[null,"Yankees",28,19,0.5957446808510638,3,"NEW YORK",22,18,0.55000000000000004,3,"Yankees",6,1,0.8571428571428571,2,null,null,"Blue Jays",1,5,0.16666666666666666,"Royals",4,1,0.8,"Giants",4,3,0.5714285714285714,0,{"$error":"#N/A"},{"$error":"#N/A"},{"$error":"#N/A"}]
[null,"Rays",29,19,0.60416666666666663,1,"TAMPA BAY",23,19,0.54761904761904767,2,"Rays",6,0,1,1,"WEEKLY TOTAL",null,null,12,24,0.33333333333333331,null,22,13,0.62857142857142856,null,25,12,0.67567567567567566,null,{"$error":"#N/A"},{"$error":"#N/A"},{"$error":"#N/A"}]
[null,"Blue Jays",23,22,0.51111111111111107,4,"TORONTO",22,17,0.5641025641025641,2,"Blue Jays",1,5,0.16666666666666666,4,"PREV WEEK TO DATE",null,"  ",126,117,0.51851851851851849,null,115,128,0.47325102880658437,null,112,130,0.46280991735537191,null,{"$error":"#N/A"},{"$error":"#N/A"},{"$error":"#N/A"}]
[null,null,null," ",null,null,null,null," ",null,null,null,null,null,null,null,"CUR TOTAL TO DATE",null,"  ",138,141,0.4946236559139785,null,137,141,0.49280575539568344,null,137,142,0.49103942652329752,null,{"$error":"#N/A"},{"$error":"#N/A"},{"$error":"#N/A"}]
[null,null,null," ",null,null,"AL CENTRAL",null," ",null,null,"AL CENTRAL"]
[null,"Central","W","L","PCT",null,"TEAM","W","L","PCT",null,"TEAM","W","L","PCT"]
[null,"White Sox",26,19,0.57777777777777772,1,"CHICAGO",24,15,0.61538461538461542,4,"White Sox",2,4,0.33333333333333331,5,"SEASON TLT TO DATE",null,"  ",86,83,0.50887573964497046,null,81,88,0.47928994082840237,null,79,88,0.47305389221556887,null,{"$error":"#N/A"},{"$error":"#N/A"},{"$error":"#N/A"}]
[null,"Indians",24,20,0.54545454545454541,2,"CLEVELAND",21,17,0.55263157894736847,1,"Indians",3,3,0.5,3,"MAY TOTAL TO DATE",null,null,52,58,0.47272727272727272,null,56,53,0.51376146788990829,null,58,54,0.5178571428571429,null,{"$error":"#N/A"},{"$error":"#N/A"},{"$error":"#N/A"}]
[null,"Tigers",18,28,0.39130434782608697,4,"DETROIT",14,26,0.35,1,"Tigers",4,2,0.66666666666666663,2]
[null,"Royals",22,23,0.48888888888888887,3,"KANSAS CITY",18,22,0.45,2,"Royals",4,1,0.8,1]
[null,"Twins",17,29,0.36956521739130432,5,"MINNESOTA",13,25,0.34210526315789475,1,"Twins",4,4,0.5,3,null,null,"JIM T.",null,null,null,"JEAN",null,null,null,"DIANE",null,null,null,0]
[null,null,null," ",null,null,null,null," ",null,null,null,null,null,null,null,null,null,"RANK","W","L","PCT","RANK","W","L","PCT","RANK","W","L","PCT","RANK","W","L","PCT"]
[null,null,null," ",null,null,"AL WEST",null," ",null,null,"AL WEST",null,null,null,null,null,null,"Athletics",3,3,0.5,"Red Sox",4,2,0.66666666666666663,"Red Sox",4,2,0.66666666666666663,0,{"$error":"#N/A"},{"$error":"#N/A"},{"$error":"#N/A"}]
[null,"West","W","L","PCT",null,"TEAM","W","L","PCT",null,"TEAM","W","L","PCT",null,null,null,"Diamondbacks",0,7,0,"Cardinals",3,2,0.6,"Dodgers",7,0,1,0,{"$error":"#N/A"},{"$error":"#N/A"},{"$error":"#N/A"}]
[null,"Angels",20,27,0.42553191489361702,5,"LOS ANGELES",17,22,0.4358974358974359,0,"Angels",3,5,0.375,3,null,null,"Rays",6,0,1,"Nationals",4,3,0.5714285714285714,"Phillies",2,4,0.33333333333333331,0,{"$error":"#N/A"},{"$error":"#N/A"},{"$error":"#N/A"}]
[null,"Athletics",28,20,0.58333333333333337,1,"OAKLAND",25,17,0.59523809523809523,3,"Athletics",3,3,0.5,2,null,null,"White Sox",2,4,0.33333333333333331,"Padres",6,0,1,"Mariners",0,6,0,0,{"$error":"#N/A"},{"$error":"#N/A"},{"$error":"#N/A"}]
[null,"Mariners",21,26,0.44680851063829785,4,"SEATTLE",21,20,0.51219512195121952,4,"Mariners",0,6,0,5,null,null,"Brewers",2,3,0.4,"Astros",2,4,0.33333333333333331,"Indians",3,3,0.5,0,{"$error":"#N/A"},{"$error":"#N/A"},{"$error":"#N/A"}]
[null,"Rangers",22,27,0.44897959183673469,3,"TEXAS",18,24,0.42857142857142855,0,"Rangers",4,3,0.5714285714285714,1,null,null,"Mets",3,3,0.5,"Twins",4,4,0.5,"Brewers",2,3,0.4,0,{"$error":"#N/A"},{"$error":"#N/A"},{"$error":"#N/A"}]
[null,"Astros",26,21,0.55319148936170215,2,"HOUSTON",24,17,0.58536585365853655,2,"Astros",2,4,0.33333333333333331,4,"WEEKLY TOTAL",null,null,16,20,0.44444444444444442,null,23,15,0.60526315789473684,null,18,18,0.5,null,{"$error":"#N/A"},{"$error":"#N/A"},{"$error":"#N/A"}]
[null,null,null,null,null,null,null,null,null,null,null,null,null,null,null,null,"PREV WEEK TO DATE",null,null,124,119,0.51028806584362141,null,121,117,0.50840336134453779,null,128,114,0.52892561983471076,null,{"$error":"#N/A"},{"$error":"#N/A"},{"$error":"#N/A"}]
[null,"National League",null," ",null,null,"NL EAST",null," ",null,null,"NL EAST",null,null,null,null,"CUR TOTAL TO DATE",null,null,140,139,0.50179211469534046,null,144,132,0.52173913043478259,null,146,132,0.52517985611510787,null,{"$error":"#N/A"},{"$error":"#N/A"},{"$error":"#N/A"}]
[null,"East","W","L","PCT",null,"TEAM","W","L","PCT",null,"TEAM","W","L","PCT"]
[null,"Braves",23,24,0.48936170212765956,2,"ATLANTA",19,21,0.47499999999999998,0,"Braves",4,3,0.5714285714285714,2]
[null,"Marlins",22,24,0.47826086956521741,4,"Miami",18,22,0.45,0,"Marlins",4,2,0.66666666666666663,1,"SEASON TLT TO DATE",null,null,84,83,0.50299401197604787,null,82,81,0.50306748466257667,null,90,78,0.5357142857142857,null,{"$error":"#N/A"},{"$error":"#N/A"},{"$error":"#N/A"}]
[null,"Mets",21,19,0.52500000000000002,1,"NEW YORK",18,16,0.52941176470588236,6,"Mets",3,3,0.5,4,"MAY TOTAL TO DATE",null,null,56,56,0.5,null,62,51,0.54867256637168138,null,56,54,0.50909090909090904,null,{"$error":"#N/A"},{"$error":"#N/A"},{"$error":"#N/A"}]
[null,"Phillies",23,24,0.48936170212765956,2,"PHILADELPHIA",21,20,0.51219512195121952,2,"Phillies",2,4,0.33333333333333331,5]
[null,"Nationals",20,23,0.46511627906976744,5,"WASHINGTON",16,20,0.44444444444444442,1,"Nationals",4,3,0.5714285714285714,2]
[null,null,null," ",null,null,null,null," ",null,null,null,null,null,null,null,null,null,"JIM K.",null,null,null,"TIM",null,null,null,"-----",null,null,null,0]
[null,null,null," ",null,null,"NL CENTRAL",null," ",null,null,"NL CENTRAL",null,null,null,null,null,null,"RANK","W","L","PCT","RANK","W","L","PCT","RANK","W","L","PCT","RANK","W","L","PCT"]
[null,"Central","W","L","PCT",null,"TEAM","W","L","PCT",null,"TEAM","W","L","PCT",null,null,null,"Mariners",0,6,0,"White Sox",2,4,0.33333333333333331,null,null,null,null,0,{"$error":"#N/A"},{"$error":"#N/A"},{"$error":"#N/A"}]
[null,"Cubs",24,22,0.52173913043478259,2,"CHICAGO",19,20,0.48717948717948717,1,"Cubs",5,2,0.7142857142857143,1,null,null,"Blue Jays",1,5,0.16666666666666666,"Giants",4,3,0.5714285714285714,null,null,null,null,0,{"$error":"#N/A"},{"$error":"#N/A"},{"$error":"#N/A"}]
[null,"Reds",20,25,0.44444444444444442,4,"CINCINNATI",19,19,0.5,0,"Reds",1,6,0.14285714285714285,5,null,null,"Tigers",4,2,0.66666666666666663,"Astros",2,4,0.33333333333333331,null,null,null,null,0,{"$error":"#N/A"},{"$error":"#N/A"},{"$error":"#N/A"}]
[null,"Brewers",23,23,0.5,3,"MILWAUKEE",21,20,0.51219512195121952,3,"Brewers",2,3,0.4,3,null,null,"Pirates",1,5,0.16666666666666666,"Cardinals",3,2,0.6,null,null,null,null,0,{"$error":"#N/A"},{"$error":"#N/A"},{"$error":"#N/A"}]
[null,"Pirates",18,28,0.39130434782608697,5,"PITTSBURGH",17,23,0.42499999999999999,2,"Pirates",1,5,0.16666666666666666,4,null,null,"Padres",6,0,1,"Yankees",6,1,0.8571428571428571,null,null,null,null,0,{"$error":"#N/A"},{"$error":"#N/A"},{"$error":"#N/A"}]
[null,"Cardinals",26,20,0.56521739130434778,1,"ST LOUIS",23,18,0.56097560975609762,3,"Cardinals",3,2,0.6,2,null,null,"Mets",3,3,0.5,"Phillies",2,4,0.33333333333333331,null,null,null,null,0,{"$error":"#N/A"},{"$error":"#N/A"},{"$error":"#N/A"}]
[null,null,null," ",null,null,null,null," ",null,null,null,null,null,null,null,"WEEKLY TOTAL",null,null,15,21,0.41666666666666669,null,19,18,0.51351351351351349,null,0,30,"",null,{"$error":"#N/A"},{"$error":"#N/A"},{"$error":"#N/A"}]
[null,null,null," ",null,null,"NL WEST",null," ",null,null,"NL WEST",null,null,null,null,"PREV WEEK TO DATE",null,null,119,121,0.49583333333333335,null,134,109,0.55144032921810704,null,0,190,"",null,{"$error":"#N/A"},{"$error":"#N/A"},{"$error":"#N/A"}]
[null,"West","W","L","PCT",null,"TEAM","W","L","PCT",null,"TEAM","W","L","PCT",null,"CUR TOTAL TO DATE",null,null,134,142,0.48550724637681159,null,153,127,0.54642857142857137,null,0,220,"",null,{"$error":"#N/A"},{"$error":"#N/A"},{"$error":"#N/A"}]
[null,"Diamondbacks",18,30,0.375,5,"ARIZONA",18,23,0.43902439024390244,1,"Diamondbacks",0,7,0,5]
[null,"Rockies",18,29,0.38297872340425532,4,"COLORADO",15,26,0.36585365853658536,0,"Rockies",3,3,0.5,4]
[null,"Dodgers",29,18,0.61702127659574468,2,"LOS ANGELES",22,18,0.55000000000000004,1,"Dodgers",7,0,1,1,"SEASON TLT TO DATE",null,null,80,87,0.47904191616766467,null,89,79,0.52976190476190477,null,0,130,"",null,{"$error":"#N/A"},{"$error":"#N/A"},{"$error":"#N/A"}]
[null,"Padres",30,17,0.63829787234042556,1,"SAN DIEGO",24,17,0.58536585365853655,4,"Padres",6,0,1,1,"MAY TOTAL TO DATE",null,null,54,55,0.49541284403669728,null,64,48,0.5714285714285714,null,0,90,"",null,{"$error":"#N/A"},{"$error":"#N/A"},{"$error":"#N/A"}]
[null,"Giants",28,19,0.5957446808510638,3,"SAN FRANCISCO",24,16,0.6,3,"Giants",4,3,0.5714285714285714,3]
[null,null,null,null,null,null,null,null,null,null,null,null,95,95]
[null,null,null,"2021-05-24"," Morning"]
[]
[null,null,"WEEK 7"]
[null," ","NAME","W","L","PCT","GB"]
[null,null,"LARRY",25,12,0.67567567567567566,0]
[null," ","JOHN",22,13,0.62857142857142856,2]
[null," ","JEAN",23,15,0.60526315789473684,2.5]
[null," ","TIM",19,18,0.51351351351351349,6]
[null," ","DIANE",18,18,0.5,6.5]
[null,null,"JIM T.",16,20,0.44444444444444442,8.5]
[null,null,"JIM K.",15,21,0.41666666666666669,9.5]
[null,null,"MIKE",12,24,0.33333333333333331,12.5]
[null,null,"-----",0,30,0,"-----"]
[null,null,"","","","",""]
[null,null,"","","","",""]
[null,null,"","","","",""]
[]
[null,null,"MONTH OF  MAY"]
[null,null,"NAME","W","L","PCT","GB"]
[null,null,"TIM",64,48,0.5714285714285714,0]
[null,null,"JEAN",62,51,0.54867256637168138,2.5]
[null,null,"LARRY",58,54,0.5178571428571429,6]
[null,null,"JOHN",56,53,0.51376146788990829,6.5]
[null,null,"DIANE",56,54,0.50909090909090904,7]
[null,null,"JIM T.",56,56,0.5,8]
[null,null,"JIM K.",54,55,0.49541284403669728,8.5]
[null,null,"MIKE",52,58,0.47272727272727272,11]
[null,null,"-----",0,90,0,"-----"]
[null,null,"","","","",""]
[null,null,"","","","",""]
[null,null,"","","","",""]
[null,null,2021,null,"SEASON"]
[null,null,"NAME","W","L","PCT","GB"]
[null,null,"TIM",153,127,0.54642857142857137,0]
[null,null,"DIANE",146,132,0.52517985611510787,6]
[null,null,"JEAN",144,132,0.52173913043478259,7]
[null,null,"JIM T.",140,139,0.50179211469534046,12.5]
[null,null,"MIKE",138,141,0.4946236559139785,14.5]
[null,null,"JOHN",137,141,0.49280575539568344,15]
[null,null,"LARRY",137,142,0.49103942652329752,15.5]
[null,null,"JIM K.",134,142,0.48550724637681159,17,null," "]
[null,null,"-----",0,220,0,"-----",null," "]
[null,null,"","","","","",null," "]
[null,null,"","","","",""]
[null,null,"","","","",""]
[]
[]
[]
[]
[]
[]
[]
[null,null,null,null,"CURRENT WEEK",null,null,null,null,null,null,"THIS WEEK"]
[null,null,"WEEK ENDING",null,"THIS WEEK","SEASON",null,null,null,null,null,"AL",null,"RANK"]
[null,null,"2021-05-23",null,"RANK","RANK",null,null,null,null,null,"TAMPA BAY",1,1]
[null,null,"TAMPA BAY",1,1,3,null,null,null,null,null,"NEW YORK A",0.8571428571428571,2]
[null,null,"SAN DIEGO",1,1,1,null,null,null,null,null,"KANSAS CITY",0.8,3]
[null,null,"LOS ANGELES N",1,1,2,null,null,null,null,null,"DETROIT",0.66666666666666663,4]
[null,null,"NEW YORK A",0.8571428571428571,4,5,null,null,null,null,null,"BOSTON",0.66666666666666663,4]
[null,null,"KANSAS CITY",0.8,5,18,null,null,null,null,null,"TEXAS",0.5714285714285714,6]
[null,null,"CHICAGO N",0.7142857142857143,6,13,null,null,null,null,null,"CLEVELAND",0.5,7]
[null,null,"DETROIT",0.66666666666666663,7,25,null,null,null,null,null,"OAKLAND",0.5,7]
[null,null,"BOSTON",0.66666666666666663,7,3,null,null,null,null,null,"MINNESOTA",0.5,7]
[null,null,"MIAMI",0.66666666666666663,7,19,null,null,null,null,null,"LOS ANGELES A",0.375,10]
[null,null,"ST LOUIS",0.6,10,9,null,null,null,null,null,"CHICAGO A",0.33333333333333331,11]
[null,null,"SAN FRANCISCO",0.5714285714285714,11,5,null,null,null,null,null,"HOUSTON",0.33333333333333331,11]
[null,null,"TEXAS",0.5714285714285714,11,21,null,null,null,null,null,"TORONTO",0.16666666666666666,13]
[null,null,"WASHINGTON",0.5714285714285714,11,20,null,null,null,null,null,"BALTIMORE",0,14]
[null,null,"ATLANTA",0.5714285714285714,11,16,null,null,null,null,null,"SEATTLE",0,14]
[null,null,"NEW YORK N",0.5,15,12,null,null,null,null,null,"NL"]
[null,null,"CLEVELAND",0.5,15,11,null,null,null,null,null,"SAN DIEGO",1,1]
[null,null,"OAKLAND",0.5,15,7,null,null,null,null,null,"LOS ANGELES N",1,1]
[null,null,"MINNESOTA",0.5,15,29,null,null,null,null,null,"CHICAGO N",0.7142857142857143,3]
[null,null,"COLORADO",0.5,15,27,null,null,null,null,null,"MIAMI",0.66666666666666663,4]
[null,null,"MILWAUKEE",0.4,20,15,null,null,null,null,null,"ST LOUIS",0.6,5]
[null,null,"LOS ANGELES A",0.375,21,24,null,null,null,null,null,"SAN FRANCISCO",0.5714285714285714,6]
[null,null,"CHICAGO A",0.33333333333333331,22,8,null,null,null,null,null,"WASHINGTON",0.5714285714285714,6]
[null,null,"HOUSTON",0.33333333333333331,22,10,null,null,null,null,null,"ATLANTA",0.5714285714285714,6]
[null,null,"PHILADELPHIA",0.33333333333333331,22,16,null,null,null,null,null,"NEW YORK N",0.5,9]
[null,null,"TORONTO",0.16666666666666666,25,14,null,null,null,null,null,"COLORADO",0.5,9]
[null,null,"PITTSBURGH",0.16666666666666666,25,25,null,null,null,null,null,"MILWAUKEE",0.4,11]
[null,null,"CINCINNATI",0.14285714285714285,27,23,null,null,null,null,null,"PHILADELPHIA",0.33333333333333331,12]
[null,null,"BALTIMORE",0,28,29,null,null,null,null,null,"PITTSBURGH",0.16666666666666666,13]
[null,null,"SEATTLE",0,28,22,null,null,null,null,null,"CINCINNATI",0.14285714285714285,14]
[null,null,"ARIZONA",0,28,28,null,null,null,null,null,"ARIZONA",0,15]
[]
[null,null,null,null,"SEASON TO DATE",null,null,null,null,null,null,"SEASON TO DATE"]
[null,null,null,null,null,null,null,null,null,null,null,"AL"]
[null,null,"SEASON TO-DATE",null,"RANK",null,null,null,null,null,null,"BOSTON",0.60416666666666663,1]
[null,null,"SAN DIEGO",0.63829787234042556,1,null,null,null,null,null,null,"TAMPA BAY",0.60416666666666663,1]
[null,null,"LOS ANGELES N",0.61702127659574468,2,null,null,null,null,null,null,"NEW YORK A",0.5957446808510638,3]
[null,null,"BOSTON",0.60416666666666663,3,null,null,null,null,null,null,"OAKLAND",0.58333333333333337,4]
[null,null,"TAMPA BAY",0.60416666666666663,3,null,null,null,null,null,null,"CHICAGO A",0.57777777777777772,5]
[null,null,"SAN FRANCISCO",0.5957446808510638,5,null,null,null,null,null,null,"HOUSTON",0.55319148936170215,6]
[null,null,"NEW YORK A",0.5957446808510638,5,null,null,null,null,null,null,"CLEVELAND",0.54545454545454541,7]
[null,null,"OAKLAND",0.58333333333333337,7,null,null,null,null,null,null,"TORONTO",0.51111111111111107,8]
[null,null,"CHICAGO A",0.57777777777777772,8,null,null,null,null,null,null,"KANSAS CITY",0.48888888888888887,9]
[null,null,"ST LOUIS",0.56521739130434778,9,null,null,null,null,null,null,"TEXAS",0.44897959183673469,10]
[null,null,"HOUSTON",0.55319148936170215,10,null,null,null,null,null,null,"SEATTLE",0.44680851063829785,11]
[null,null,"CLEVELAND",0.54545454545454541,11,null,null,null,null,null,null,"LOS ANGELES A",0.42553191489361702,12]
[null,null,"NEW YORK N",0.52500000000000002,12,null,null,null,null,null,null,"DETROIT",0.39130434782608697,13]
[null,null,"CHICAGO N",0.52173913043478259,13,null,null,null,null,null,null,"BALTIMORE",0.36956521739130432,14]
[null,null,"TORONTO",0.51111111111111107,14,null,null,null,null,null,null,"MINNESOTA",0.36956521739130432,14]
[null,null,"MILWAUKEE",0.5,15,null,null,null,null,null,null,"NL"]
[null,null,"PHILADELPHIA",0.48936170212765956,16,null,null,null,null,null,null,"SAN DIEGO",0.63829787234042556,1]
[null,null,"ATLANTA",0.48936170212765956,16,null,null,null,null,null,null,"LOS ANGELES N",0.61702127659574468,2]
[null,null,"KANSAS CITY",0.48888888888888887,18,null,null,null,null,null,null,"SAN FRANCISCO",0.5957446808510638,3]
[null,null,"MIAMI",0.47826086956521741,19,null,null,null,null,null,null,"ST LOUIS",0.56521739130434778,4]
[null,null,"WASHINGTON",0.46511627906976744,20,null,null,null,null,null,null,"NEW YORK N",0.52500000000000002,5]
[null,null,"TEXAS",0.44897959183673469,21,null,null,null,null,null,null,"CHICAGO N",0.52173913043478259,6]
[null,null,"SEATTLE",0.44680851063829785,22,null,null,null,null,null,null,"MILWAUKEE",0.5,7]
[null,null,"CINCINNATI",0.44444444444444442,23,null,null,null,null,null,null,"PHILADELPHIA",0.48936170212765956,8]
[null,null,"LOS ANGELES A",0.42553191489361702,24,null,null,null,null,null,null,"ATLANTA",0.48936170212765956,8]
[null,null,"PITTSBURGH",0.39130434782608697,25,null,null,null,null,null,null,"MIAMI",0.47826086956521741,10]
[null,null,"DETROIT",0.39130434782608697,25,null,null,null,null,null,null,"WASHINGTON",0.46511627906976744,11]
[null,null,"COLORADO",0.38297872340425532,27,null,null,null,null,null,null,"CINCINNATI",0.44444444444444442,12]
[null,null,"ARIZONA",0.375,28,null,null,null,null,null,null,"PITTSBURGH",0.39130434782608697,13]
[null,null,"BALTIMORE",0.36956521739130432,29,null,null,null,null,null,null,"COLORADO",0.38297872340425532,14]

{"sheet":"16-May","index":32,"n_rows":172,"n_cols":34,"rows_kept":172,"cut":false,"hidden":false,"merged":[[141,11,141,12],[142,2,142,3],[157,11,157,12],[108,2,108,3],[113,16,113,20],[123,11,123,12],[124,16,124,20],[140,4,140,5],[140,11,140,12],[94,9,94,13],[95,9,95,13],[102,16,102,20],[106,4,106,5],[107,2,107,3],[107,11,107,12],[50,16,50,17],[51,16,51,17],[56,2,56,6],[71,2,71,6],[85,2,85,3],[85,4,85,5],[37,22,37,25],[37,26,37,29],[37,30,37,33],[45,16,45,17],[46,16,46,17],[37,18,37,21],[47,16,47,17],[28,16,28,17],[29,16,29,17],[30,16,30,17],[33,16,33,17],[34,16,34,17],[20,30,20,33],[4,2,4,4],[4,6,4,9],[4,11,4,14],[11,16,11,17],[12,16,12,17],[13,16,13,17],[16,16,16,17],[17,16,17,17],[20,18,20,21],[20,22,20,25],[20,26,20,29],[1,16,1,33],[2,13,2,14],[3,18,3,21],[3,22,3,25],[3,26,3,29],[3,30,3,33]]}
[null,2021,"STANDINGS"]
[null,null,null,null,null,null,null,null,null,null,null,null,null,null,null,null,"CURRENT WEEK RESULTS"]
[null,"WEEK ENDING "," ","2021-05-16",null,null,null," ",null,null,null,"WEEK",6,"MAY",null," "]
[null,null,null,null,null,null,null,null,null,null,null,null,null,null,null,null,null,null,"MIKE",null,null,null,"JOHN",null,null,null,"LARRY",null,null,null,0]
[null,null,"CURRENT WEEK-SEASON TO DATE",null,null,null,"PREVIOUS WEEK-SEASON TO DATE",null,null,null,null,"CURRENT WEEK TOTALS",null,null,null,null,null,null,"RANK","W","L","PCT","RANK","W","L","PCT","RANK","W","L","PCT","RANK","W","L","PCT"]
[null,null,null,null,null,null,null,null,null,null,null,null,null,null,null,null,null,null,"Brewers",2,4,0.33333333333333331,"Cardinals",2,4,0.33333333333333331,"Rays",4,2,0.66666666666666663,0,{"$error":"#N/A"},{"$error":"#N/A"},{"$error":"#N/A"}]
[null,"American League",null,null,null,null,"AL EAST",null,null,null,"Times","AL EAST",null,null,null,null,null,null,"Giants",4,2,0.66666666666666663,"Mariners",3,3,0.5,"Royals",2,5,0.2857142857142857,0,{"$error":"#N/A"},{"$error":"#N/A"},{"$error":"#N/A"}]
[null,"East","W","L","PCT","Rank","TEAM","W","L","PCT","Picked","TEAM","W","L","PCT","Rank",null,null,"Mets",2,3,0.4,"Yankees",4,2,0.66666666666666663,"Athletics",4,2,0.66666666666666663,0,{"$error":"#N/A"},{"$error":"#N/A"},{"$error":"#N/A"}]
[null,"Orioles",17,23,0.42499999999999999,5,"BALTIMORE",15,19,0.44117647058823528,0,"Orioles",2,4,0.33333333333333331,5,null,null,"White Sox",5,2,0.7142857142857143,"Padres",5,1,0.83333333333333337,"Mets",2,3,0.4,0,{"$error":"#N/A"},{"$error":"#N/A"},{"$error":"#N/A"}]
[null,"Red Sox",25,17,0.59523809523809523,1,"BOSTON",22,13,0.62857142857142856,2,"Red Sox",3,4,0.42857142857142855,4,null,null,"Mariners",3,3,0.5,"Mets",2,3,0.4,"Cubs",2,3,0.4,0,{"$error":"#N/A"},{"$error":"#N/A"},{"$error":"#N/A"}]
[null,"Yankees",22,18,0.55000000000000004,3,"NEW YORK",18,16,0.52941176470588236,2,"Yankees",4,2,0.66666666666666663,2,null,null,"Blue Jays",5,1,0.83333333333333337,"Twins",1,5,0.16666666666666666,"Giants",4,2,0.66666666666666663,0,{"$error":"#N/A"},{"$error":"#N/A"},{"$error":"#N/A"}]
[null,"Rays",23,19,0.54761904761904767,4,"TAMPA BAY",19,17,0.52777777777777779,3,"Rays",4,2,0.66666666666666663,2,"WEEKLY TOTAL",null,null,21,15,0.58333333333333337,null,17,18,0.48571428571428571,null,18,17,0.51428571428571423,null,{"$error":"#N/A"},{"$error":"#N/A"},{"$error":"#N/A"}]
[null,"Blue Jays",22,17,0.5641025641025641,2,"TORONTO",17,16,0.51515151515151514,2,"Blue Jays",5,1,0.83333333333333337,1,"PREV WEEK TO DATE",null,"  ",105,102,0.50724637681159424,null,98,110,0.47115384615384615,null,94,113,0.45410628019323673,null,{"$error":"#N/A"},{"$error":"#N/A"},{"$error":"#N/A"}]
[null,null,null," ",null,null,null,null," ",null,null,null,null,null,null,null,"CUR TOTAL TO DATE",null,"  ",126,117,0.51851851851851849,null,115,128,0.47325102880658437,null,112,130,0.46280991735537191,null,{"$error":"#N/A"},{"$error":"#N/A"},{"$error":"#N/A"}]
[null,null,null," ",null,null,"AL CENTRAL",null," ",null,null,"AL CENTRAL"]
[null,"Central","W","L","PCT",null,"TEAM","W","L","PCT",null,"TEAM","W","L","PCT"]
[null,"White Sox",24,15,0.61538461538461542,1,"CHICAGO",19,13,0.59375,4,"White Sox",5,2,0.7142857142857143,1,"SEASON TLT TO DATE",null,"  ",86,83,0.50887573964497046,null,81,88,0.47928994082840237,null,79,88,0.47305389221556887,null,{"$error":"#N/A"},{"$error":"#N/A"},{"$error":"#N/A"}]
[null,"Indians",21,17,0.55263157894736847,2,"CLEVELAND",18,14,0.5625,1,"Indians",3,3,0.5,3,"MAY TOTAL TO DATE",null,null,40,34,0.54054054054054057,null,34,40,0.45945945945945948,null,33,42,0.44,null,{"$error":"#N/A"},{"$error":"#N/A"},{"$error":"#N/A"}]
[null,"Tigers",14,26,0.35,4,"DETROIT",10,24,0.29411764705882354,1,"Tigers",4,2,0.66666666666666663,2]
[null,"Royals",18,22,0.45,3,"KANSAS CITY",16,17,0.48484848484848486,1,"Royals",2,5,0.2857142857142857,4]
[null,"Twins",13,25,0.34210526315789475,5,"MINNESOTA",12,20,0.375,2,"Twins",1,5,0.16666666666666666,5,null,null,"JIM T.",null,null,null,"JEAN",null,null,null,"DIANE",null,null,null,0]
[null,null,null," ",null,null,null,null," ",null,null,null,null,null,null,null,null,null,"RANK","W","L","PCT","RANK","W","L","PCT","RANK","W","L","PCT","RANK","W","L","PCT"]
[null,null,null," ",null,null,"AL WEST",null," ",null,null,"AL WEST",null,null,null,null,null,null,"Athletics",4,2,0.66666666666666663,"Red Sox",3,4,0.42857142857142855,"Red Sox",3,4,0.42857142857142855,0,{"$error":"#N/A"},{"$error":"#N/A"},{"$error":"#N/A"}]
[null,"West","W","L","PCT",null,"TEAM","W","L","PCT",null,"TEAM","W","L","PCT",null,null,null,"Diamondbacks",3,4,0.42857142857142855,"Cardinals",2,4,0.33333333333333331,"Dodgers",4,1,0.8,0,{"$error":"#N/A"},{"$error":"#N/A"},{"$error":"#N/A"}]
[null,"Angels",17,22,0.4358974358974359,4,"LOS ANGELES",15,18,0.45454545454545453,0,"Angels",2,4,0.33333333333333331,4,null,null,"Rays",4,2,0.66666666666666663,"Nationals",3,3,0.5,"Phillies",3,3,0.5,0,{"$error":"#N/A"},{"$error":"#N/A"},{"$error":"#N/A"}]
[null,"Athletics",25,17,0.59523809523809523,1,"OAKLAND",21,15,0.58333333333333337,3,"Athletics",4,2,0.66666666666666663,2,null,null,"White Sox",5,2,0.7142857142857143,"Padres",5,1,0.83333333333333337,"Mariners",3,3,0.5,0,{"$error":"#N/A"},{"$error":"#N/A"},{"$error":"#N/A"}]
[null,"Mariners",21,20,0.51219512195121952,3,"SEATTLE",18,17,0.51428571428571423,5,"Mariners",3,3,0.5,3,null,null,"Brewers",2,4,0.33333333333333331,"Astros",6,1,0.8571428571428571,"Indians",3,3,0.5,0,{"$error":"#N/A"},{"$error":"#N/A"},{"$error":"#N/A"}]
[null,"Rangers",18,24,0.42857142857142855,5,"TEXAS",18,18,0.5,0,"Rangers",0,6,0,5,null,null,"Mets",2,3,0.4,"Twins",1,5,0.16666666666666666,"Brewers",2,4,0.33333333333333331,0,{"$error":"#N/A"},{"$error":"#N/A"},{"$error":"#N/A"}]
[null,"Astros",24,17,0.58536585365853655,2,"HOUSTON",18,16,0.52941176470588236,1,"Astros",6,1,0.8571428571428571,1,"WEEKLY TOTAL",null,null,20,17,0.54054054054054057,null,20,18,0.52631578947368418,null,18,18,0.5,null,{"$error":"#N/A"},{"$error":"#N/A"},{"$error":"#N/A"}]
[null,null,null,null,null,null,null,null,null,null,null,null,null,null,null,null,"PREV WEEK TO DATE",null,null,104,102,0.50485436893203883,null,101,99,0.505,null,110,96,0.53398058252427183,null,{"$error":"#N/A"},{"$error":"#N/A"},{"$error":"#N/A"}]
[null,"National League",null," ",null,null,"NL EAST",null," ",null,null,"NL EAST",null,null,null,null,"CUR TOTAL TO DATE",null,null,124,119,0.51028806584362141,null,121,117,0.50840336134453779,null,128,114,0.52892561983471076,null,{"$error":"#N/A"},{"$error":"#N/A"},{"$error":"#N/A"}]
[null,"East","W","L","PCT",null,"TEAM","W","L","PCT",null,"TEAM","W","L","PCT"]
[null,"Braves",19,21,0.47499999999999998,3,"ATLANTA",17,17,0.5,0,"Braves",2,4,0.33333333333333331,5]
[null,"Marlins",18,22,0.45,4,"Miami",15,18,0.45454545454545453,0,"Marlins",3,4,0.42857142857142855,3,"SEASON TLT TO DATE",null,null,84,83,0.50299401197604787,null,82,81,0.50306748466257667,null,90,78,0.5357142857142857,null,{"$error":"#N/A"},{"$error":"#N/A"},{"$error":"#N/A"}]
[null,"Mets",18,16,0.52941176470588236,1,"NEW YORK",16,13,0.55172413793103448,6,"Mets",2,3,0.4,4,"MAY TOTAL TO DATE",null,null,40,36,0.52631578947368418,null,39,36,0.52,null,38,36,0.51351351351351349,null,{"$error":"#N/A"},{"$error":"#N/A"},{"$error":"#N/A"}]
[null,"Phillies",21,20,0.51219512195121952,2,"PHILADELPHIA",18,17,0.51428571428571423,2,"Phillies",3,3,0.5,1]
[null,"Nationals",16,20,0.44444444444444442,5,"WASHINGTON",13,17,0.43333333333333335,1,"Nationals",3,3,0.5,1]
[null,null,null," ",null,null,null,null," ",null,null,null,null,null,null,null,null,null,"JIM K.",null,null,null,"TIM",null,null,null,"-----",null,null,null,0]
[null,null,null," ",null,null,"NL CENTRAL",null," ",null,null,"NL CENTRAL",null,null,null,null,null,null,"RANK","W","L","PCT","RANK","W","L","PCT","RANK","W","L","PCT","RANK","W","L","PCT"]
[null,"Central","W","L","PCT",null,"TEAM","W","L","PCT",null,"TEAM","W","L","PCT",null,null,null,"Mariners",3,3,0.5,"Giants",4,2,0.66666666666666663,null,null,null,null,0,{"$error":"#N/A"},{"$error":"#N/A"},{"$error":"#N/A"}]
[null,"Cubs",19,20,0.48717948717948717,4,"CHICAGO",17,17,0.5,1,"Cubs",2,3,0.4,3,null,null,"Blue Jays",5,1,0.83333333333333337,"Phillies",3,3,0.5,null,null,null,null,0,{"$error":"#N/A"},{"$error":"#N/A"},{"$error":"#N/A"}]
[null,"Reds",19,19,0.5,3,"CINCINNATI",15,16,0.4838709677419355,0,"Reds",4,3,0.5714285714285714,1,null,null,"Tigers",4,2,0.66666666666666663,"Rays",4,2,0.66666666666666663,null,null,null,null,0,{"$error":"#N/A"},{"$error":"#N/A"},{"$error":"#N/A"}]
[null,"Brewers",21,20,0.51219512195121952,2,"MILWAUKEE",19,16,0.54285714285714282,3,"Brewers",2,4,0.33333333333333331,4,null,null,"Pirates",3,4,0.42857142857142855,"Cardinals",2,4,0.33333333333333331,null,null,null,null,0,{"$error":"#N/A"},{"$error":"#N/A"},{"$error":"#N/A"}]
[null,"Pirates",17,23,0.42499999999999999,5,"PITTSBURGH",14,19,0.42424242424242425,2,"Pirates",3,4,0.42857142857142855,2,null,null,"Padres",5,1,0.83333333333333337,"White Sox",5,2,0.7142857142857143,null,null,null,null,0,{"$error":"#N/A"},{"$error":"#N/A"},{"$error":"#N/A"}]
[null,"Cardinals",23,18,0.56097560975609762,1,"ST LOUIS",21,14,0.6,3,"Cardinals",2,4,0.33333333333333331,4,null,null,"Mets",2,3,0.4,"Mariners",3,3,0.5,null,null,null,null,0,{"$error":"#N/A"},{"$error":"#N/A"},{"$error":"#N/A"}]
[null,null,null," ",null,null,null,null," ",null,null,null,null,null,null,null,"WEEKLY TOTAL",null,null,22,14,0.61111111111111116,null,21,16,0.56756756756756754,null,0,30,"",null,{"$error":"#N/A"},{"$error":"#N/A"},{"$error":"#N/A"}]
[null,null,null," ",null,null,"NL WEST",null," ",null,null,"NL WEST",null,null,null,null,"PREV WEEK TO DATE",null,null,97,107,0.47549019607843135,null,113,93,0.54854368932038833,null,0,160,"",null,{"$error":"#N/A"},{"$error":"#N/A"},{"$error":"#N/A"}]
[null,"West","W","L","PCT",null,"TEAM","W","L","PCT",null,"TEAM","W","L","PCT",null,"CUR TOTAL TO DATE",null,null,119,121,0.49583333333333335,null,134,109,0.55144032921810704,null,0,190,"",null,{"$error":"#N/A"},{"$error":"#N/A"},{"$error":"#N/A"}]
[null,"Diamondbacks",18,23,0.43902439024390244,4,"ARIZONA",15,19,0.44117647058823528,1,"Diamondbacks",3,4,0.42857142857142855,4]
[null,"Rockies",15,26,0.36585365853658536,5,"COLORADO",12,22,0.35294117647058826,0,"Rockies",3,4,0.42857142857142855,4]
[null,"Dodgers",22,18,0.55000000000000004,3,"LOS ANGELES",18,17,0.51428571428571423,1,"Dodgers",4,1,0.8,2,"SEASON TLT TO DATE",null,null,80,87,0.47904191616766467,null,89,79,0.52976190476190477,null,0,130,"",null,{"$error":"#N/A"},{"$error":"#N/A"},{"$error":"#N/A"}]
[null,"Padres",24,17,0.58536585365853655,2,"SAN DIEGO",19,16,0.54285714285714282,4,"Padres",5,1,0.83333333333333337,1,"MAY TOTAL TO DATE",null,null,39,34,0.53424657534246578,null,45,30,0.6,null,0,60,"",null,{"$error":"#N/A"},{"$error":"#N/A"},{"$error":"#N/A"}]
[null,"Giants",24,16,0.6,1,"SAN FRANCISCO",20,14,0.58823529411764708,3,"Giants",4,2,0.66666666666666663,3]
[null,null,null,null,null,null,null,null,null,null,null,null,93,93]
[null,null,null,"2021-05-17"," Morning"]
[]
[null,null,"WEEK 6"]
[null," ","NAME","W","L","PCT","GB"]
[null,null,"JIM K.",22,14,0.61111111111111116,0]
[null," ","MIKE",21,15,0.58333333333333337,1]
[null," ","TIM",21,16,0.56756756756756754,1.5]
[null," ","JIM T.",20,17,0.54054054054054057,2.5]
[null," ","JEAN",20,18,0.52631578947368418,3]
[null,null,"LARRY",18,17,0.51428571428571423,3.5]
[null,null,"DIANE",18,18,0.5,4]
[null,null,"JOHN",17,18,0.48571428571428571,4.5]
[null,null,"-----",0,30,0,"-----"]
[null,null,"","","","",""]
[null,null,"","","","",""]
[null,null,"","","","",""]
[]
[null,null,"MONTH OF  MAY"]
[null,null,"NAME","W","L","PCT","GB"]
[null,null,"TIM",45,30,0.6,0]
[null,null,"MIKE",40,34,0.54054054054054057,4.5]
[null,null,"JIM K.",39,34,0.53424657534246578,5]
[null,null,"JIM T.",40,36,0.52631578947368418,5.5]
[null,null,"JEAN",39,36,0.52,6]
[null,null,"DIANE",38,36,0.51351351351351349,6.5]
[null,null,"JOHN",34,40,0.45945945945945948,10.5]
[null,null,"LARRY",33,42,0.44,12]
[null,null,"-----",0,60,0,"-----"]
[null,null,"","","","",""]
[null,null,"","","","",""]
[null,null,"","","","",""]
[null,null,2021,null,"SEASON"]
[null,null,"NAME","W","L","PCT","GB"]
[null,null,"TIM",134,109,0.55144032921810704,0]
[null,null,"DIANE",128,114,0.52892561983471076,5.5]
[null,null,"MIKE",126,117,0.51851851851851849,8]
[null,null,"JIM T.",124,119,0.51028806584362141,10]
[null,null,"JEAN",121,117,0.50840336134453779,10.5]
[null,null,"JIM K.",119,121,0.49583333333333335,13.5]
[null,null,"JOHN",115,128,0.47325102880658437,19]
[null,null,"LARRY",112,130,0.46280991735537191,21.5,null," "]
[null,null,"-----",0,190,0,"-----",null," "]
[null,null,"","","","","",null," "]
[null,null,"","","","",""]
[null,null,"","","","",""]
[]
[]
[]
[]
[]
[]
[]
[null,null,null,null,"CURRENT WEEK",null,null,null,null,null,null,"THIS WEEK"]
[null,null,"WEEK ENDING",null,"THIS WEEK","SEASON",null,null,null,null,null,"AL",null,"RANK"]
[null,null,"2021-05-16",null,"RANK","RANK",null,null,null,null,null,"HOUSTON",0.8571428571428571,1]
[null,null,"HOUSTON",0.8571428571428571,1,5,null,null,null,null,null,"TORONTO",0.83333333333333337,2]
[null,null,"TORONTO",0.83333333333333337,2,7,null,null,null,null,null,"CHICAGO A",0.7142857142857143,3]
[null,null,"SAN DIEGO",0.83333333333333337,2,5,null,null,null,null,null,"DETROIT",0.66666666666666663,4]
[null,null,"LOS ANGELES N",0.8,4,10,null,null,null,null,null,"NEW YORK A",0.66666666666666663,4]
[null,null,"CHICAGO A",0.7142857142857143,5,1,null,null,null,null,null,"OAKLAND",0.66666666666666663,4]
[null,null,"DETROIT",0.66666666666666663,6,29,null,null,null,null,null,"TAMPA BAY",0.66666666666666663,4]
[null,null,"NEW YORK A",0.66666666666666663,6,10,null,null,null,null,null,"CLEVELAND",0.5,8]
[null,null,"SAN FRANCISCO",0.66666666666666663,6,2,null,null,null,null,null,"SEATTLE",0.5,8]
[null,null,"OAKLAND",0.66666666666666663,6,3,null,null,null,null,null,"BOSTON",0.42857142857142855,10]
[null,null,"TAMPA BAY",0.66666666666666663,6,12,null,null,null,null,null,"BALTIMORE",0.33333333333333331,11]
[null,null,"CINCINNATI",0.5714285714285714,11,17,null,null,null,null,null,"LOS ANGELES A",0.33333333333333331,11]
[null,null,"CLEVELAND",0.5,12,9,null,null,null,null,null,"KANSAS CITY",0.2857142857142857,13]
[null,null,"PHILADELPHIA",0.5,12,14,null,null,null,null,null,"MINNESOTA",0.16666666666666666,14]
[null,null,"WASHINGTON",0.5,12,22,null,null,null,null,null,"TEXAS",0,15]
[null,null,"SEATTLE",0.5,12,14,null,null,null,null,null,"NL"]
[null,null,"COLORADO",0.42857142857142855,16,28,null,null,null,null,null,"SAN DIEGO",0.83333333333333337,1]
[null,null,"ARIZONA",0.42857142857142855,16,23,null,null,null,null,null,"LOS ANGELES N",0.8,2]
[null,null,"PITTSBURGH",0.42857142857142855,16,26,null,null,null,null,null,"SAN FRANCISCO",0.66666666666666663,3]
[null,null,"BOSTON",0.42857142857142855,16,3,null,null,null,null,null,"CINCINNATI",0.5714285714285714,4]
[null,null,"MIAMI",0.42857142857142855,16,20,null,null,null,null,null,"PHILADELPHIA",0.5,5]
[null,null,"NEW YORK N",0.4,21,13,null,null,null,null,null,"WASHINGTON",0.5,5]
[null,null,"CHICAGO N",0.4,21,18,null,null,null,null,null,"COLORADO",0.42857142857142855,7]
[null,null,"ST LOUIS",0.33333333333333331,23,8,null,null,null,null,null,"ARIZONA",0.42857142857142855,7]
[null,null,"ATLANTA",0.33333333333333331,23,19,null,null,null,null,null,"PITTSBURGH",0.42857142857142855,7]
[null,null,"MILWAUKEE",0.33333333333333331,23,14,null,null,null,null,null,"MIAMI",0.42857142857142855,7]
[null,null,"BALTIMORE",0.33333333333333331,23,26,null,null,null,null,null,"NEW YORK N",0.4,11]
[null,null,"LOS ANGELES A",0.33333333333333331,23,24,null,null,null,null,null,"CHICAGO N",0.4,11]
[null,null,"KANSAS CITY",0.2857142857142857,28,20,null,null,null,null,null,"ST LOUIS",0.33333333333333331,13]
[null,null,"MINNESOTA",0.16666666666666666,29,30,null,null,null,null,null,"ATLANTA",0.33333333333333331,13]
[null,null,"TEXAS",0,30,25,null,null,null,null,null,"MILWAUKEE",0.33333333333333331,13]
[]
[null,null,null,null,"SEASON TO DATE",null,null,null,null,null,null,"SEASON TO DATE"]
[null,null,null,null,null,null,null,null,null,null,null,"AL"]
[null,null,"SEASON TO-DATE",null,"RANK",null,null,null,null,null,null,"CHICAGO A",0.61538461538461542,1]
[null,null,"CHICAGO A",0.61538461538461542,1,null,null,null,null,null,null,"BOSTON",0.59523809523809523,2]
[null,null,"SAN FRANCISCO",0.6,2,null,null,null,null,null,null,"OAKLAND",0.59523809523809523,2]
[null,null,"BOSTON",0.59523809523809523,3,null,null,null,null,null,null,"HOUSTON",0.58536585365853655,4]
[null,null,"OAKLAND",0.59523809523809523,3,null,null,null,null,null,null,"TORONTO",0.5641025641025641,5]
[null,null,"SAN DIEGO",0.58536585365853655,5,null,null,null,null,null,null,"CLEVELAND",0.55263157894736847,6]
[null,null,"HOUSTON",0.58536585365853655,5,null,null,null,null,null,null,"NEW YORK A",0.55000000000000004,7]
[null,null,"TORONTO",0.5641025641025641,7,null,null,null,null,null,null,"TAMPA BAY",0.54761904761904767,8]
[null,null,"ST LOUIS",0.56097560975609762,8,null,null,null,null,null,null,"SEATTLE",0.51219512195121952,9]
[null,null,"CLEVELAND",0.55263157894736847,9,null,null,null,null,null,null,"KANSAS CITY",0.45,10]
[null,null,"NEW YORK A",0.55000000000000004,10,null,null,null,null,null,null,"LOS ANGELES A",0.4358974358974359,11]
[null,null,"LOS ANGELES N",0.55000000000000004,10,null,null,null,null,null,null,"TEXAS",0.42857142857142855,12]
[null,null,"TAMPA BAY",0.54761904761904767,12,null,null,null,null,null,null,"BALTIMORE",0.42499999999999999,13]
[null,null,"NEW YORK N",0.52941176470588236,13,null,null,null,null,null,null,"DETROIT",0.35,14]
[null,null,"PHILADELPHIA",0.51219512195121952,14,null,null,null,null,null,null,"MINNESOTA",0.34210526315789475,15]
[null,null,"MILWAUKEE",0.51219512195121952,14,null,null,null,null,null,null,"NL"]
[null,null,"SEATTLE",0.51219512195121952,14,null,null,null,null,null,null,"SAN FRANCISCO",0.6,1]
[null,null,"CINCINNATI",0.5,17,null,null,null,null,null,null,"SAN DIEGO",0.58536585365853655,2]
[null,null,"CHICAGO N",0.48717948717948717,18,null,null,null,null,null,null,"ST LOUIS",0.56097560975609762,3]
[null,null,"ATLANTA",0.47499999999999998,19,null,null,null,null,null,null,"LOS ANGELES N",0.55000000000000004,4]
[null,null,"KANSAS CITY",0.45,20,null,null,null,null,null,null,"NEW YORK N",0.52941176470588236,5]
[null,null,"MIAMI",0.45,20,null,null,null,null,null,null,"PHILADELPHIA",0.51219512195121952,6]
[null,null,"WASHINGTON",0.44444444444444442,22,null,null,null,null,null,null,"MILWAUKEE",0.51219512195121952,6]
[null,null,"ARIZONA",0.43902439024390244,23,null,null,null,null,null,null,"CINCINNATI",0.5,8]
[null,null,"LOS ANGELES A",0.4358974358974359,24,null,null,null,null,null,null,"CHICAGO N",0.48717948717948717,9]
[null,null,"TEXAS",0.42857142857142855,25,null,null,null,null,null,null,"ATLANTA",0.47499999999999998,10]
[null,null,"PITTSBURGH",0.42499999999999999,26,null,null,null,null,null,null,"MIAMI",0.45,11]
[null,null,"BALTIMORE",0.42499999999999999,26,null,null,null,null,null,null,"WASHINGTON",0.44444444444444442,12]
[null,null,"COLORADO",0.36585365853658536,28,null,null,null,null,null,null,"ARIZONA",0.43902439024390244,13]
[null,null,"DETROIT",0.35,29,null,null,null,null,null,null,"PITTSBURGH",0.42499999999999999,14]

{"sheet":"9-May","index":33,"n_rows":172,"n_cols":34,"rows_kept":172,"cut":false,"hidden":false,"merged":[[141,11,141,12],[142,2,142,3],[157,11,157,12],[108,2,108,3],[113,16,113,20],[123,11,123,12],[124,16,124,20],[140,4,140,5],[140,11,140,12],[94,9,94,13],[95,9,95,13],[102,16,102,20],[106,4,106,5],[107,2,107,3],[107,11,107,12],[50,16,50,17],[51,16,51,17],[56,2,56,6],[71,2,71,6],[85,2,85,3],[85,4,85,5],[37,22,37,25],[37,26,37,29],[37,30,37,33],[45,16,45,17],[46,16,46,17],[37,18,37,21],[47,16,47,17],[28,16,28,17],[29,16,29,17],[30,16,30,17],[33,16,33,17],[34,16,34,17],[20,30,20,33],[4,2,4,4],[4,6,4,9],[4,11,4,14],[11,16,11,17],[12,16,12,17],[13,16,13,17],[16,16,16,17],[17,16,17,17],[20,18,20,21],[20,22,20,25],[20,26,20,29],[1,16,1,33],[2,13,2,14],[3,18,3,21],[3,22,3,25],[3,26,3,29],[3,30,3,33]]}
[null,2021,"STANDINGS"]
[null,null,null,null,null,null,null,null,null,null,null,null,null,null,null,null,"CURRENT WEEK RESULTS"]
[null,"WEEK ENDING "," ","2021-05-09",null,null,null," ",null,null,null,"WEEK",5,"MAY",null," "]
[null,null,null,null,null,null,null,null,null,null,null,null,null,null,null,null,null,null,"MIKE",null,null,null,"JOHN",null,null,null,"LARRY",null,null,null,0]
[null,null,"CURRENT WEEK-SEASON TO DATE",null,null,null,"PREVIOUS WEEK-SEASON TO DATE",null,null,null,null,"CURRENT WEEK TOTALS",null,null,null,null,null,null,"RANK","W","L","PCT","RANK","W","L","PCT","RANK","W","L","PCT","RANK","W","L","PCT"]
[null,null,null,null,null,null,null,null,null,null,null,null,null,null,null,null,null,null,"Brewers",2,5,0.2857142857142857,"Padres",3,3,0.5,"Blue Jays",3,4,0.42857142857142855,0,{"$error":"#N/A"},{"$error":"#N/A"},{"$error":"#N/A"}]
[null,"American League",null,null,null,null,"AL EAST",null,null,null,"Times","AL EAST",null,null,null,null,null,null,"Giants",3,3,0.5,"Braves",5,1,0.83333333333333337,"Royals",0,7,0,0,{"$error":"#N/A"},{"$error":"#N/A"},{"$error":"#N/A"}]
[null,"East","W","L","PCT","Rank","TEAM","W","L","PCT","Picked","TEAM","W","L","PCT","Rank",null,null,"Mets",5,2,0.7142857142857143,"Brewers",2,5,0.2857142857142857,"Mariners",2,4,0.33333333333333331,0,{"$error":"#N/A"},{"$error":"#N/A"},{"$error":"#N/A"}]
[null,"Orioles",15,19,0.44117647058823528,5,"BALTIMORE",13,15,0.4642857142857143,0,"Orioles",2,4,0.33333333333333331,5,null,null,"White Sox",4,1,0.8,"Royals",0,7,0,"Mets",5,2,0.7142857142857143,0,{"$error":"#N/A"},{"$error":"#N/A"},{"$error":"#N/A"}]
[null,"Red Sox",22,13,0.62857142857142856,1,"BOSTON",17,12,0.58620689655172409,2,"Red Sox",5,1,0.83333333333333337,1,null,null,"Mariners",2,4,0.33333333333333331,"Rays",5,2,0.7142857142857143,"Brewers",2,5,0.2857142857142857,0,{"$error":"#N/A"},{"$error":"#N/A"},{"$error":"#N/A"}]
[null,"Yankees",18,16,0.52941176470588236,2,"NEW YORK",14,14,0.5,1,"Yankees",4,2,0.66666666666666663,3,null,null,"Blue Jays",3,4,0.42857142857142855,"Mariners",2,4,0.33333333333333331,"Giants",3,3,0.5,0,{"$error":"#N/A"},{"$error":"#N/A"},{"$error":"#N/A"}]
[null,"Rays",19,17,0.52777777777777779,3,"TAMPA BAY",14,15,0.48275862068965519,3,"Rays",5,2,0.7142857142857143,2,"WEEKLY TOTAL",null,null,19,19,0.5,null,17,22,0.4358974358974359,null,15,25,0.375,null,{"$error":"#N/A"},{"$error":"#N/A"},{"$error":"#N/A"}]
[null,"Blue Jays",17,16,0.51515151515151514,4,"TORONTO",14,12,0.53846153846153844,3,"Blue Jays",3,4,0.42857142857142855,4,"PREV WEEK TO DATE",null,"  ",86,83,0.50887573964497046,null,81,88,0.47928994082840237,null,79,88,0.47305389221556887,null,{"$error":"#N/A"},{"$error":"#N/A"},{"$error":"#N/A"}]
[null,null,null," ",null,null,null,null," ",null,null,null,null,null,null,null,"CUR TOTAL TO DATE",null,"  ",105,102,0.50724637681159424,null,98,110,0.47115384615384615,null,94,113,0.45410628019323673,null,{"$error":"#N/A"},{"$error":"#N/A"},{"$error":"#N/A"}]
[null,null,null," ",null,null,"AL CENTRAL",null," ",null,null,"AL CENTRAL"]
[null,"Central","W","L","PCT",null,"TEAM","W","L","PCT",null,"TEAM","W","L","PCT"]
[null,"White Sox",19,13,0.59375,1,"CHICAGO",15,12,0.55555555555555558,4,"White Sox",4,1,0.8,2,"SEASON TLT TO DATE",null,"  ",86,83,0.50887573964497046,null,81,88,0.47928994082840237,null,79,88,0.47305389221556887,null,{"$error":"#N/A"},{"$error":"#N/A"},{"$error":"#N/A"}]
[null,"Indians",18,14,0.5625,2,"CLEVELAND",13,13,0.5,1,"Indians",5,1,0.83333333333333337,1,"MAY TOTAL TO DATE",null,null,19,19,0.5,null,17,22,0.4358974358974359,null,15,25,0.375,null,{"$error":"#N/A"},{"$error":"#N/A"},{"$error":"#N/A"}]
[null,"Tigers",10,24,0.29411764705882354,5,"DETROIT",8,21,0.27586206896551724,1,"Tigers",2,3,0.4,3]
[null,"Royals",16,17,0.48484848484848486,3,"KANSAS CITY",16,10,0.61538461538461542,2,"Royals",0,7,0,5]
[null,"Twins",12,20,0.375,4,"MINNESOTA",10,16,0.38461538461538464,1,"Twins",2,4,0.33333333333333331,4,null,null,"JIM T.",null,null,null,"JEAN",null,null,null,"DIANE",null,null,null,0]
[null,null,null," ",null,null,null,null," ",null,null,null,null,null,null,null,null,null,"RANK","W","L","PCT","RANK","W","L","PCT","RANK","W","L","PCT","RANK","W","L","PCT"]
[null,null,null," ",null,null,"AL WEST",null," ",null,null,"AL WEST",null,null,null,null,null,null,"Athletics",4,3,0.5714285714285714,"Red Sox",5,1,0.83333333333333337,"Red Sox",5,1,0.83333333333333337,0,{"$error":"#N/A"},{"$error":"#N/A"},{"$error":"#N/A"}]
[null,"West","W","L","PCT",null,"TEAM","W","L","PCT",null,"TEAM","W","L","PCT",null,null,null,"Diamondbacks",0,6,0,"Cardinals",5,2,0.7142857142857143,"Dodgers",1,5,0.16666666666666666,0,{"$error":"#N/A"},{"$error":"#N/A"},{"$error":"#N/A"}]
[null,"Angels",15,18,0.45454545454545453,5,"LOS ANGELES",13,13,0.5,0,"Angels",2,5,0.2857142857142857,5,null,null,"Rays",5,2,0.7142857142857143,"Nationals",1,5,0.16666666666666666,"Phillies",5,2,0.7142857142857143,0,{"$error":"#N/A"},{"$error":"#N/A"},{"$error":"#N/A"}]
[null,"Athletics",21,15,0.58333333333333337,1,"OAKLAND",17,12,0.58620689655172409,2,"Athletics",4,3,0.5714285714285714,2,null,null,"White Sox",4,1,0.8,"Padres",3,3,0.5,"Mariners",2,4,0.33333333333333331,0,{"$error":"#N/A"},{"$error":"#N/A"},{"$error":"#N/A"}]
[null,"Mariners",18,17,0.51428571428571423,3,"SEATTLE",16,13,0.55172413793103448,6,"Mariners",2,4,0.33333333333333331,4,null,null,"Brewers",2,5,0.2857142857142857,"Astros",3,3,0.5,"Indians",5,1,0.83333333333333337,0,{"$error":"#N/A"},{"$error":"#N/A"},{"$error":"#N/A"}]
[null,"Rangers",18,18,0.5,4,"TEXAS",13,16,0.44827586206896552,0,"Rangers",5,2,0.7142857142857143,1,null,null,"Mets",5,2,0.7142857142857143,"Twins",2,4,0.33333333333333331,"Brewers",2,5,0.2857142857142857,0,{"$error":"#N/A"},{"$error":"#N/A"},{"$error":"#N/A"}]
[null,"Astros",18,16,0.52941176470588236,2,"HOUSTON",15,13,0.5357142857142857,1,"Astros",3,3,0.5,3,"WEEKLY TOTAL",null,null,20,19,0.51282051282051277,null,19,18,0.51351351351351349,null,20,18,0.52631578947368418,null,{"$error":"#N/A"},{"$error":"#N/A"},{"$error":"#N/A"}]
[null,null,null,null,null,null,null,null,null,null,null,null,null,null,null,null,"PREV WEEK TO DATE",null,null,84,83,0.50299401197604787,null,82,81,0.50306748466257667,null,90,78,0.5357142857142857,null,{"$error":"#N/A"},{"$error":"#N/A"},{"$error":"#N/A"}]
[null,"National League",null," ",null,null,"NL EAST",null," ",null,null,"NL EAST",null,null,null,null,"CUR TOTAL TO DATE",null,null,104,102,0.50485436893203883,null,101,99,0.505,null,110,96,0.53398058252427183,null,{"$error":"#N/A"},{"$error":"#N/A"},{"$error":"#N/A"}]
[null,"East","W","L","PCT",null,"TEAM","W","L","PCT",null,"TEAM","W","L","PCT"]
[null,"Braves",17,17,0.5,3,"ATLANTA",12,16,0.42857142857142855,1,"Braves",5,1,0.83333333333333337,1]
[null,"Marlins",15,18,0.45454545454545453,4,"Miami",11,16,0.40740740740740738,0,"Marlins",4,2,0.66666666666666663,4,"SEASON TLT TO DATE",null,null,84,83,0.50299401197604787,null,82,81,0.50306748466257667,null,90,78,0.5357142857142857,null,{"$error":"#N/A"},{"$error":"#N/A"},{"$error":"#N/A"}]
[null,"Mets",16,13,0.55172413793103448,1,"NEW YORK",11,11,0.5,5,"Mets",5,2,0.7142857142857143,2,"MAY TOTAL TO DATE",null,null,20,19,0.51282051282051277,null,19,18,0.51351351351351349,null,20,18,0.52631578947368418,null,{"$error":"#N/A"},{"$error":"#N/A"},{"$error":"#N/A"}]
[null,"Phillies",18,17,0.51428571428571423,2,"PHILADELPHIA",13,15,0.4642857142857143,2,"Phillies",5,2,0.7142857142857143,2]
[null,"Nationals",13,17,0.43333333333333335,5,"WASHINGTON",12,12,0.5,1,"Nationals",1,5,0.16666666666666666,5]
[null,null,null," ",null,null,null,null," ",null,null,null,null,null,null,null,null,null,"JIM K.",null,null,null,"TIM",null,null,null,"-----",null,null,null,0]
[null,null,null," ",null,null,"NL CENTRAL",null," ",null,null,"NL CENTRAL",null,null,null,null,null,null,"RANK","W","L","PCT","RANK","W","L","PCT","RANK","W","L","PCT","RANK","W","L","PCT"]
[null,"Central","W","L","PCT",null,"TEAM","W","L","PCT",null,"TEAM","W","L","PCT",null,null,null,"Mariners",2,4,0.33333333333333331,"Giants",3,3,0.5,null,null,null,null,0,{"$error":"#N/A"},{"$error":"#N/A"},{"$error":"#N/A"}]
[null,"Cubs",17,17,0.5,3,"CHICAGO",12,16,0.42857142857142855,0,"Cubs",5,1,0.83333333333333337,1,null,null,"Blue Jays",3,4,0.42857142857142855,"Phillies",5,2,0.7142857142857143,null,null,null,null,0,{"$error":"#N/A"},{"$error":"#N/A"},{"$error":"#N/A"}]
[null,"Reds",15,16,0.4838709677419355,4,"CINCINNATI",13,14,0.48148148148148145,0,"Reds",2,2,0.5,3,null,null,"Tigers",2,3,0.4,"Rays",5,2,0.7142857142857143,null,null,null,null,0,{"$error":"#N/A"},{"$error":"#N/A"},{"$error":"#N/A"}]
[null,"Brewers",19,16,0.54285714285714282,2,"MILWAUKEE",17,11,0.6071428571428571,5,"Brewers",2,5,0.2857142857142857,5,null,null,"Pirates",2,4,0.33333333333333331,"Cardinals",5,2,0.7142857142857143,null,null,null,null,0,{"$error":"#N/A"},{"$error":"#N/A"},{"$error":"#N/A"}]
[null,"Pirates",14,19,0.42424242424242425,5,"PITTSBURGH",12,15,0.44444444444444442,2,"Pirates",2,4,0.33333333333333331,4,null,null,"Padres",3,3,0.5,"White Sox",4,1,0.8,null,null,null,null,0,{"$error":"#N/A"},{"$error":"#N/A"},{"$error":"#N/A"}]
[null,"Cardinals",21,14,0.6,1,"ST LOUIS",16,12,0.5714285714285714,2,"Cardinals",5,2,0.7142857142857143,2,null,null,"Mets",5,2,0.7142857142857143,"Mariners",2,4,0.33333333333333331,null,null,null,null,0,{"$error":"#N/A"},{"$error":"#N/A"},{"$error":"#N/A"}]
[null,null,null," ",null,null,null,null," ",null,null,null,null,null,null,null,"WEEKLY TOTAL",null,null,17,20,0.45945945945945948,null,24,14,0.63157894736842102,null,0,30,"",null,{"$error":"#N/A"},{"$error":"#N/A"},{"$error":"#N/A"}]
[null,null,null," ",null,null,"NL WEST",null," ",null,null,"NL WEST",null,null,null,null,"PREV WEEK TO DATE",null,null,80,87,0.47904191616766467,null,89,79,0.52976190476190477,null,0,130,"",null,{"$error":"#N/A"},{"$error":"#N/A"},{"$error":"#N/A"}]
[null,"West","W","L","PCT",null,"TEAM","W","L","PCT",null,"TEAM","W","L","PCT",null,"CUR TOTAL TO DATE",null,null,97,107,0.47549019607843135,null,113,93,0.54854368932038833,null,0,160,"",null,{"$error":"#N/A"},{"$error":"#N/A"},{"$error":"#N/A"}]
[null,"Diamondbacks",15,19,0.44117647058823528,4,"ARIZONA",15,13,0.5357142857142857,1,"Diamondbacks",0,6,0,5]
[null,"Rockies",12,22,0.35294117647058826,5,"COLORADO",10,18,0.35714285714285715,0,"Rockies",2,4,0.33333333333333331,3]
[null,"Dodgers",18,17,0.51428571428571423,3,"LOS ANGELES",17,12,0.58620689655172409,1,"Dodgers",1,5,0.16666666666666666,4,"SEASON TLT TO DATE",null,null,80,87,0.47904191616766467,null,89,79,0.52976190476190477,null,0,130,"",null,{"$error":"#N/A"},{"$error":"#N/A"},{"$error":"#N/A"}]
[null,"Padres",19,16,0.54285714285714282,2,"SAN DIEGO",16,13,0.55172413793103448,4,"Padres",3,3,0.5,1,"MAY TOTAL TO DATE",null,null,17,20,0.45945945945945948,null,24,14,0.63157894736842102,null,0,30,"",null,{"$error":"#N/A"},{"$error":"#N/A"},{"$error":"#N/A"}]
[null,"Giants",20,14,0.58823529411764708,1,"SAN FRANCISCO",17,11,0.6071428571428571,3,"Giants",3,3,0.5,1]
[null,null,null,null,null,null,null,null,null,null,null,null,93,93]
[null,null,null,"2021-05-10"," Morning"]
[]
[null,null,"WEEK 5"]
[null," ","NAME","W","L","PCT","GB"]
[null,null,"TIM",24,14,0.63157894736842102,0]
[null," ","DIANE",20,18,0.52631578947368418,4]
[null," ","JEAN",19,18,0.51351351351351349,4.5]
[null," ","JIM T.",20,19,0.51282051282051277,4.5]
[null," ","MIKE",19,19,0.5,5]
[null,null,"JIM K.",17,20,0.45945945945945948,6.5]
[null,null,"JOHN",17,22,0.4358974358974359,7.5]
[null,null,"LARRY",15,25,0.375,10]
[null,null,"-----",0,30,0,"-----"]
[null,null,"","","","",""]
[null,null,"","","","",""]
[null,null,"","","","",""]
[]
[null,null,"MONTH OF  MAY"]
[null,null,"NAME","W","L","PCT","GB"]
[null,null,"TIM",24,14,0.63157894736842102,0]
[null,null,"DIANE",20,18,0.52631578947368418,4]
[null,null,"JEAN",19,18,0.51351351351351349,4.5]
[null,null,"JIM T.",20,19,0.51282051282051277,4.5]
[null,null,"MIKE",19,19,0.5,5]
[null,null,"JIM K.",17,20,0.45945945945945948,6.5]
[null,null,"JOHN",17,22,0.4358974358974359,7.5]
[null,null,"LARRY",15,25,0.375,10]
[null,null,"-----",0,30,0,"-----"]
[null,null,"","","","",""]
[null,null,"","","","",""]
[null,null,"","","","",""]
[null,null,2021,null,"SEASON"]
[null,null,"NAME","W","L","PCT","GB"]
[null,null,"TIM",113,93,0.54854368932038833,0]
[null,null,"DIANE",110,96,0.53398058252427183,3]
[null,null,"MIKE",105,102,0.50724637681159424,8.5]
[null,null,"JEAN",101,99,0.505,9]
[null,null,"JIM T.",104,102,0.50485436893203883,9]
[null,null,"JIM K.",97,107,0.47549019607843135,15]
[null,null,"JOHN",98,110,0.47115384615384615,16]
[null,null,"LARRY",94,113,0.45410628019323673,19.5,null," "]
[null,null,"-----",0,160,0,"-----",null," "]
[null,null,"","","","","",null," "]
[null,null,"","","","",""]
[null,null,"","","","",""]
[]
[]
[]
[]
[]
[]
[]
[null,null,null,null,"CURRENT WEEK",null,null,null,null,null,null,"THIS WEEK"]
[null,null,"WEEK ENDING",null,"THIS WEEK","SEASON",null,null,null,null,null,"AL",null,"RANK"]
[null,null,"2021-05-09",null,"RANK","RANK",null,null,null,null,null,"CLEVELAND",0.83333333333333337,1]
[null,null,"CHICAGO N",0.83333333333333337,1,17,null,null,null,null,null,"BOSTON",0.83333333333333337,1]
[null,null,"CLEVELAND",0.83333333333333337,1,6,null,null,null,null,null,"CHICAGO A",0.8,3]
[null,null,"ATLANTA",0.83333333333333337,1,17,null,null,null,null,null,"TAMPA BAY",0.7142857142857143,4]
[null,null,"BOSTON",0.83333333333333337,1,1,null,null,null,null,null,"TEXAS",0.7142857142857143,4]
[null,null,"CHICAGO A",0.8,5,3,null,null,null,null,null,"NEW YORK A",0.66666666666666663,6]
[null,null,"PHILADELPHIA",0.7142857142857143,6,14,null,null,null,null,null,"OAKLAND",0.5714285714285714,7]
[null,null,"TAMPA BAY",0.7142857142857143,6,12,null,null,null,null,null,"HOUSTON",0.5,8]
[null,null,"TEXAS",0.7142857142857143,6,17,null,null,null,null,null,"TORONTO",0.42857142857142855,9]
[null,null,"ST LOUIS",0.7142857142857143,6,2,null,null,null,null,null,"DETROIT",0.4,10]
[null,null,"NEW YORK N",0.7142857142857143,6,7,null,null,null,null,null,"BALTIMORE",0.33333333333333331,11]
[null,null,"MIAMI",0.66666666666666663,11,22,null,null,null,null,null,"SEATTLE",0.33333333333333331,11]
[null,null,"NEW YORK A",0.66666666666666663,11,10,null,null,null,null,null,"MINNESOTA",0.33333333333333331,11]
[null,null,"OAKLAND",0.5714285714285714,13,5,null,null,null,null,null,"LOS ANGELES A",0.2857142857142857,14]
[null,null,"SAN FRANCISCO",0.5,14,4,null,null,null,null,null,"KANSAS CITY",0,15]
[null,null,"CINCINNATI",0.5,14,21,null,null,null,null,null,"NL"]
[null,null,"SAN DIEGO",0.5,14,8,null,null,null,null,null,"CHICAGO N",0.83333333333333337,1]
[null,null,"HOUSTON",0.5,14,10,null,null,null,null,null,"ATLANTA",0.83333333333333337,1]
[null,null,"TORONTO",0.42857142857142855,18,13,null,null,null,null,null,"PHILADELPHIA",0.7142857142857143,3]
[null,null,"DETROIT",0.4,19,30,null,null,null,null,null,"ST LOUIS",0.7142857142857143,3]
[null,null,"COLORADO",0.33333333333333331,20,29,null,null,null,null,null,"NEW YORK N",0.7142857142857143,3]
[null,null,"BALTIMORE",0.33333333333333331,20,24,null,null,null,null,null,"MIAMI",0.66666666666666663,6]
[null,null,"SEATTLE",0.33333333333333331,20,14,null,null,null,null,null,"SAN FRANCISCO",0.5,7]
[null,null,"MINNESOTA",0.33333333333333331,20,28,null,null,null,null,null,"CINCINNATI",0.5,7]
[null,null,"PITTSBURGH",0.33333333333333331,20,27,null,null,null,null,null,"SAN DIEGO",0.5,7]
[null,null,"MILWAUKEE",0.2857142857142857,25,8,null,null,null,null,null,"COLORADO",0.33333333333333331,10]
[null,null,"LOS ANGELES A",0.2857142857142857,25,22,null,null,null,null,null,"PITTSBURGH",0.33333333333333331,10]
[null,null,"WASHINGTON",0.16666666666666666,27,26,null,null,null,null,null,"MILWAUKEE",0.2857142857142857,12]
[null,null,"LOS ANGELES N",0.16666666666666666,27,14,null,null,null,null,null,"WASHINGTON",0.16666666666666666,13]
[null,null,"ARIZONA",0,29,24,null,null,null,null,null,"LOS ANGELES N",0.16666666666666666,13]
[null,null,"KANSAS CITY",0,29,20,null,null,null,null,null,"ARIZONA",0,15]
[]
[null,null,null,null,"SEASON TO DATE",null,null,null,null,null,null,"SEASON TO DATE"]
[null,null,null,null,null,null,null,null,null,null,null,"AL"]
[null,null,"SEASON TO-DATE",null,"RANK",null,null,null,null,null,null,"BOSTON",0.62857142857142856,1]
[null,null,"BOSTON",0.62857142857142856,1,null,null,null,null,null,null,"CHICAGO A",0.59375,2]
[null,null,"ST LOUIS",0.6,2,null,null,null,null,null,null,"OAKLAND",0.58333333333333337,3]
[null,null,"CHICAGO A",0.59375,3,null,null,null,null,null,null,"CLEVELAND",0.5625,4]
[null,null,"SAN FRANCISCO",0.58823529411764708,4,null,null,null,null,null,null,"NEW YORK A",0.52941176470588236,5]
[null,null,"OAKLAND",0.58333333333333337,5,null,null,null,null,null,null,"HOUSTON",0.52941176470588236,5]
[null,null,"CLEVELAND",0.5625,6,null,null,null,null,null,null,"TAMPA BAY",0.52777777777777779,7]
[null,null,"NEW YORK N",0.55172413793103448,7,null,null,null,null,null,null,"TORONTO",0.51515151515151514,8]
[null,null,"SAN DIEGO",0.54285714285714282,8,null,null,null,null,null,null,"SEATTLE",0.51428571428571423,9]
[null,null,"MILWAUKEE",0.54285714285714282,8,null,null,null,null,null,null,"TEXAS",0.5,10]
[null,null,"NEW YORK A",0.52941176470588236,10,null,null,null,null,null,null,"KANSAS CITY",0.48484848484848486,11]
[null,null,"HOUSTON",0.52941176470588236,10,null,null,null,null,null,null,"LOS ANGELES A",0.45454545454545453,12]
[null,null,"TAMPA BAY",0.52777777777777779,12,null,null,null,null,null,null,"BALTIMORE",0.44117647058823528,13]
[null,null,"TORONTO",0.51515151515151514,13,null,null,null,null,null,null,"MINNESOTA",0.375,14]
[null,null,"LOS ANGELES N",0.51428571428571423,14,null,null,null,null,null,null,"DETROIT",0.29411764705882354,15]
[null,null,"SEATTLE",0.51428571428571423,14,null,null,null,null,null,null,"NL"]
[null,null,"PHILADELPHIA",0.51428571428571423,14,null,null,null,null,null,null,"ST LOUIS",0.6,1]
[null,null,"CHICAGO N",0.5,17,null,null,null,null,null,null,"SAN FRANCISCO",0.58823529411764708,2]
[null,null,"TEXAS",0.5,17,null,null,null,null,null,null,"NEW YORK N",0.55172413793103448,3]
[null,null,"ATLANTA",0.5,17,null,null,null,null,null,null,"SAN DIEGO",0.54285714285714282,4]
[null,null,"KANSAS CITY",0.48484848484848486,20,null,null,null,null,null,null,"MILWAUKEE",0.54285714285714282,4]
[null,null,"CINCINNATI",0.4838709677419355,21,null,null,null,null,null,null,"LOS ANGELES N",0.51428571428571423,6]
[null,null,"MIAMI",0.45454545454545453,22,null,null,null,null,null,null,"PHILADELPHIA",0.51428571428571423,6]
[null,null,"LOS ANGELES A",0.45454545454545453,22,null,null,null,null,null,null,"CHICAGO N",0.5,8]
[null,null,"ARIZONA",0.44117647058823528,24,null,null,null,null,null,null,"ATLANTA",0.5,8]
[null,null,"BALTIMORE",0.44117647058823528,24,null,null,null,null,null,null,"CINCINNATI",0.4838709677419355,10]
[null,null,"WASHINGTON",0.43333333333333335,26,null,null,null,null,null,null,"MIAMI",0.45454545454545453,11]
[null,null,"PITTSBURGH",0.42424242424242425,27,null,null,null,null,null,null,"ARIZONA",0.44117647058823528,12]
[null,null,"MINNESOTA",0.375,28,null,null,null,null,null,null,"WASHINGTON",0.43333333333333335,13]
[null,null,"COLORADO",0.35294117647058826,29,null,null,null,null,null,null,"PITTSBURGH",0.42424242424242425,14]

{"sheet":"2-May","index":34,"n_rows":172,"n_cols":34,"rows_kept":172,"cut":false,"hidden":false,"merged":[[1,16,1,33],[2,13,2,14],[3,18,3,21],[3,22,3,25],[3,26,3,29],[3,30,3,33],[20,30,20,33],[4,2,4,4],[4,6,4,9],[4,11,4,14],[11,16,11,17],[12,16,12,17],[13,16,13,17],[16,16,16,17],[17,16,17,17],[20,18,20,21],[20,22,20,25],[20,26,20,29],[47,16,47,17],[28,16,28,17],[29,16,29,17],[30,16,30,17],[33,16,33,17],[34,16,34,17],[37,22,37,25],[37,26,37,29],[37,30,37,33],[45,16,45,17],[46,16,46,17],[37,18,37,21],[50,16,50,17],[51,16,51,17],[56,2,56,6],[71,2,71,6],[85,2,85,3],[85,4,85,5],[94,9,94,13],[95,9,95,13],[102,16,102,20],[106,4,106,5],[107,2,107,3],[107,11,107,12],[141,11,141,12],[142,2,142,3],[157,11,157,12],[108,2,108,3],[113,16,113,20],[123,11,123,12],[124,16,124,20],[140,4,140,5],[140,11,140,12]]}
[null,2021,"STANDINGS"]
[null,null,null,null,null,null,null,null,null,null,null,null,null,null,null,null,"CURRENT WEEK RESULTS"]
[null,"WEEK ENDING "," ","2021-05-02",null,null,null," ",null,null,null,"WEEK",4,"MAY",null," "]
[null,null,null,null,null,null,null,null,null,null,null,null,null,null,null,null,null,null,"MIKE",null,null,null,"JOHN",null,null,null,"LARRY",null,null,null,0]
[null,null,"CURRENT WEEK-SEASON TO DATE",null,null,null,"PREVIOUS WEEK-SEASON TO DATE",null,null,null,null,"CURRENT WEEK TOTALS",null,null,null,null,null,null,"RANK","W","L","PCT","RANK","W","L","PCT","RANK","W","L","PCT","RANK","W","L","PCT"]
[null,null,null,null,null,null,null,null,null,null,null,null,null,null,null,null,null,null,"Dodgers",2,5,0.2857142857142857,"Dodgers",2,5,0.2857142857142857,"Red Sox",3,3,0.5,0,{"$error":"#N/A"},{"$error":"#N/A"},{"$error":"#N/A"}]
[null,"American League",null,null,null,null,"AL EAST",null,null,null,"Times","AL EAST",null,null,null,null,null,null,"Rays",3,4,0.42857142857142855,"Red Sox",3,3,0.5,"Royals",3,3,0.5,0,{"$error":"#N/A"},{"$error":"#N/A"},{"$error":"#N/A"}]
[null,"East","W","L","PCT","Rank","TEAM","W","L","PCT","Picked","TEAM","W","L","PCT","Rank",null,null,"Athletics",3,4,0.42857142857142855,"Royals",3,3,0.5,"Giants",3,3,0.5,0,{"$error":"#N/A"},{"$error":"#N/A"},{"$error":"#N/A"}]
[null,"Orioles",13,15,0.4642857142857143,5,"BALTIMORE",9,12,0.42857142857142855,0,"Orioles",4,3,0.5714285714285714,3,null,null,"Cubs",2,5,0.2857142857142857,"Brewers",4,3,0.5714285714285714,"Cubs",2,5,0.2857142857142857,0,{"$error":"#N/A"},{"$error":"#N/A"},{"$error":"#N/A"}]
[null,"Red Sox",17,12,0.58620689655172409,1,"BOSTON",14,9,0.60869565217391308,3,"Red Sox",3,3,0.5,4,null,null,"Marlins",2,4,0.33333333333333331,"Braves",3,4,0.42857142857142855,"Athletics",3,4,0.42857142857142855,0,{"$error":"#N/A"},{"$error":"#N/A"},{"$error":"#N/A"}]
[null,"Yankees",14,14,0.5,3,"NEW YORK",9,12,0.42857142857142855,2,"Yankees",5,2,0.7142857142857143,2,null,null,"White Sox",3,3,0.5,"Angels",3,3,0.5,"Mets",2,3,0.4,0,{"$error":"#N/A"},{"$error":"#N/A"},{"$error":"#N/A"}]
[null,"Rays",14,15,0.48275862068965519,4,"TAMPA BAY",11,11,0.5,3,"Rays",3,4,0.42857142857142855,5,"WEEKLY TOTAL",null,null,15,25,0.375,null,18,21,0.46153846153846156,null,16,21,0.43243243243243246,null,{"$error":"#N/A"},{"$error":"#N/A"},{"$error":"#N/A"}]
[null,"Blue Jays",14,12,0.53846153846153844,2,"TORONTO",10,11,0.47619047619047616,0,"Blue Jays",4,1,0.8,1,"PREV WEEK TO DATE",null,"  ",71,58,0.55038759689922478,null,63,67,0.48461538461538461,null,63,67,0.48461538461538461,null,{"$error":"#N/A"},{"$error":"#N/A"},{"$error":"#N/A"}]
[null,null,null," ",null,null,null,null," ",null,null,null,null,null,null,null,"CUR TOTAL TO DATE",null,"  ",86,83,0.50887573964497046,null,81,88,0.47928994082840237,null,79,88,0.47305389221556887,null,{"$error":"#N/A"},{"$error":"#N/A"},{"$error":"#N/A"}]
[null,null,null," ",null,null,"AL CENTRAL",null," ",null,null,"AL CENTRAL"]
[null,"Central","W","L","PCT",null,"TEAM","W","L","PCT",null,"TEAM","W","L","PCT"]
[null,"White Sox",15,12,0.55555555555555558,2,"CHICAGO",12,9,0.5714285714285714,2,"White Sox",3,3,0.5,2,"SEASON TLT TO DATE",null,"  ",null,null,null,null,null,null,null,null,null,null,null,null,{"$error":"#N/A"},{"$error":"#N/A"},{"$error":"#N/A"}]
[null,"Indians",13,13,0.5,3,"CLEVELAND",9,11,0.45,2,"Indians",4,2,0.66666666666666663,1,"MAY TOTAL TO DATE",null,null,86,83,0.50887573964497046,null,81,88,0.47928994082840237,null,79,88,0.47305389221556887,null,{"$error":"#N/A"},{"$error":"#N/A"},{"$error":"#N/A"}]
[null,"Tigers",8,21,0.27586206896551724,5,"DETROIT",7,15,0.31818181818181818,0,"Tigers",1,6,0.14285714285714285,5]
[null,"Royals",16,10,0.61538461538461542,1,"KANSAS CITY",13,7,0.65,3,"Royals",3,3,0.5,2]
[null,"Twins",10,16,0.38461538461538464,4,"MINNESOTA",7,13,0.35,1,"Twins",3,3,0.5,2,null,null,"JIM T.",null,null,null,"JEAN",null,null,null,"DIANE",null,null,null,0]
[null,null,null," ",null,null,null,null," ",null,null,null,null,null,null,null,null,null,"RANK","W","L","PCT","RANK","W","L","PCT","RANK","W","L","PCT","RANK","W","L","PCT"]
[null,null,null," ",null,null,"AL WEST",null," ",null,null,"AL WEST",null,null,null,null,null,null,"Athletics",3,4,0.42857142857142855,"Cubs",2,5,0.2857142857142857,"Dodgers",2,5,0.2857142857142857,0,{"$error":"#N/A"},{"$error":"#N/A"},{"$error":"#N/A"}]
[null,"West","W","L","PCT",null,"TEAM","W","L","PCT",null,"TEAM","W","L","PCT",null,null,null,"Indians",4,2,0.66666666666666663,"Rays",3,4,0.42857142857142855,"Athletics",3,4,0.42857142857142855,0,{"$error":"#N/A"},{"$error":"#N/A"},{"$error":"#N/A"}]
[null,"Angels",13,13,0.5,4,"LOS ANGELES",10,10,0.5,1,"Angels",3,3,0.5,3,null,null,"Diamondbacks",4,2,0.66666666666666663,"Indians",4,2,0.66666666666666663,"Red Sox",3,3,0.5,0,{"$error":"#N/A"},{"$error":"#N/A"},{"$error":"#N/A"}]
[null,"Athletics",17,12,0.58620689655172409,1,"OAKLAND",14,8,0.63636363636363635,5,"Athletics",3,4,0.42857142857142855,4,null,null,"Phillies",3,4,0.42857142857142855,"Athletics",3,4,0.42857142857142855,"Phillies",3,4,0.42857142857142855,0,{"$error":"#N/A"},{"$error":"#N/A"},{"$error":"#N/A"}]
[null,"Mariners",16,13,0.55172413793103448,2,"SEATTLE",13,9,0.59090909090909094,0,"Mariners",3,4,0.42857142857142855,4,null,null,"Cubs",2,5,0.2857142857142857,"Mets",2,3,0.4,"Royals",3,3,0.5,0,{"$error":"#N/A"},{"$error":"#N/A"},{"$error":"#N/A"}]
[null,"Rangers",13,16,0.44827586206896552,5,"TEXAS",9,13,0.40909090909090912,0,"Rangers",4,3,0.5714285714285714,2,null,null,"Yankees",5,2,0.7142857142857143,"Dodgers",2,5,0.2857142857142857,"Cardinals",5,2,0.7142857142857143,0,{"$error":"#N/A"},{"$error":"#N/A"},{"$error":"#N/A"}]
[null,"Astros",15,13,0.5357142857142857,3,"HOUSTON",10,11,0.47619047619047616,2,"Astros",5,2,0.7142857142857143,1,"WEEKLY TOTAL",null,null,21,19,0.52500000000000002,null,16,23,0.41025641025641024,null,19,21,0.47499999999999998,null,{"$error":"#N/A"},{"$error":"#N/A"},{"$error":"#N/A"}]
[null,null,null,null,null,null,null,null,null,null,null,null,null,null,null,null,"PREV WEEK TO DATE",null,null,63,64,0.49606299212598426,null,66,58,0.532258064516129,null,71,57,0.5546875,null,{"$error":"#N/A"},{"$error":"#N/A"},{"$error":"#N/A"}]
[null,"National League",null," ",null,null,"NL EAST",null," ",null,null,"NL EAST",null,null,null,null,"CUR TOTAL TO DATE",null,null,84,83,0.50299401197604787,null,82,81,0.50306748466257667,null,90,78,0.5357142857142857,null,{"$error":"#N/A"},{"$error":"#N/A"},{"$error":"#N/A"}]
[null,"East","W","L","PCT",null,"TEAM","W","L","PCT",null,"TEAM","W","L","PCT"]
[null,"Braves",12,16,0.42857142857142855,4,"ATLANTA",9,12,0.42857142857142855,3,"Braves",3,4,0.42857142857142855,2]
[null,"Marlins",11,16,0.40740740740740738,5,"Miami",9,12,0.42857142857142855,1,"Marlins",2,4,0.33333333333333331,5,"SEASON TLT TO DATE",null,null,null,null,null,null,null,null,null,null,null,null,null,null,{"$error":"#N/A"},{"$error":"#N/A"},{"$error":"#N/A"}]
[null,"Mets",11,11,0.5,1,"NEW YORK",9,8,0.52941176470588236,2,"Mets",2,3,0.4,4,"MAY TOTAL TO DATE",null,null,84,83,0.50299401197604787,null,82,81,0.50306748466257667,null,90,78,0.5357142857142857,null,{"$error":"#N/A"},{"$error":"#N/A"},{"$error":"#N/A"}]
[null,"Phillies",13,15,0.4642857142857143,3,"PHILADELPHIA",10,11,0.47619047619047616,2,"Phillies",3,4,0.42857142857142855,2]
[null,"Nationals",12,12,0.5,1,"WASHINGTON",8,11,0.42105263157894735,0,"Nationals",4,1,0.8,1]
[null,null,null," ",null,null,null,null," ",null,null,null,null,null,null,null,null,null,"JIM K.",null,null,null,"TIM",null,null,null,"-----",null,null,null,0]
[null,null,null," ",null,null,"NL CENTRAL",null," ",null,null,"NL CENTRAL",null,null,null,null,null,null,"RANK","W","L","PCT","RANK","W","L","PCT","RANK","W","L","PCT","RANK","W","L","PCT"]
[null,"Central","W","L","PCT",null,"TEAM","W","L","PCT",null,"TEAM","W","L","PCT",null,null,null,"Astros",5,2,0.7142857142857143,"Dodgers",2,5,0.2857142857142857,null,null,null,null,0,{"$error":"#N/A"},{"$error":"#N/A"},{"$error":"#N/A"}]
[null,"Cubs",12,16,0.42857142857142855,5,"CHICAGO",10,11,0.47619047619047616,5,"Cubs",2,5,0.2857142857142857,4,null,null,"Rays",3,4,0.42857142857142855,"Braves",3,4,0.42857142857142855,null,null,null,null,0,{"$error":"#N/A"},{"$error":"#N/A"},{"$error":"#N/A"}]
[null,"Reds",13,14,0.48148148148148145,3,"CINCINNATI",9,12,0.42857142857142855,0,"Reds",4,2,0.66666666666666663,2,null,null,"Twins",3,3,0.5,"Yankees",5,2,0.7142857142857143,null,null,null,null,0,{"$error":"#N/A"},{"$error":"#N/A"},{"$error":"#N/A"}]
[null,"Brewers",17,11,0.6071428571428571,1,"MILWAUKEE",13,8,0.61904761904761907,1,"Brewers",4,3,0.5714285714285714,3,null,null,"Cubs",2,5,0.2857142857142857,"Cardinals",5,2,0.7142857142857143,null,null,null,null,0,{"$error":"#N/A"},{"$error":"#N/A"},{"$error":"#N/A"}]
[null,"Pirates",12,15,0.44444444444444442,4,"PITTSBURGH",11,11,0.5,0,"Pirates",1,4,0.2,5,null,null,"Braves",3,4,0.42857142857142855,"White Sox",3,3,0.5,null,null,null,null,0,{"$error":"#N/A"},{"$error":"#N/A"},{"$error":"#N/A"}]
[null,"Cardinals",16,12,0.5714285714285714,2,"ST LOUIS",11,10,0.52380952380952384,2,"Cardinals",5,2,0.7142857142857143,1,null,null,"Giants",3,3,0.5,"Astros",5,2,0.7142857142857143,null,null,null,null,0,{"$error":"#N/A"},{"$error":"#N/A"},{"$error":"#N/A"}]
[null,null,null," ",null,null,null,null," ",null,null,null,null,null,null,null,"WEEKLY TOTAL",null,null,19,21,0.47499999999999998,null,23,18,0.56097560975609762,null,0,30,"",null,{"$error":"#N/A"},{"$error":"#N/A"},{"$error":"#N/A"}]
[null,null,null," ",null,null,"NL WEST",null," ",null,null,"NL WEST",null,null,null,null,"PREV WEEK TO DATE",null,null,61,66,0.48031496062992124,null,66,61,0.51968503937007871,null,0,100,"",null,{"$error":"#N/A"},{"$error":"#N/A"},{"$error":"#N/A"}]
[null,"West","W","L","PCT",null,"TEAM","W","L","PCT",null,"TEAM","W","L","PCT",null,"CUR TOTAL TO DATE",null,null,80,87,0.47904191616766467,null,89,79,0.52976190476190477,null,0,130,"",null,{"$error":"#N/A"},{"$error":"#N/A"},{"$error":"#N/A"}]
[null,"Diamondbacks",15,13,0.5357142857142857,4,"ARIZONA",11,11,0.5,1,"Diamondbacks",4,2,0.66666666666666663,1]
[null,"Rockies",10,18,0.35714285714285715,5,"COLORADO",8,13,0.38095238095238093,0,"Rockies",2,5,0.2857142857142857,4]
[null,"Dodgers",17,12,0.58620689655172409,2,"LOS ANGELES",15,7,0.68181818181818177,5,"Dodgers",2,5,0.2857142857142857,4,"SEASON TLT TO DATE",null,null,null,null,null,null,null,null,null,null,null,null,null,null,{"$error":"#N/A"},{"$error":"#N/A"},{"$error":"#N/A"}]
[null,"Padres",16,13,0.55172413793103448,3,"SAN DIEGO",13,11,0.54166666666666663,0,"Padres",3,2,0.6,2,"MAY TOTAL TO DATE",null,null,80,87,0.47904191616766467,null,89,79,0.52976190476190477,null,0,130,"",null,{"$error":"#N/A"},{"$error":"#N/A"},{"$error":"#N/A"}]
[null,"Giants",17,11,0.6071428571428571,1,"SAN FRANCISCO",14,8,0.63636363636363635,2,"Giants",3,3,0.5,3]
[null,null,null,null,null,null,null,null,null,null,null,null,95,95]
[null,null,null,"2021-05-04"," Morning"]
[]
[null,null,"WEEK 4"]
[null," ","NAME","W","L","PCT","GB"]
[null,null,"TIM",23,18,0.56097560975609762,0]
[null," ","JIM T.",21,19,0.52500000000000002,1.5]
[null," ","JIM K.",19,21,0.47499999999999998,3.5]
[null," ","DIANE",19,21,0.47499999999999998,3.5]
[null," ","JOHN",18,21,0.46153846153846156,4]
[null,null,"LARRY",16,21,0.43243243243243246,5]
[null,null,"JEAN",16,23,0.41025641025641024,6]
[null,null,"MIKE",15,25,0.375,7.5]
[null,null,"-----",0,30,0,"-----"]
[null,null,"","","","",""]
[null,null,"","","","",""]
[null,null,"","","","",""]
[]
[null,null,"MONTH OF  MAY"]
[null,null,"NAME","W","L","PCT","GB"]
[null,null,"DIANE",90,78,0.5357142857142857,0]
[null,null,"TIM",89,79,0.52976190476190477,1]
[null,null,"MIKE",86,83,0.50887573964497046,4.5]
[null,null,"JEAN",82,81,0.50306748466257667,5.5]
[null,null,"JIM T.",84,83,0.50299401197604787,5.5]
[null,null,"JOHN",81,88,0.47928994082840237,9.5]
[null,null,"JIM K.",80,87,0.47904191616766467,9.5]
[null,null,"LARRY",79,88,0.47305389221556887,10.5]
[null,null,"-----",0,130,0,"-----"]
[null,null,"","","","",""]
[null,null,"","","","",""]
[null,null,"","","","",""]
[null,null,2021,null,"SEASON"]
[null,null,"NAME","W","L","PCT","GB"]
[null,null,"DIANE",90,78,0.5357142857142857,0]
[null,null,"TIM",89,79,0.52976190476190477,1]
[null,null,"MIKE",86,83,0.50887573964497046,4.5]
[null,null,"JEAN",82,81,0.50306748466257667,5.5]
[null,null,"JIM T.",84,83,0.50299401197604787,5.5]
[null,null,"JOHN",81,88,0.47928994082840237,9.5]
[null,null,"JIM K.",80,87,0.47904191616766467,9.5]
[null,null,"LARRY",79,88,0.47305389221556887,10.5,null," "]
[null,null,"-----",0,130,0,"-----",null," "]
[null,null,"","","","","",null," "]
[null,null,"","","","",""]
[null,null,"","","","",""]
[]
[]
[]
[]
[]
[]
[]
[null,null,null,null,"CURRENT WEEK",null,null,null,null,null,null,"THIS WEEK"]
[null,null,"WEEK ENDING",null,"THIS WEEK","SEASON",null,null,null,null,null,"AL",null,"RANK"]
[null,null,"2021-05-02",null,"RANK","RANK",null,null,null,null,null,"TORONTO",0.8,1]
[null,null,"TORONTO",0.8,1,11,null,null,null,null,null,"HOUSTON",0.7142857142857143,2]
[null,null,"WASHINGTON",0.8,1,14,null,null,null,null,null,"NEW YORK A",0.7142857142857143,2]
[null,null,"HOUSTON",0.7142857142857143,3,12,null,null,null,null,null,"CLEVELAND",0.66666666666666663,4]
[null,null,"NEW YORK A",0.7142857142857143,3,14,null,null,null,null,null,"BALTIMORE",0.5714285714285714,5]
[null,null,"ST LOUIS",0.7142857142857143,3,7,null,null,null,null,null,"TEXAS",0.5714285714285714,5]
[null,null,"CLEVELAND",0.66666666666666663,6,14,null,null,null,null,null,"BOSTON",0.5,7]
[null,null,"CINCINNATI",0.66666666666666663,6,20,null,null,null,null,null,"KANSAS CITY",0.5,7]
[null,null,"ARIZONA",0.66666666666666663,6,12,null,null,null,null,null,"LOS ANGELES A",0.5,7]
[null,null,"SAN DIEGO",0.6,9,9,null,null,null,null,null,"CHICAGO A",0.5,7]
[null,null,"BALTIMORE",0.5714285714285714,10,21,null,null,null,null,null,"MINNESOTA",0.5,7]
[null,null,"MILWAUKEE",0.5714285714285714,10,2,null,null,null,null,null,"TAMPA BAY",0.42857142857142855,12]
[null,null,"TEXAS",0.5714285714285714,10,23,null,null,null,null,null,"OAKLAND",0.42857142857142855,12]
[null,null,"BOSTON",0.5,13,4,null,null,null,null,null,"SEATTLE",0.42857142857142855,12]
[null,null,"KANSAS CITY",0.5,13,1,null,null,null,null,null,"DETROIT",0.14285714285714285,15]
[null,null,"LOS ANGELES A",0.5,13,14,null,null,null,null,null,"NL"]
[null,null,"CHICAGO A",0.5,13,8,null,null,null,null,null,"WASHINGTON",0.8,1]
[null,null,"SAN FRANCISCO",0.5,13,2,null,null,null,null,null,"ST LOUIS",0.7142857142857143,2]
[null,null,"MINNESOTA",0.5,13,28,null,null,null,null,null,"CINCINNATI",0.66666666666666663,3]
[null,null,"ATLANTA",0.42857142857142855,19,25,null,null,null,null,null,"ARIZONA",0.66666666666666663,3]
[null,null,"PHILADELPHIA",0.42857142857142855,19,21,null,null,null,null,null,"SAN DIEGO",0.6,5]
[null,null,"TAMPA BAY",0.42857142857142855,19,19,null,null,null,null,null,"MILWAUKEE",0.5714285714285714,6]
[null,null,"OAKLAND",0.42857142857142855,19,4,null,null,null,null,null,"SAN FRANCISCO",0.5,7]
[null,null,"SEATTLE",0.42857142857142855,19,9,null,null,null,null,null,"ATLANTA",0.42857142857142855,8]
[null,null,"NEW YORK N",0.4,24,14,null,null,null,null,null,"PHILADELPHIA",0.42857142857142855,8]
[null,null,"MIAMI",0.33333333333333331,25,27,null,null,null,null,null,"NEW YORK N",0.4,10]
[null,null,"COLORADO",0.2857142857142857,26,29,null,null,null,null,null,"MIAMI",0.33333333333333331,11]
[null,null,"CHICAGO N",0.2857142857142857,26,25,null,null,null,null,null,"COLORADO",0.2857142857142857,12]
[null,null,"LOS ANGELES N",0.2857142857142857,26,4,null,null,null,null,null,"CHICAGO N",0.2857142857142857,12]
[null,null,"PITTSBURGH",0.2,29,24,null,null,null,null,null,"LOS ANGELES N",0.2857142857142857,12]
[null,null,"DETROIT",0.14285714285714285,30,30,null,null,null,null,null,"PITTSBURGH",0.2,15]
[]
[null,null,null,null,"SEASON TO DATE",null,null,null,null,null,null,"SEASON TO DATE"]
[null,null,null,null,null,null,null,null,null,null,null,"AL"]
[null,null,"SEASON TO-DATE",null,"RANK",null,null,null,null,null,null,"KANSAS CITY",0.61538461538461542,1]
[null,null,"KANSAS CITY",0.61538461538461542,1,null,null,null,null,null,null,"BOSTON",0.58620689655172409,2]
[null,null,"MILWAUKEE",0.6071428571428571,2,null,null,null,null,null,null,"OAKLAND",0.58620689655172409,2]
[null,null,"SAN FRANCISCO",0.6071428571428571,2,null,null,null,null,null,null,"CHICAGO A",0.55555555555555558,4]
[null,null,"BOSTON",0.58620689655172409,4,null,null,null,null,null,null,"SEATTLE",0.55172413793103448,5]
[null,null,"LOS ANGELES N",0.58620689655172409,4,null,null,null,null,null,null,"TORONTO",0.53846153846153844,6]
[null,null,"OAKLAND",0.58620689655172409,4,null,null,null,null,null,null,"HOUSTON",0.5357142857142857,7]
[null,null,"ST LOUIS",0.5714285714285714,7,null,null,null,null,null,null,"LOS ANGELES A",0.5,8]
[null,null,"CHICAGO A",0.55555555555555558,8,null,null,null,null,null,null,"NEW YORK A",0.5,8]
[null,null,"SAN DIEGO",0.55172413793103448,9,null,null,null,null,null,null,"CLEVELAND",0.5,8]
[null,null,"SEATTLE",0.55172413793103448,9,null,null,null,null,null,null,"TAMPA BAY",0.48275862068965519,11]
[null,null,"TORONTO",0.53846153846153844,11,null,null,null,null,null,null,"BALTIMORE",0.4642857142857143,12]
[null,null,"HOUSTON",0.5357142857142857,12,null,null,null,null,null,null,"TEXAS",0.44827586206896552,13]
[null,null,"ARIZONA",0.5357142857142857,12,null,null,null,null,null,null,"MINNESOTA",0.38461538461538464,14]
[null,null,"LOS ANGELES A",0.5,14,null,null,null,null,null,null,"DETROIT",0.27586206896551724,15]
[null,null,"NEW YORK A",0.5,14,null,null,null,null,null,null,"NL"]
[null,null,"CLEVELAND",0.5,14,null,null,null,null,null,null,"MILWAUKEE",0.6071428571428571,1]
[null,null,"WASHINGTON",0.5,14,null,null,null,null,null,null,"SAN FRANCISCO",0.6071428571428571,1]
[null,null,"NEW YORK N",0.5,14,null,null,null,null,null,null,"LOS ANGELES N",0.58620689655172409,3]
[null,null,"TAMPA BAY",0.48275862068965519,19,null,null,null,null,null,null,"ST LOUIS",0.5714285714285714,4]
[null,null,"CINCINNATI",0.48148148148148145,20,null,null,null,null,null,null,"SAN DIEGO",0.55172413793103448,5]
[null,null,"PHILADELPHIA",0.4642857142857143,21,null,null,null,null,null,null,"ARIZONA",0.5357142857142857,6]
[null,null,"BALTIMORE",0.4642857142857143,21,null,null,null,null,null,null,"WASHINGTON",0.5,7]
[null,null,"TEXAS",0.44827586206896552,23,null,null,null,null,null,null,"NEW YORK N",0.5,7]
[null,null,"PITTSBURGH",0.44444444444444442,24,null,null,null,null,null,null,"CINCINNATI",0.48148148148148145,9]
[null,null,"ATLANTA",0.42857142857142855,25,null,null,null,null,null,null,"PHILADELPHIA",0.4642857142857143,10]
[null,null,"CHICAGO N",0.42857142857142855,25,null,null,null,null,null,null,"PITTSBURGH",0.44444444444444442,11]
[null,null,"MIAMI",0.40740740740740738,27,null,null,null,null,null,null,"ATLANTA",0.42857142857142855,12]
[null,null,"MINNESOTA",0.38461538461538464,28,null,null,null,null,null,null,"CHICAGO N",0.42857142857142855,12]
[null,null,"COLORADO",0.35714285714285715,29,null,null,null,null,null,null,"MIAMI",0.40740740740740738,14]

{"sheet":"25-Apr","index":35,"n_rows":172,"n_cols":34,"rows_kept":172,"cut":false,"hidden":false,"merged":[[141,11,141,12],[142,2,142,3],[157,11,157,12],[108,2,108,3],[113,16,113,20],[123,11,123,12],[124,16,124,20],[140,4,140,5],[140,11,140,12],[94,9,94,13],[95,9,95,13],[102,16,102,20],[106,4,106,5],[107,2,107,3],[107,11,107,12],[50,16,50,17],[51,16,51,17],[56,2,56,6],[71,2,71,6],[85,2,85,3],[85,4,85,5],[37,22,37,25],[37,26,37,29],[37,30,37,33],[45,16,45,17],[46,16,46,17],[37,18,37,21],[47,16,47,17],[28,16,28,17],[29,16,29,17],[30,16,30,17],[33,16,33,17],[34,16,34,17],[20,30,20,33],[4,2,4,4],[4,6,4,9],[4,11,4,14],[11,16,11,17],[12,16,12,17],[13,16,13,17],[16,16,16,17],[17,16,17,17],[20,18,20,21],[20,22,20,25],[20,26,20,29],[1,16,1,33],[2,13,2,14],[3,18,3,21],[3,22,3,25],[3,26,3,29],[3,30,3,33]]}
[null,2021,"STANDINGS"]
[null,null,null,null,null,null,null,null,null,null,null,null,null,null,null,null,"CURRENT WEEK RESULTS"]
[null,"WEEK ENDING "," ","2021-04-25",null,null,null," ",null,null,null,"WEEK",3,"APRIL",null," "]
[null,null,null,null,null,null,null,null,null,null,null,null,null,null,null,null,null,null,"MIKE",null,null,null,"JOHN",null,null,null,"LARRY",null,null,null,0]
[null,null,"CURRENT WEEK-SEASON TO DATE",null,null,null,"PREVIOUS WEEK-SEASON TO DATE",null,null,null,null,"CURRENT WEEK TOTALS",null,null,null,null,null,null,"RANK","W","L","PCT","RANK","W","L","PCT","RANK","W","L","PCT","RANK","W","L","PCT"]
[null,null,null,null,null,null,null,null,null,null,null,null,null,null,null,null,null,null,"Dodgers",2,4,0.33333333333333331,"Dodgers",2,4,0.33333333333333331,"Red Sox",4,3,0.5714285714285714,0,{"$error":"#N/A"},{"$error":"#N/A"},{"$error":"#N/A"}]
[null,"American League",null,null,null,null,"AL EAST",null,null,null,"Times","AL EAST",null,null,null,null,null,null,"Rays",3,3,0.5,"Red Sox",4,3,0.5714285714285714,"Reds",0,6,0,0,{"$error":"#N/A"},{"$error":"#N/A"},{"$error":"#N/A"}]
[null,"East","W","L","PCT","Rank","TEAM","W","L","PCT","Picked","TEAM","W","L","PCT","Rank",null,null,"Athletics",5,1,0.83333333333333337,"Royals",4,2,0.66666666666666663,"Angels",2,5,0.2857142857142857,0,{"$error":"#N/A"},{"$error":"#N/A"},{"$error":"#N/A"}]
[null,"Orioles",9,12,0.42857142857142855,4,"BALTIMORE",7,9,0.4375,0,"Orioles",2,3,0.4,5,null,null,"Cubs",4,2,0.66666666666666663,"Reds",0,6,0,"Royals",4,2,0.66666666666666663,0,{"$error":"#N/A"},{"$error":"#N/A"},{"$error":"#N/A"}]
[null,"Red Sox",14,9,0.60869565217391308,1,"BOSTON",10,6,0.625,3,"Red Sox",4,3,0.5714285714285714,3,null,null,"Marlins",2,4,0.33333333333333331,"Marlins",2,4,0.33333333333333331,"Mets",2,4,0.33333333333333331,0,{"$error":"#N/A"},{"$error":"#N/A"},{"$error":"#N/A"}]
[null,"Yankees",9,12,0.42857142857142855,4,"NEW YORK",5,10,0.33333333333333331,2,"Yankees",4,2,0.66666666666666663,1,null,null,"White Sox",4,1,0.8,"Angels",2,5,0.2857142857142857,"Giants",5,2,0.7142857142857143,0,{"$error":"#N/A"},{"$error":"#N/A"},{"$error":"#N/A"}]
[null,"Rays",11,11,0.5,2,"TAMPA BAY",8,8,0.5,3,"Rays",3,3,0.5,4,"WEEKLY TOTAL",null,null,20,15,0.5714285714285714,null,14,24,0.36842105263157893,null,17,22,0.4358974358974359,null,{"$error":"#N/A"},{"$error":"#N/A"},{"$error":"#N/A"}]
[null,"Blue Jays",10,11,0.47619047619047616,3,"TORONTO",7,9,0.4375,0,"Blue Jays",3,2,0.6,2,"PREV WEEK TO DATE",null,"  ",51,43,0.54255319148936165,null,49,43,0.53260869565217395,null,46,45,0.50549450549450547,null,{"$error":"#N/A"},{"$error":"#N/A"},{"$error":"#N/A"}]
[null,null,null," ",null,null,null,null," ",null,null,null,null,null,null,null,"CUR TOTAL TO DATE",null,"  ",71,58,0.55038759689922478,null,63,67,0.48461538461538461,null,63,67,0.48461538461538461,null,{"$error":"#N/A"},{"$error":"#N/A"},{"$error":"#N/A"}]
[null,null,null," ",null,null,"AL CENTRAL",null," ",null,null,"AL CENTRAL"]
[null,"Central","W","L","PCT",null,"TEAM","W","L","PCT",null,"TEAM","W","L","PCT"]
[null,"White Sox",12,9,0.5714285714285714,2,"CHICAGO",8,8,0.5,2,"White Sox",4,1,0.8,1,"SEASON TLT TO DATE",null,"  ",null,null,null,null,null,null,null,null,null,null,null,null,{"$error":"#N/A"},{"$error":"#N/A"},{"$error":"#N/A"}]
[null,"Indians",9,11,0.45,3,"CLEVELAND",8,7,0.53333333333333333,1,"Indians",1,4,0.2,3,"APRIL TOTAL TO DATE",null,null,71,58,0.55038759689922478,null,63,67,0.48461538461538461,null,63,67,0.48461538461538461,null,{"$error":"#N/A"},{"$error":"#N/A"},{"$error":"#N/A"}]
[null,"Tigers",7,15,0.31818181818181818,5,"DETROIT",6,10,0.375,0,"Tigers",1,5,0.16666666666666666,4]
[null,"Royals",13,7,0.65,1,"KANSAS CITY",9,5,0.6428571428571429,3,"Royals",4,2,0.66666666666666663,2]
[null,"Twins",7,13,0.35,4,"MINNESOTA",6,8,0.42857142857142855,2,"Twins",1,5,0.16666666666666666,4,null,null,"JIM T.",null,null,null,"JEAN",null,null,null,"DIANE",null,null,null,0]
[null,null,null," ",null,null,null,null," ",null,null,null,null,null,null,null,null,null,"RANK","W","L","PCT","RANK","W","L","PCT","RANK","W","L","PCT","RANK","W","L","PCT"]
[null,null,null," ",null,null,"AL WEST",null," ",null,null,"AL WEST",null,null,null,null,null,null,"Athletics",5,1,0.83333333333333337,"Cubs",4,2,0.66666666666666663,"Dodgers",2,4,0.33333333333333331,0,{"$error":"#N/A"},{"$error":"#N/A"},{"$error":"#N/A"}]
[null,"West","W","L","PCT",null,"TEAM","W","L","PCT",null,"TEAM","W","L","PCT",null,null,null,"Indians",1,4,0.2,"Rays",3,3,0.5,"Athletics",5,1,0.83333333333333337,0,{"$error":"#N/A"},{"$error":"#N/A"},{"$error":"#N/A"}]
[null,"Angels",10,10,0.5,3,"LOS ANGELES",8,5,0.61538461538461542,2,"Angels",2,5,0.2857142857142857,5,null,null,"Diamondbacks",5,1,0.83333333333333337,"Twins",1,5,0.16666666666666666,"Red Sox",4,3,0.5714285714285714,0,{"$error":"#N/A"},{"$error":"#N/A"},{"$error":"#N/A"}]
[null,"Athletics",14,8,0.63636363636363635,1,"OAKLAND",9,7,0.5625,4,"Athletics",5,1,0.83333333333333337,1,null,null,"Phillies",2,4,0.33333333333333331,"Athletics",5,1,0.83333333333333337,"Phillies",2,4,0.33333333333333331,0,{"$error":"#N/A"},{"$error":"#N/A"},{"$error":"#N/A"}]
[null,"Mariners",13,9,0.59090909090909094,2,"SEATTLE",10,6,0.625,0,"Mariners",3,3,0.5,2,null,null,"Cubs",4,2,0.66666666666666663,"Mets",2,4,0.33333333333333331,"Royals",4,2,0.66666666666666663,0,{"$error":"#N/A"},{"$error":"#N/A"},{"$error":"#N/A"}]
[null,"Rangers",9,13,0.40909090909090912,5,"TEXAS",7,9,0.4375,0,"Rangers",2,4,0.33333333333333331,4,null,null,"Yankees",4,2,0.66666666666666663,"Dodgers",2,4,0.33333333333333331,"Cardinals",4,2,0.66666666666666663,0,{"$error":"#N/A"},{"$error":"#N/A"},{"$error":"#N/A"}]
[null,"Astros",10,11,0.47619047619047616,4,"HOUSTON",7,8,0.46666666666666667,2,"Astros",3,3,0.5,2,"WEEKLY TOTAL",null,null,21,14,0.6,null,17,19,0.47222222222222221,null,21,16,0.56756756756756754,null,{"$error":"#N/A"},{"$error":"#N/A"},{"$error":"#N/A"}]
[null,null,null,null,null,null,null,null,null,null,null,null,null,null,null,null,"PREV WEEK TO DATE",null,null,42,50,0.45652173913043476,null,49,39,0.55681818181818177,null,50,41,0.5494505494505495,null,{"$error":"#N/A"},{"$error":"#N/A"},{"$error":"#N/A"}]
[null,"National League",null," ",null,null,"NL EAST",null," ",null,null,"NL EAST",null,null,null,null,"CUR TOTAL TO DATE",null,null,63,64,0.49606299212598426,null,66,58,0.532258064516129,null,71,57,0.5546875,null,{"$error":"#N/A"},{"$error":"#N/A"},{"$error":"#N/A"}]
[null,"East","W","L","PCT",null,"TEAM","W","L","PCT",null,"TEAM","W","L","PCT"]
[null,"Braves",9,12,0.42857142857142855,3,"ATLANTA",7,9,0.4375,2,"Braves",2,3,0.4,2]
[null,"Marlins",9,12,0.42857142857142855,3,"Miami",7,8,0.46666666666666667,2,"Marlins",2,4,0.33333333333333331,3,"SEASON TLT TO DATE",null,null,null,null,null,null,null,null,null,null,null,null,null,null,{"$error":"#N/A"},{"$error":"#N/A"},{"$error":"#N/A"}]
[null,"Mets",9,8,0.52941176470588236,1,"NEW YORK",7,4,0.63636363636363635,2,"Mets",2,4,0.33333333333333331,3,"APRIL TOTAL TO DATE",null,null,63,64,0.49606299212598426,null,66,58,0.532258064516129,null,71,57,0.5546875,null,{"$error":"#N/A"},{"$error":"#N/A"},{"$error":"#N/A"}]
[null,"Phillies",10,11,0.47619047619047616,2,"PHILADELPHIA",8,7,0.53333333333333333,2,"Phillies",2,4,0.33333333333333331,3]
[null,"Nationals",8,11,0.42105263157894735,5,"WASHINGTON",5,8,0.38461538461538464,0,"Nationals",3,3,0.5,1]
[null,null,null," ",null,null,null,null," ",null,null,null,null,null,null,null,null,null,"JIM K.",null,null,null,"TIM",null,null,null,"-----",null,null,null,0]
[null,null,null," ",null,null,"NL CENTRAL",null," ",null,null,"NL CENTRAL",null,null,null,null,null,null,"RANK","W","L","PCT","RANK","W","L","PCT","RANK","W","L","PCT","RANK","W","L","PCT"]
[null,"Central","W","L","PCT",null,"TEAM","W","L","PCT",null,"TEAM","W","L","PCT",null,null,null,"Astros",3,3,0.5,"Dodgers",2,4,0.33333333333333331,null,null,null,null,0,{"$error":"#N/A"},{"$error":"#N/A"},{"$error":"#N/A"}]
[null,"Cubs",10,11,0.47619047619047616,4,"CHICAGO",6,9,0.4,4,"Cubs",4,2,0.66666666666666663,2,null,null,"Rays",3,3,0.5,"Braves",2,3,0.4,null,null,null,null,0,{"$error":"#N/A"},{"$error":"#N/A"},{"$error":"#N/A"}]
[null,"Reds",9,12,0.42857142857142855,5,"CINCINNATI",9,6,0.6,2,"Reds",0,6,0,5,null,null,"Twins",1,5,0.16666666666666666,"Yankees",4,2,0.66666666666666663,null,null,null,null,0,{"$error":"#N/A"},{"$error":"#N/A"},{"$error":"#N/A"}]
[null,"Brewers",13,8,0.61904761904761907,1,"MILWAUKEE",8,7,0.53333333333333333,0,"Brewers",5,1,0.83333333333333337,1,null,null,"Cubs",4,2,0.66666666666666663,"Cardinals",4,2,0.66666666666666663,null,null,null,null,0,{"$error":"#N/A"},{"$error":"#N/A"},{"$error":"#N/A"}]
[null,"Pirates",11,11,0.5,3,"PITTSBURGH",7,9,0.4375,0,"Pirates",4,2,0.66666666666666663,2,null,null,"Braves",2,3,0.4,"White Sox",4,1,0.8,null,null,null,null,0,{"$error":"#N/A"},{"$error":"#N/A"},{"$error":"#N/A"}]
[null,"Cardinals",11,10,0.52380952380952384,2,"ST LOUIS",7,8,0.46666666666666667,2,"Cardinals",4,2,0.66666666666666663,2,null,null,"Giants",5,2,0.7142857142857143,"Astros",3,3,0.5,null,null,null,null,0,{"$error":"#N/A"},{"$error":"#N/A"},{"$error":"#N/A"}]
[null,null,null," ",null,null,null,null," ",null,null,null,null,null,null,null,"WEEKLY TOTAL",null,null,18,18,0.5,null,19,15,0.55882352941176472,null,0,30,"",null,{"$error":"#N/A"},{"$error":"#N/A"},{"$error":"#N/A"}]
[null,null,null," ",null,null,"NL WEST",null," ",null,null,"NL WEST",null,null,null,null,"PREV WEEK TO DATE",null,null,43,48,0.47252747252747251,null,47,46,0.5053763440860215,null,0,70,"",null,{"$error":"#N/A"},{"$error":"#N/A"},{"$error":"#N/A"}]
[null,"West","W","L","PCT",null,"TEAM","W","L","PCT",null,"TEAM","W","L","PCT",null,"CUR TOTAL TO DATE",null,null,61,66,0.48031496062992124,null,66,61,0.51968503937007871,null,0,100,"",null,{"$error":"#N/A"},{"$error":"#N/A"},{"$error":"#N/A"}]
[null,"Diamondbacks",11,11,0.5,4,"ARIZONA",6,10,0.375,1,"Diamondbacks",5,1,0.83333333333333337,1]
[null,"Rockies",8,13,0.38095238095238093,5,"COLORADO",4,12,0.25,0,"Rockies",4,1,0.8,2]
[null,"Dodgers",15,7,0.68181818181818177,1,"LOS ANGELES",13,3,0.8125,5,"Dodgers",2,4,0.33333333333333331,5,"SEASON TLT TO DATE",null,null,null,null,null,null,null,null,null,null,null,null,null,null,{"$error":"#N/A"},{"$error":"#N/A"},{"$error":"#N/A"}]
[null,"Padres",13,11,0.54166666666666663,3,"SAN DIEGO",10,7,0.58823529411764708,0,"Padres",3,4,0.42857142857142855,4,"APRIL TOTAL TO DATE",null,null,61,66,0.48031496062992124,null,66,61,0.51968503937007871,null,0,100,"",null,{"$error":"#N/A"},{"$error":"#N/A"},{"$error":"#N/A"}]
[null,"Giants",14,8,0.63636363636363635,2,"SAN FRANCISCO",9,6,0.6,2,"Giants",5,2,0.7142857142857143,3]
[null,null,null,null,null,null,null,null,null,null,null,null,89,89]
[null,null,null,"2021-04-27"," Morning"]
[]
[null,null,"WEEK 3"]
[null," ","NAME","W","L","PCT","GB"]
[null,null,"JIM T.",21,14,0.6,0]
[null," ","MIKE",20,15,0.5714285714285714,1]
[null," ","DIANE",21,16,0.56756756756756754,1]
[null," ","TIM",19,15,0.55882352941176472,1.5]
[null," ","JIM K.",18,18,0.5,3.5]
[null,null,"JEAN",17,19,0.47222222222222221,4.5]
[null,null,"LARRY",17,22,0.4358974358974359,6]
[null,null,"JOHN",14,24,0.36842105263157893,8.5]
[null,null,"-----",0,30,0,"-----"]
[null,null,"","","","",""]
[null,null,"","","","",""]
[null,null,"","","","",""]
[]
[null,null,"MONTH OF  APRIL"]
[null,null,"NAME","W","L","PCT","GB"]
[null,null,"DIANE",71,57,0.5546875,0]
[null,null,"MIKE",71,58,0.55038759689922478,0.5]
[null,null,"JEAN",66,58,0.532258064516129,3]
[null,null,"TIM",66,61,0.51968503937007871,4.5]
[null,null,"JIM T.",63,64,0.49606299212598426,7.5]
[null,null,"JOHN",63,67,0.48461538461538461,9]
[null,null,"LARRY",63,67,0.48461538461538461,9]
[null,null,"JIM K.",61,66,0.48031496062992124,9.5]
[null,null,"-----",0,100,0,"-----"]
[null,null,"","","","",""]
[null,null,"","","","",""]
[null,null,"","","","",""]
[null,null,2021,null,"SEASON"]
[null,null,"NAME","W","L","PCT","GB"]
[null,null,"DIANE",71,57,0.5546875,0]
[null,null,"MIKE",71,58,0.55038759689922478,0.5]
[null,null,"JEAN",66,58,0.532258064516129,3]
[null,null,"TIM",66,61,0.51968503937007871,4.5]
[null,null,"JIM T.",63,64,0.49606299212598426,7.5]
[null,null,"JOHN",63,67,0.48461538461538461,9]
[null,null,"LARRY",63,67,0.48461538461538461,9]
[null,null,"JIM K.",61,66,0.48031496062992124,9.5,null," "]
[null,null,"-----",0,100,0,"-----",null," "]
[null,null,"","","","","",null," "]
[null,null,"","","","",""]
[null,null,"","","","",""]
[]
[]
[]
[]
[]
[]
[]
[null,null,null,null,"CURRENT WEEK",null,null,null,null,null,null,"THIS WEEK"]
[null,null,"WEEK ENDING",null,"THIS WEEK","SEASON",null,null,null,null,null,"AL",null,"RANK"]
[null,null,"2021-04-25",null,"RANK","RANK",null,null,null,null,null,"OAKLAND",0.83333333333333337,1]
[null,null,"ARIZONA",0.83333333333333337,1,12,null,null,null,null,null,"CHICAGO A",0.8,2]
[null,null,"OAKLAND",0.83333333333333337,1,3,null,null,null,null,null,"NEW YORK A",0.66666666666666663,3]
[null,null,"MILWAUKEE",0.83333333333333337,1,5,null,null,null,null,null,"KANSAS CITY",0.66666666666666663,3]
[null,null,"COLORADO",0.8,4,28,null,null,null,null,null,"TORONTO",0.6,5]
[null,null,"CHICAGO A",0.8,4,8,null,null,null,null,null,"BOSTON",0.5714285714285714,6]
[null,null,"SAN FRANCISCO",0.7142857142857143,6,3,null,null,null,null,null,"TAMPA BAY",0.5,7]
[null,null,"CHICAGO N",0.66666666666666663,7,16,null,null,null,null,null,"SEATTLE",0.5,7]
[null,null,"PITTSBURGH",0.66666666666666663,7,12,null,null,null,null,null,"HOUSTON",0.5,7]
[null,null,"NEW YORK A",0.66666666666666663,7,21,null,null,null,null,null,"BALTIMORE",0.4,10]
[null,null,"ST LOUIS",0.66666666666666663,7,11,null,null,null,null,null,"TEXAS",0.33333333333333331,11]
[null,null,"KANSAS CITY",0.66666666666666663,7,2,null,null,null,null,null,"LOS ANGELES A",0.2857142857142857,12]
[null,null,"TORONTO",0.6,12,16,null,null,null,null,null,"CLEVELAND",0.2,13]
[null,null,"BOSTON",0.5714285714285714,13,6,null,null,null,null,null,"DETROIT",0.16666666666666666,14]
[null,null,"TAMPA BAY",0.5,14,12,null,null,null,null,null,"MINNESOTA",0.16666666666666666,14]
[null,null,"SEATTLE",0.5,14,7,null,null,null,null,null,"NL"]
[null,null,"WASHINGTON",0.5,14,26,null,null,null,null,null,"ARIZONA",0.83333333333333337,1]
[null,null,"HOUSTON",0.5,14,16,null,null,null,null,null,"MILWAUKEE",0.83333333333333337,1]
[null,null,"SAN DIEGO",0.42857142857142855,18,9,null,null,null,null,null,"COLORADO",0.8,3]
[null,null,"BALTIMORE",0.4,19,21,null,null,null,null,null,"SAN FRANCISCO",0.7142857142857143,4]
[null,null,"ATLANTA",0.4,19,21,null,null,null,null,null,"CHICAGO N",0.66666666666666663,5]
[null,null,"TEXAS",0.33333333333333331,21,27,null,null,null,null,null,"PITTSBURGH",0.66666666666666663,5]
[null,null,"LOS ANGELES N",0.33333333333333331,21,1,null,null,null,null,null,"ST LOUIS",0.66666666666666663,5]
[null,null,"MIAMI",0.33333333333333331,21,21,null,null,null,null,null,"WASHINGTON",0.5,8]
[null,null,"PHILADELPHIA",0.33333333333333331,21,16,null,null,null,null,null,"SAN DIEGO",0.42857142857142855,9]
[null,null,"NEW YORK N",0.33333333333333331,21,10,null,null,null,null,null,"ATLANTA",0.4,10]
[null,null,"LOS ANGELES A",0.2857142857142857,26,12,null,null,null,null,null,"LOS ANGELES N",0.33333333333333331,11]
[null,null,"CLEVELAND",0.2,27,20,null,null,null,null,null,"MIAMI",0.33333333333333331,11]
[null,null,"DETROIT",0.16666666666666666,28,30,null,null,null,null,null,"PHILADELPHIA",0.33333333333333331,11]
[null,null,"MINNESOTA",0.16666666666666666,28,29,null,null,null,null,null,"NEW YORK N",0.33333333333333331,11]
[null,null,"CINCINNATI",0,30,21,null,null,null,null,null,"CINCINNATI",0,15]
[]
[null,null,null,null,"SEASON TO DATE",null,null,null,null,null,null,"SEASON TO DATE"]
[null,null,null,null,null,null,null,null,null,null,null,"AL"]
[null,null,"SEASON TO-DATE",null,"RANK",null,null,null,null,null,null,"KANSAS CITY",0.65,1]
[null,null,"LOS ANGELES N",0.68181818181818177,1,null,null,null,null,null,null,"OAKLAND",0.63636363636363635,2]
[null,null,"KANSAS CITY",0.65,2,null,null,null,null,null,null,"BOSTON",0.60869565217391308,3]
[null,null,"SAN FRANCISCO",0.63636363636363635,3,null,null,null,null,null,null,"SEATTLE",0.59090909090909094,4]
[null,null,"OAKLAND",0.63636363636363635,3,null,null,null,null,null,null,"CHICAGO A",0.5714285714285714,5]
[null,null,"MILWAUKEE",0.61904761904761907,5,null,null,null,null,null,null,"LOS ANGELES A",0.5,6]
[null,null,"BOSTON",0.60869565217391308,6,null,null,null,null,null,null,"TAMPA BAY",0.5,6]
[null,null,"SEATTLE",0.59090909090909094,7,null,null,null,null,null,null,"HOUSTON",0.47619047619047616,8]
[null,null,"CHICAGO A",0.5714285714285714,8,null,null,null,null,null,null,"TORONTO",0.47619047619047616,8]
[null,null,"SAN DIEGO",0.54166666666666663,9,null,null,null,null,null,null,"CLEVELAND",0.45,10]
[null,null,"NEW YORK N",0.52941176470588236,10,null,null,null,null,null,null,"BALTIMORE",0.42857142857142855,11]
[null,null,"ST LOUIS",0.52380952380952384,11,null,null,null,null,null,null,"NEW YORK A",0.42857142857142855,11]
[null,null,"LOS ANGELES A",0.5,12,null,null,null,null,null,null,"TEXAS",0.40909090909090912,13]
[null,null,"TAMPA BAY",0.5,12,null,null,null,null,null,null,"MINNESOTA",0.35,14]
[null,null,"PITTSBURGH",0.5,12,null,null,null,null,null,null,"DETROIT",0.31818181818181818,15]
[null,null,"ARIZONA",0.5,12,null,null,null,null,null,null,"NL"]
[null,null,"PHILADELPHIA",0.47619047619047616,16,null,null,null,null,null,null,"LOS ANGELES N",0.68181818181818177,1]
[null,null,"CHICAGO N",0.47619047619047616,16,null,null,null,null,null,null,"SAN FRANCISCO",0.63636363636363635,2]
[null,null,"HOUSTON",0.47619047619047616,16,null,null,null,null,null,null,"MILWAUKEE",0.61904761904761907,3]
[null,null,"TORONTO",0.47619047619047616,16,null,null,null,null,null,null,"SAN DIEGO",0.54166666666666663,4]
[null,null,"CLEVELAND",0.45,20,null,null,null,null,null,null,"NEW YORK N",0.52941176470588236,5]
[null,null,"CINCINNATI",0.42857142857142855,21,null,null,null,null,null,null,"ST LOUIS",0.52380952380952384,6]
[null,null,"BALTIMORE",0.42857142857142855,21,null,null,null,null,null,null,"PITTSBURGH",0.5,7]
[null,null,"MIAMI",0.42857142857142855,21,null,null,null,null,null,null,"ARIZONA",0.5,7]
[null,null,"ATLANTA",0.42857142857142855,21,null,null,null,null,null,null,"PHILADELPHIA",0.47619047619047616,9]
[null,null,"NEW YORK A",0.42857142857142855,21,null,null,null,null,null,null,"CHICAGO N",0.47619047619047616,9]
[null,null,"WASHINGTON",0.42105263157894735,26,null,null,null,null,null,null,"CINCINNATI",0.42857142857142855,11]
[null,null,"TEXAS",0.40909090909090912,27,null,null,null,null,null,null,"MIAMI",0.42857142857142855,11]
[null,null,"COLORADO",0.38095238095238093,28,null,null,null,null,null,null,"ATLANTA",0.42857142857142855,11]
[null,null,"MINNESOTA",0.35,29,null,null,null,null,null,null,"WASHINGTON",0.42105263157894735,14]

{"sheet":"18-Apr","index":36,"n_rows":172,"n_cols":34,"rows_kept":172,"cut":false,"hidden":false,"merged":[[141,11,141,12],[142,2,142,3],[157,11,157,12],[108,2,108,3],[113,16,113,20],[123,11,123,12],[124,16,124,20],[140,4,140,5],[140,11,140,12],[94,9,94,13],[95,9,95,13],[102,16,102,20],[106,4,106,5],[107,2,107,3],[107,11,107,12],[50,16,50,17],[51,16,51,17],[56,2,56,6],[71,2,71,6],[85,2,85,3],[85,4,85,5],[37,22,37,25],[37,26,37,29],[37,30,37,33],[45,16,45,17],[46,16,46,17],[37,18,37,21],[47,16,47,17],[28,16,28,17],[29,16,29,17],[30,16,30,17],[33,16,33,17],[34,16,34,17],[20,30,20,33],[4,2,4,4],[4,6,4,9],[4,11,4,14],[11,16,11,17],[12,16,12,17],[13,16,13,17],[16,16,16,17],[17,16,17,17],[20,18,20,21],[20,22,20,25],[20,26,20,29],[1,16,1,33],[2,13,2,14],[3,18,3,21],[3,22,3,25],[3,26,3,29],[3,30,3,33]]}
[null,2021,"STANDINGS"]
[null,null,null,null,null,null,null,null,null,null,null,null,null,null,null,null,"CURRENT WEEK RESULTS"]
[null,"WEEK ENDING "," ","2021-04-18",null,null,null," ",null,null,null,"WEEK",2,"APRIL",null," "]
[null,null,null,null,null,null,null,null,null,null,null,null,null,null,null,null,null,null,"MIKE",null,null,null,"JOHN",null,null,null,"LARRY",null,null,null,0]
[null,null,"CURRENT WEEK-SEASON TO DATE",null,null,null,"PREVIOUS WEEK-SEASON TO DATE",null,null,null,null,"CURRENT WEEK TOTALS",null,null,null,null,null,null,"RANK","W","L","PCT","RANK","W","L","PCT","RANK","W","L","PCT","RANK","W","L","PCT"]
[null,null,null,null,null,null,null,null,null,null,null,null,null,null,null,null,null,null,"Dodgers",5,1,0.83333333333333337,"Dodgers",5,1,0.83333333333333337,"Red Sox",4,3,0.5714285714285714,0,{"$error":"#N/A"},{"$error":"#N/A"},{"$error":"#N/A"}]
[null,"American League",null,null,null,null,"AL EAST",null,null,null,"Times","AL EAST",null,null,null,null,null,null,"Rays",4,3,0.5714285714285714,"Braves",3,4,0.42857142857142855,"Twins",1,4,0.2,0,{"$error":"#N/A"},{"$error":"#N/A"},{"$error":"#N/A"}]
[null,"East","W","L","PCT","Rank","TEAM","W","L","PCT","Picked","TEAM","W","L","PCT","Rank",null,null,"Athletics",6,0,1,"Astros",1,5,0.16666666666666666,"Angels",2,2,0.5,0,{"$error":"#N/A"},{"$error":"#N/A"},{"$error":"#N/A"}]
[null,"Orioles",7,9,0.4375,3,"BALTIMORE",4,5,0.44444444444444442,0,"Orioles",3,4,0.42857142857142855,3,null,null,"Cubs",2,4,0.33333333333333331,"Twins",1,4,0.2,"Braves",3,4,0.42857142857142855,0,{"$error":"#N/A"},{"$error":"#N/A"},{"$error":"#N/A"}]
[null,"Red Sox",10,6,0.625,1,"BOSTON",6,3,0.66666666666666663,2,"Red Sox",4,3,0.5714285714285714,1,null,null,"Marlins",5,2,0.7142857142857143,"Rays",4,3,0.5714285714285714,"Reds",3,3,0.5,0,{"$error":"#N/A"},{"$error":"#N/A"},{"$error":"#N/A"}]
[null,"Yankees",5,10,0.33333333333333331,5,"NEW YORK",4,5,0.44444444444444442,2,"Yankees",1,5,0.16666666666666666,5,null,null,"White Sox",4,3,0.5714285714285714,"Brewers",3,3,0.5,"Padres",3,4,0.42857142857142855,0,{"$error":"#N/A"},{"$error":"#N/A"},{"$error":"#N/A"}]
[null,"Rays",8,8,0.5,2,"TAMPA BAY",4,5,0.44444444444444442,4,"Rays",4,3,0.5714285714285714,1,"WEEKLY TOTAL",null,null,26,13,0.66666666666666663,null,17,20,0.45945945945945948,null,16,20,0.44444444444444442,null,{"$error":"#N/A"},{"$error":"#N/A"},{"$error":"#N/A"}]
[null,"Blue Jays",7,9,0.4375,3,"TORONTO",4,5,0.44444444444444442,0,"Blue Jays",3,4,0.42857142857142855,3,"PREV WEEK TO DATE",null,"  ",25,30,0.45454545454545453,null,32,23,0.58181818181818179,null,30,25,0.54545454545454541,null,{"$error":"#N/A"},{"$error":"#N/A"},{"$error":"#N/A"}]
[null,null,null," ",null,null,null,null," ",null,null,null,null,null,null,null,"CUR TOTAL TO DATE",null,"  ",51,43,0.54255319148936165,null,49,43,0.53260869565217395,null,46,45,0.50549450549450547,null,{"$error":"#N/A"},{"$error":"#N/A"},{"$error":"#N/A"}]
[null,null,null," ",null,null,"AL CENTRAL",null," ",null,null,"AL CENTRAL"]
[null,"Central","W","L","PCT",null,"TEAM","W","L","PCT",null,"TEAM","W","L","PCT"]
[null,"White Sox",8,8,0.5,3,"CHICAGO",4,5,0.44444444444444442,3,"White Sox",4,3,0.5714285714285714,2,"SEASON TLT TO DATE",null,"  ",null,null,null,null,null,null,null,null,null,null,null,null,{"$error":"#N/A"},{"$error":"#N/A"},{"$error":"#N/A"}]
[null,"Indians",8,7,0.53333333333333333,2,"CLEVELAND",5,3,0.625,1,"Indians",3,4,0.42857142857142855,3,"APRIL TOTAL TO DATE",null,null,51,43,0.54255319148936165,null,49,43,0.53260869565217395,null,46,45,0.50549450549450547,null,{"$error":"#N/A"},{"$error":"#N/A"},{"$error":"#N/A"}]
[null,"Tigers",6,10,0.375,5,"DETROIT",3,6,0.33333333333333331,0,"Tigers",3,4,0.42857142857142855,3]
[null,"Royals",9,5,0.6428571428571429,1,"KANSAS CITY",4,3,0.5714285714285714,0,"Royals",5,2,0.7142857142857143,1]
[null,"Twins",6,8,0.42857142857142855,4,"MINNESOTA",5,4,0.55555555555555558,4,"Twins",1,4,0.2,5,null,null,"JIM T.",null,null,null,"JEAN",null,null,null,"DIANE",null,null,null,0]
[null,null,null," ",null,null,null,null," ",null,null,null,null,null,null,null,null,null,"RANK","W","L","PCT","RANK","W","L","PCT","RANK","W","L","PCT","RANK","W","L","PCT"]
[null,null,null," ",null,null,"AL WEST",null," ",null,null,"AL WEST",null,null,null,null,null,null,"Athletics",6,0,1,"Cubs",2,4,0.33333333333333331,"Dodgers",5,1,0.83333333333333337,0,{"$error":"#N/A"},{"$error":"#N/A"},{"$error":"#N/A"}]
[null,"West","W","L","PCT",null,"TEAM","W","L","PCT",null,"TEAM","W","L","PCT",null,null,null,"Indians",3,4,0.42857142857142855,"Rays",4,3,0.5714285714285714,"Astros",1,5,0.16666666666666666,0,{"$error":"#N/A"},{"$error":"#N/A"},{"$error":"#N/A"}]
[null,"Angels",8,5,0.61538461538461542,2,"LOS ANGELES",6,3,0.66666666666666663,1,"Angels",2,2,0.5,4,null,null,"Diamondbacks",2,4,0.33333333333333331,"Twins",1,4,0.2,"Cardinals",2,4,0.33333333333333331,0,{"$error":"#N/A"},{"$error":"#N/A"},{"$error":"#N/A"}]
[null,"Athletics",9,7,0.5625,3,"OAKLAND",3,7,0.3,3,"Athletics",6,0,1,1,null,null,"Phillies",2,4,0.33333333333333331,"Athletics",6,0,1,"Nationals",4,3,0.5714285714285714,0,{"$error":"#N/A"},{"$error":"#N/A"},{"$error":"#N/A"}]
[null,"Mariners",10,6,0.625,1,"SEATTLE",5,4,0.55555555555555558,0,"Mariners",5,2,0.7142857142857143,2,null,null,"Cubs",2,4,0.33333333333333331,"Mets",5,1,0.83333333333333337,"Red Sox",4,3,0.5714285714285714,0,{"$error":"#N/A"},{"$error":"#N/A"},{"$error":"#N/A"}]
[null,"Rangers",7,9,0.4375,5,"TEXAS",3,6,0.33333333333333331,0,"Rangers",4,3,0.5714285714285714,3,null,null,"Yankees",1,5,0.16666666666666666,"Dodgers",5,1,0.83333333333333337,"White Sox",4,3,0.5714285714285714,0,{"$error":"#N/A"},{"$error":"#N/A"},{"$error":"#N/A"}]
[null,"Astros",7,8,0.46666666666666667,4,"HOUSTON",6,3,0.66666666666666663,4,"Astros",1,5,0.16666666666666666,5,"WEEKLY TOTAL",null,null,16,21,0.43243243243243246,null,23,13,0.63888888888888884,null,20,19,0.51282051282051277,null,{"$error":"#N/A"},{"$error":"#N/A"},{"$error":"#N/A"}]
[null,null,null,null,null,null,null,null,null,null,null,null,null,null,null,null,"PREV WEEK TO DATE",null,null,26,29,0.47272727272727272,null,26,26,0.5,null,30,22,0.57692307692307687,null,{"$error":"#N/A"},{"$error":"#N/A"},{"$error":"#N/A"}]
[null,"National League",null," ",null,null,"NL EAST",null," ",null,null,"NL EAST",null,null,null,null,"CUR TOTAL TO DATE",null,null,42,50,0.45652173913043476,null,49,39,0.55681818181818177,null,50,41,0.5494505494505495,null,{"$error":"#N/A"},{"$error":"#N/A"},{"$error":"#N/A"}]
[null,"East","W","L","PCT",null,"TEAM","W","L","PCT",null,"TEAM","W","L","PCT"]
[null,"Braves",7,9,0.4375,4,"ATLANTA",4,5,0.44444444444444442,4,"Braves",3,4,0.42857142857142855,4]
[null,"Marlins",7,8,0.46666666666666667,3,"Miami",2,6,0.25,1,"Marlins",5,2,0.7142857142857143,2,"SEASON TLT TO DATE",null,null,null,null,null,null,null,null,null,null,null,null,null,null,{"$error":"#N/A"},{"$error":"#N/A"},{"$error":"#N/A"}]
[null,"Mets",7,4,0.63636363636363635,1,"NEW YORK",2,3,0.4,1,"Mets",5,1,0.83333333333333337,1,"APRIL TOTAL TO DATE",null,null,42,50,0.45652173913043476,null,49,39,0.55681818181818177,null,50,41,0.5494505494505495,null,{"$error":"#N/A"},{"$error":"#N/A"},{"$error":"#N/A"}]
[null,"Phillies",8,7,0.53333333333333333,2,"PHILADELPHIA",6,3,0.66666666666666663,1,"Phillies",2,4,0.33333333333333331,5]
[null,"Nationals",5,8,0.38461538461538464,5,"WASHINGTON",1,5,0.16666666666666666,1,"Nationals",4,3,0.5714285714285714,3]
[null,null,null," ",null,null,null,null," ",null,null,null,null,null,null,null,null,null,"JIM K.",null,null,null,"TIM",null,null,null,"-----",null,null,null,0]
[null,null,null," ",null,null,"NL CENTRAL",null," ",null,null,"NL CENTRAL",null,null,null,null,null,null,"RANK","W","L","PCT","RANK","W","L","PCT","RANK","W","L","PCT","RANK","W","L","PCT"]
[null,"Central","W","L","PCT",null,"TEAM","W","L","PCT",null,"TEAM","W","L","PCT",null,null,null,"Astros",1,5,0.16666666666666666,"Dodgers",5,1,0.83333333333333337,null,null,null,null,0,{"$error":"#N/A"},{"$error":"#N/A"},{"$error":"#N/A"}]
[null,"Cubs",6,9,0.4,5,"CHICAGO",4,5,0.44444444444444442,4,"Cubs",2,4,0.33333333333333331,4,null,null,"Rays",4,3,0.5714285714285714,"Braves",3,4,0.42857142857142855,null,null,null,null,0,{"$error":"#N/A"},{"$error":"#N/A"},{"$error":"#N/A"}]
[null,"Reds",9,6,0.6,1,"CINCINNATI",6,3,0.66666666666666663,1,"Reds",3,3,0.5,2,null,null,"Twins",1,4,0.2,"Yankees",1,5,0.16666666666666666,null,null,null,null,0,{"$error":"#N/A"},{"$error":"#N/A"},{"$error":"#N/A"}]
[null,"Brewers",8,7,0.53333333333333333,2,"MILWAUKEE",5,4,0.55555555555555558,1,"Brewers",3,3,0.5,2,null,null,"Cubs",2,4,0.33333333333333331,"Cardinals",2,4,0.33333333333333331,null,null,null,null,0,{"$error":"#N/A"},{"$error":"#N/A"},{"$error":"#N/A"}]
[null,"Pirates",7,9,0.4375,4,"PITTSBURGH",3,6,0.33333333333333331,0,"Pirates",4,3,0.5714285714285714,1,null,null,"Braves",3,4,0.42857142857142855,"White Sox",4,3,0.5714285714285714,null,null,null,null,0,{"$error":"#N/A"},{"$error":"#N/A"},{"$error":"#N/A"}]
[null,"Cardinals",7,8,0.46666666666666667,3,"ST LOUIS",5,4,0.55555555555555558,2,"Cardinals",2,4,0.33333333333333331,4,null,null,"Giants",3,3,0.5,"Astros",1,5,0.16666666666666666,null,null,null,null,0,{"$error":"#N/A"},{"$error":"#N/A"},{"$error":"#N/A"}]
[null,null,null," ",null,null,null,null," ",null,null,null,null,null,null,null,"WEEKLY TOTAL",null,null,14,23,0.3783783783783784,null,16,22,0.42105263157894735,null,0,30,"",null,{"$error":"#N/A"},{"$error":"#N/A"},{"$error":"#N/A"}]
[null,null,null," ",null,null,"NL WEST",null," ",null,null,"NL WEST",null,null,null,null,"PREV WEEK TO DATE",null,null,29,25,0.53703703703703709,null,31,24,0.5636363636363636,null,0,40,"",null,{"$error":"#N/A"},{"$error":"#N/A"},{"$error":"#N/A"}]
[null,"West","W","L","PCT",null,"TEAM","W","L","PCT",null,"TEAM","W","L","PCT",null,"CUR TOTAL TO DATE",null,null,43,48,0.47252747252747251,null,47,46,0.5053763440860215,null,0,70,"",null,{"$error":"#N/A"},{"$error":"#N/A"},{"$error":"#N/A"}]
[null,"Diamondbacks",6,10,0.375,4,"ARIZONA",4,6,0.4,1,"Diamondbacks",2,4,0.33333333333333331,4]
[null,"Rockies",4,12,0.25,5,"COLORADO",3,7,0.3,0,"Rockies",1,5,0.16666666666666666,5]
[null,"Dodgers",13,3,0.8125,1,"LOS ANGELES",8,2,0.8,5,"Dodgers",5,1,0.83333333333333337,1,"SEASON TLT TO DATE",null,null,null,null,null,null,null,null,null,null,null,null,null,null,{"$error":"#N/A"},{"$error":"#N/A"},{"$error":"#N/A"}]
[null,"Padres",10,7,0.58823529411764708,3,"SAN DIEGO",7,3,0.7,1,"Padres",3,4,0.42857142857142855,3,"APRIL TOTAL TO DATE",null,null,43,48,0.47252747252747251,null,47,46,0.5053763440860215,null,0,70,"",null,{"$error":"#N/A"},{"$error":"#N/A"},{"$error":"#N/A"}]
[null,"Giants",9,6,0.6,2,"SAN FRANCISCO",6,3,0.66666666666666663,1,"Giants",3,3,0.5,2]
[null,null,null,null,null,null,null,null,null,null,null,null,96,96]
[null,null,null,"2021-04-19"," Morning"]
[]
[null,null,"WEEK 2"]
[null," ","NAME","W","L","PCT","GB"]
[null,null,"MIKE",26,13,0.66666666666666663,0]
[null," ","JEAN",23,13,0.63888888888888884,1.5]
[null," ","DIANE",20,19,0.51282051282051277,6]
[null," ","JOHN",17,20,0.45945945945945948,8]
[null," ","LARRY",16,20,0.44444444444444442,8.5]
[null,null,"JIM T.",16,21,0.43243243243243246,9]
[null,null,"TIM",16,22,0.42105263157894735,9.5]
[null,null,"JIM K.",14,23,0.3783783783783784,11]
[null,null,"-----",0,30,0,"-----"]
[null,null,"","","","",""]
[null,null,"","","","",""]
[null,null,"","","","",""]
[]
[null,null,"MONTH OF  APRIL"]
[null,null,"NAME","W","L","PCT","GB"]
[null,null,"JEAN",49,39,0.55681818181818177,0]
[null,null,"DIANE",50,41,0.5494505494505495,0.5]
[null,null,"MIKE",51,43,0.54255319148936165,1]
[null,null,"JOHN",49,43,0.53260869565217395,2]
[null,null,"LARRY",46,45,0.50549450549450547,4.5]
[null,null,"TIM",47,46,0.5053763440860215,4.5]
[null,null,"JIM K.",43,48,0.47252747252747251,7.5]
[null,null,"JIM T.",42,50,0.45652173913043476,9]
[null,null,"-----",0,70,0,"-----"]
[null,null,"","","","",""]
[null,null,"","","","",""]
[null,null,"","","","",""]
[null,null,2021,null,"SEASON"]
[null,null,"NAME","W","L","PCT","GB"]
[null,null,"JEAN",49,39,0.55681818181818177,0]
[null,null,"DIANE",50,41,0.5494505494505495,0.5]
[null,null,"MIKE",51,43,0.54255319148936165,1]
[null,null,"JOHN",49,43,0.53260869565217395,2]
[null,null,"LARRY",46,45,0.50549450549450547,4.5]
[null,null,"TIM",47,46,0.5053763440860215,4.5]
[null,null,"JIM K.",43,48,0.47252747252747251,7.5]
[null,null,"JIM T.",42,50,0.45652173913043476,9,null," "]
[null,null,"-----",0,70,0,"-----",null," "]
[null,null,"","","","","",null," "]
[null,null,"","","","",""]
[null,null,"","","","",""]
[]
[]
[]
[]
[]
[]
[]
[null,null,null,null,"CURRENT WEEK",null,null,null,null,null,null,"THIS WEEK"]
[null,null,"WEEK ENDING",null,"THIS WEEK","SEASON",null,null,null,null,null,"AL",null,"RANK"]
[null,null,"2021-04-18",null,"RANK","RANK",null,null,null,null,null,"OAKLAND",1,1]
[null,null,"OAKLAND",1,1,10,null,null,null,null,null,"SEATTLE",0.7142857142857143,2]
[null,null,"LOS ANGELES N",0.83333333333333337,2,1,null,null,null,null,null,"KANSAS CITY",0.7142857142857143,2]
[null,null,"NEW YORK N",0.83333333333333337,2,3,null,null,null,null,null,"BOSTON",0.5714285714285714,4]
[null,null,"MIAMI",0.7142857142857143,4,16,null,null,null,null,null,"TEXAS",0.5714285714285714,4]
[null,null,"SEATTLE",0.7142857142857143,4,4,null,null,null,null,null,"TAMPA BAY",0.5714285714285714,4]
[null,null,"KANSAS CITY",0.7142857142857143,4,2,null,null,null,null,null,"CHICAGO A",0.5714285714285714,4]
[null,null,"BOSTON",0.5714285714285714,7,4,null,null,null,null,null,"LOS ANGELES A",0.5,8]
[null,null,"WASHINGTON",0.5714285714285714,7,26,null,null,null,null,null,"DETROIT",0.42857142857142855,9]
[null,null,"TEXAS",0.5714285714285714,7,19,null,null,null,null,null,"TORONTO",0.42857142857142855,9]
[null,null,"PITTSBURGH",0.5714285714285714,7,19,null,null,null,null,null,"BALTIMORE",0.42857142857142855,9]
[null,null,"TAMPA BAY",0.5714285714285714,7,14,null,null,null,null,null,"CLEVELAND",0.42857142857142855,9]
[null,null,"CHICAGO A",0.5714285714285714,7,14,null,null,null,null,null,"MINNESOTA",0.2,13]
[null,null,"MILWAUKEE",0.5,13,11,null,null,null,null,null,"NEW YORK A",0.16666666666666666,14]
[null,null,"CINCINNATI",0.5,13,7,null,null,null,null,null,"HOUSTON",0.16666666666666666,14]
[null,null,"LOS ANGELES A",0.5,13,6,null,null,null,null,null,"NL"]
[null,null,"SAN FRANCISCO",0.5,13,7,null,null,null,null,null,"LOS ANGELES N",0.83333333333333337,1]
[null,null,"DETROIT",0.42857142857142855,17,27,null,null,null,null,null,"NEW YORK N",0.83333333333333337,1]
[null,null,"TORONTO",0.42857142857142855,17,19,null,null,null,null,null,"MIAMI",0.7142857142857143,3]
[null,null,"BALTIMORE",0.42857142857142855,17,19,null,null,null,null,null,"WASHINGTON",0.5714285714285714,4]
[null,null,"SAN DIEGO",0.42857142857142855,17,9,null,null,null,null,null,"PITTSBURGH",0.5714285714285714,4]
[null,null,"CLEVELAND",0.42857142857142855,17,11,null,null,null,null,null,"MILWAUKEE",0.5,6]
[null,null,"ATLANTA",0.42857142857142855,17,19,null,null,null,null,null,"CINCINNATI",0.5,6]
[null,null,"ST LOUIS",0.33333333333333331,23,16,null,null,null,null,null,"SAN FRANCISCO",0.5,6]
[null,null,"CHICAGO N",0.33333333333333331,23,25,null,null,null,null,null,"SAN DIEGO",0.42857142857142855,9]
[null,null,"PHILADELPHIA",0.33333333333333331,23,11,null,null,null,null,null,"ATLANTA",0.42857142857142855,9]
[null,null,"ARIZONA",0.33333333333333331,23,27,null,null,null,null,null,"ST LOUIS",0.33333333333333331,11]
[null,null,"MINNESOTA",0.2,27,24,null,null,null,null,null,"CHICAGO N",0.33333333333333331,11]
[null,null,"NEW YORK A",0.16666666666666666,28,29,null,null,null,null,null,"PHILADELPHIA",0.33333333333333331,11]
[null,null,"COLORADO",0.16666666666666666,28,30,null,null,null,null,null,"ARIZONA",0.33333333333333331,11]
[null,null,"HOUSTON",0.16666666666666666,28,16,null,null,null,null,null,"COLORADO",0.16666666666666666,15]
[]
[null,null,null,null,"SEASON TO DATE",null,null,null,null,null,null,"SEASON TO DATE"]
[null,null,null,null,null,null,null,null,null,null,null,"AL"]
[null,null,"SEASON TO-DATE",null,"RANK",null,null,null,null,null,null,"KANSAS CITY",0.6428571428571429,1]
[null,null,"LOS ANGELES N",0.8125,1,null,null,null,null,null,null,"BOSTON",0.625,2]
[null,null,"KANSAS CITY",0.6428571428571429,2,null,null,null,null,null,null,"SEATTLE",0.625,2]
[null,null,"NEW YORK N",0.63636363636363635,3,null,null,null,null,null,null,"LOS ANGELES A",0.61538461538461542,4]
[null,null,"BOSTON",0.625,4,null,null,null,null,null,null,"OAKLAND",0.5625,5]
[null,null,"SEATTLE",0.625,4,null,null,null,null,null,null,"CLEVELAND",0.53333333333333333,6]
[null,null,"LOS ANGELES A",0.61538461538461542,6,null,null,null,null,null,null,"TAMPA BAY",0.5,7]
[null,null,"CINCINNATI",0.6,7,null,null,null,null,null,null,"CHICAGO A",0.5,7]
[null,null,"SAN FRANCISCO",0.6,7,null,null,null,null,null,null,"HOUSTON",0.46666666666666667,9]
[null,null,"SAN DIEGO",0.58823529411764708,9,null,null,null,null,null,null,"TORONTO",0.4375,10]
[null,null,"OAKLAND",0.5625,10,null,null,null,null,null,null,"BALTIMORE",0.4375,10]
[null,null,"MILWAUKEE",0.53333333333333333,11,null,null,null,null,null,null,"TEXAS",0.4375,10]
[null,null,"CLEVELAND",0.53333333333333333,11,null,null,null,null,null,null,"MINNESOTA",0.42857142857142855,13]
[null,null,"PHILADELPHIA",0.53333333333333333,11,null,null,null,null,null,null,"DETROIT",0.375,14]
[null,null,"TAMPA BAY",0.5,14,null,null,null,null,null,null,"NEW YORK A",0.33333333333333331,15]
[null,null,"CHICAGO A",0.5,14,null,null,null,null,null,null,"NL"]
[null,null,"HOUSTON",0.46666666666666667,16,null,null,null,null,null,null,"LOS ANGELES N",0.8125,1]
[null,null,"ST LOUIS",0.46666666666666667,16,null,null,null,null,null,null,"NEW YORK N",0.63636363636363635,2]
[null,null,"MIAMI",0.46666666666666667,16,null,null,null,null,null,null,"CINCINNATI",0.6,3]
[null,null,"TORONTO",0.4375,19,null,null,null,null,null,null,"SAN FRANCISCO",0.6,3]
[null,null,"BALTIMORE",0.4375,19,null,null,null,null,null,null,"SAN DIEGO",0.58823529411764708,5]
[null,null,"TEXAS",0.4375,19,null,null,null,null,null,null,"MILWAUKEE",0.53333333333333333,6]
[null,null,"PITTSBURGH",0.4375,19,null,null,null,null,null,null,"PHILADELPHIA",0.53333333333333333,6]
[null,null,"ATLANTA",0.4375,19,null,null,null,null,null,null,"ST LOUIS",0.46666666666666667,8]
[null,null,"MINNESOTA",0.42857142857142855,24,null,null,null,null,null,null,"MIAMI",0.46666666666666667,8]
[null,null,"CHICAGO N",0.4,25,null,null,null,null,null,null,"PITTSBURGH",0.4375,10]
[null,null,"WASHINGTON",0.38461538461538464,26,null,null,null,null,null,null,"ATLANTA",0.4375,10]
[null,null,"DETROIT",0.375,27,null,null,null,null,null,null,"CHICAGO N",0.4,12]
[null,null,"ARIZONA",0.375,27,null,null,null,null,null,null,"WASHINGTON",0.38461538461538464,13]
[null,null,"NEW YORK A",0.33333333333333331,29,null,null,null,null,null,null,"ARIZONA",0.375,14]

{"sheet":"11-Apr","index":37,"n_rows":172,"n_cols":34,"rows_kept":172,"cut":false,"hidden":false,"merged":[[141,11,141,12],[142,2,142,3],[157,11,157,12],[108,2,108,3],[113,16,113,20],[123,11,123,12],[124,16,124,20],[140,4,140,5],[140,11,140,12],[94,9,94,13],[95,9,95,13],[102,16,102,20],[106,4,106,5],[107,2,107,3],[107,11,107,12],[50,16,50,17],[51,16,51,17],[56,2,56,6],[71,2,71,6],[85,2,85,3],[85,4,85,5],[37,22,37,25],[37,26,37,29],[37,30,37,33],[45,16,45,17],[46,16,46,17],[37,18,37,21],[47,16,47,17],[28,16,28,17],[29,16,29,17],[30,16,30,17],[33,16,33,17],[34,16,34,17],[20,30,20,33],[4,2,4,4],[4,6,4,9],[4,11,4,14],[11,16,11,17],[12,16,12,17],[13,16,13,17],[16,16,16,17],[17,16,17,17],[20,18,20,21],[20,22,20,25],[20,26,20,29],[1,16,1,33],[2,13,2,14],[3,18,3,21],[3,22,3,25],[3,26,3,29],[3,30,3,33]]}
[null,2021,"STANDINGS"]
[null,null,null,null,null,null,null,null,null,null,null,null,null,null,null,null,"CURRENT WEEK RESULTS"]
[null,"WEEK ENDING "," ","2021-04-11",null,null,null," ",null,null,null,"WEEK",1,"APRIL",null," "]
[null,null,null,null,null,null,null,null,null,null,null,null,null,null,null,null,null,null,"MIKE",null,null,null,"JOHN",null,null,null,"LARRY",null,null,null,0]
[null,null,"CURRENT WEEK-SEASON TO DATE",null,null,null,"PREVIOUS WEEK-SEASON TO DATE",null,null,null,null,"CURRENT WEEK TOTALS",null,null,null,null,null,null,"RANK","W","L","PCT","RANK","W","L","PCT","RANK","W","L","PCT","RANK","W","L","PCT"]
[null,null,null,null,null,null,null,null,null,null,null,null,null,null,null,null,null,null,"Dodgers",8,2,0.8,"Dodgers",8,2,0.8,"Yankees",4,5,0.44444444444444442,0,{"$error":"#N/A"},{"$error":"#N/A"},{"$error":"#N/A"}]
[null,"American League",null,null,null,null,"AL EAST",null,null,null,"Times","AL EAST",null,null,null,null,null,null,"Rays",4,5,0.44444444444444442,"Braves",4,5,0.44444444444444442,"Twins",5,4,0.55555555555555558,0,{"$error":"#N/A"},{"$error":"#N/A"},{"$error":"#N/A"}]
[null,"East","W","L","PCT","Rank","TEAM","W","L","PCT","Picked","TEAM","W","L","PCT","Rank",null,null,"Athletics",3,7,0.3,"Astros",6,3,0.66666666666666663,"Angels",6,3,0.66666666666666663,0,{"$error":"#N/A"},{"$error":"#N/A"},{"$error":"#N/A"}]
[null,"Orioles",4,5,0.44444444444444442,2,"BALTIMORE",null,null,null,0,"Orioles",4,5,0.44444444444444442,2,null,null,"Cubs",4,5,0.44444444444444442,"Twins",5,4,0.55555555555555558,"Braves",4,5,0.44444444444444442,0,{"$error":"#N/A"},{"$error":"#N/A"},{"$error":"#N/A"}]
[null,"Red Sox",6,3,0.66666666666666663,1,"BOSTON",null,null,null,1,"Red Sox",6,3,0.66666666666666663,1,null,null,"Marlins",2,6,0.25,"Rays",4,5,0.44444444444444442,"Cubs",4,5,0.44444444444444442,0,{"$error":"#N/A"},{"$error":"#N/A"},{"$error":"#N/A"}]
[null,"Yankees",4,5,0.44444444444444442,2,"NEW YORK",null,null,null,3,"Yankees",4,5,0.44444444444444442,2,null,null,"White Sox",4,5,0.44444444444444442,"Brewers",5,4,0.55555555555555558,"Padres",7,3,0.7,0,{"$error":"#N/A"},{"$error":"#N/A"},{"$error":"#N/A"}]
[null,"Rays",4,5,0.44444444444444442,2,"TAMPA BAY",null,null,null,4,"Rays",4,5,0.44444444444444442,2,"WEEKLY TOTAL",null,null,25,30,0.45454545454545453,null,32,23,0.58181818181818179,null,30,25,0.54545454545454541,null,{"$error":"#N/A"},{"$error":"#N/A"},{"$error":"#N/A"}]
[null,"Blue Jays",4,5,0.44444444444444442,2,"TORONTO",null,null,null,0,"Blue Jays",4,5,0.44444444444444442,2,"PREV WEEK TO DATE",null,"  ",null,null,null,null,null,null,null,null,null,null,null,null,{"$error":"#N/A"},{"$error":"#N/A"},{"$error":"#N/A"}]
[null,null,null," ",null,null,null,null," ",null,null,null,null,null,null,null,"CUR TOTAL TO DATE",null,"  ",25,30,0.45454545454545453,null,32,23,0.58181818181818179,null,30,25,0.54545454545454541,null,{"$error":"#N/A"},{"$error":"#N/A"},{"$error":"#N/A"}]
[null,null,null," ",null,null,"AL CENTRAL",null," ",null,null,"AL CENTRAL"]
[null,"Central","W","L","PCT",null,"TEAM","W","L","PCT",null,"TEAM","W","L","PCT"]
[null,"White Sox",4,5,0.44444444444444442,4,"CHICAGO",null,null,null,3,"White Sox",4,5,0.44444444444444442,4,"SEASON TLT TO DATE",null,"  ",null,null,null,null,null,null,null,null,null,null,null,null,{"$error":"#N/A"},{"$error":"#N/A"},{"$error":"#N/A"}]
[null,"Indians",5,3,0.625,1,"CLEVELAND",null,null,null,1,"Indians",5,3,0.625,1,"APRIL TOTAL TO DATE",null,null,25,30,0.45454545454545453,null,32,23,0.58181818181818179,null,30,25,0.54545454545454541,null,{"$error":"#N/A"},{"$error":"#N/A"},{"$error":"#N/A"}]
[null,"Tigers",3,6,0.33333333333333331,5,"DETROIT",null,null,null,0,"Tigers",3,6,0.33333333333333331,5]
[null,"Royals",4,3,0.5714285714285714,2,"KANSAS CITY",null,null,null,0,"Royals",4,3,0.5714285714285714,2]
[null,"Twins",5,4,0.55555555555555558,3,"MINNESOTA",null,null,null,4,"Twins",5,4,0.55555555555555558,3,null,null,"JIM T.",null,null,null,"JEAN",null,null,null,"DIANE",null,null,null,0]
[null,null,null," ",null,null,null,null," ",null,null,null,null,null,null,null,null,null,"RANK","W","L","PCT","RANK","W","L","PCT","RANK","W","L","PCT","RANK","W","L","PCT"]
[null,null,null," ",null,null,"AL WEST",null," ",null,null,"AL WEST",null,null,null,null,null,null,"Athletics",3,7,0.3,"Cubs",4,5,0.44444444444444442,"Dodgers",8,2,0.8,0,{"$error":"#N/A"},{"$error":"#N/A"},{"$error":"#N/A"}]
[null,"West","W","L","PCT",null,"TEAM","W","L","PCT",null,"TEAM","W","L","PCT",null,null,null,"Indians",5,3,0.625,"Rays",4,5,0.44444444444444442,"Astros",6,3,0.66666666666666663,0,{"$error":"#N/A"},{"$error":"#N/A"},{"$error":"#N/A"}]
[null,"Angels",6,3,0.66666666666666663,1,"LOS ANGELES",null,null,null,1,"Angels",6,3,0.66666666666666663,1,null,null,"Diamondbacks",4,6,0.4,"Twins",5,4,0.55555555555555558,"Cardinals",5,4,0.55555555555555558,0,{"$error":"#N/A"},{"$error":"#N/A"},{"$error":"#N/A"}]
[null,"Athletics",3,7,0.3,5,"OAKLAND",null,null,null,3,"Athletics",3,7,0.3,5,null,null,"Phillies",6,3,0.66666666666666663,"Athletics",3,7,0.3,"Nationals",1,5,0.16666666666666666,0,{"$error":"#N/A"},{"$error":"#N/A"},{"$error":"#N/A"}]
[null,"Mariners",5,4,0.55555555555555558,3,"SEATTLE",null,null,null,0,"Mariners",5,4,0.55555555555555558,3,null,null,"Cubs",4,5,0.44444444444444442,"Mets",2,3,0.4,"Red Sox",6,3,0.66666666666666663,0,{"$error":"#N/A"},{"$error":"#N/A"},{"$error":"#N/A"}]
[null,"Rangers",3,6,0.33333333333333331,4,"TEXAS",null,null,null,0,"Rangers",3,6,0.33333333333333331,4,null,null,"Yankees",4,5,0.44444444444444442,"Dodgers",8,2,0.8,"White Sox",4,5,0.44444444444444442,0,{"$error":"#N/A"},{"$error":"#N/A"},{"$error":"#N/A"}]
[null,"Astros",6,3,0.66666666666666663,1,"HOUSTON",null,null,null,4,"Astros",6,3,0.66666666666666663,1,"WEEKLY TOTAL",null,null,26,29,0.47272727272727272,null,26,26,0.5,null,30,22,0.57692307692307687,null,{"$error":"#N/A"},{"$error":"#N/A"},{"$error":"#N/A"}]
[null,null,null,null,null,null,null,null,null,null,null,null,null,null,null,null,"PREV WEEK TO DATE",null,null,null,null,null,null,null,null,null,null,null,null,null,null,{"$error":"#N/A"},{"$error":"#N/A"},{"$error":"#N/A"}]
[null,"National League",null," ",null,null,"NL EAST",null," ",null,null,"NL EAST",null,null,null,null,"CUR TOTAL TO DATE",null,null,26,29,0.47272727272727272,null,26,26,0.5,null,30,22,0.57692307692307687,null,{"$error":"#N/A"},{"$error":"#N/A"},{"$error":"#N/A"}]
[null,"East","W","L","PCT",null,"TEAM","W","L","PCT",null,"TEAM","W","L","PCT"]
[null,"Braves",4,5,0.44444444444444442,2,"ATLANTA",null,null,null,4,"Braves",4,5,0.44444444444444442,2]
[null,"Marlins",2,6,0.25,4,"Miami",null,null,null,1,"Marlins",2,6,0.25,4,"SEASON TLT TO DATE",null,null,null,null,null,null,null,null,null,null,null,null,null,null,{"$error":"#N/A"},{"$error":"#N/A"},{"$error":"#N/A"}]
[null,"Mets",2,3,0.4,3,"NEW YORK",null,null,null,1,"Mets",2,3,0.4,3,"APRIL TOTAL TO DATE",null,null,26,29,0.47272727272727272,null,26,26,0.5,null,30,22,0.57692307692307687,null,{"$error":"#N/A"},{"$error":"#N/A"},{"$error":"#N/A"}]
[null,"Phillies",6,3,0.66666666666666663,1,"PHILADELPHIA",null,null,null,1,"Phillies",6,3,0.66666666666666663,1]
[null,"Nationals",1,5,0.16666666666666666,5,"WASHINGTON",null,null,null,1,"Nationals",1,5,0.16666666666666666,5]
[null,null,null," ",null,null,null,null," ",null,null,null,null,null,null,null,null,null,"JIM K.",null,null,null,"TIM",null,null,null,"-----",null,null,null,0]
[null,null,null," ",null,null,"NL CENTRAL",null," ",null,null,"NL CENTRAL",null,null,null,null,null,null,"RANK","W","L","PCT","RANK","W","L","PCT","RANK","W","L","PCT","RANK","W","L","PCT"]
[null,"Central","W","L","PCT",null,"TEAM","W","L","PCT",null,"TEAM","W","L","PCT",null,null,null,"Astros",6,3,0.66666666666666663,"Dodgers",8,2,0.8,null,null,null,null,0,{"$error":"#N/A"},{"$error":"#N/A"},{"$error":"#N/A"}]
[null,"Cubs",4,5,0.44444444444444442,4,"CHICAGO",null,null,null,5,"Cubs",4,5,0.44444444444444442,4,null,null,"Rays",4,5,0.44444444444444442,"Braves",4,5,0.44444444444444442,null,null,null,null,0,{"$error":"#N/A"},{"$error":"#N/A"},{"$error":"#N/A"}]
[null,"Reds",6,3,0.66666666666666663,1,"CINCINNATI",null,null,null,0,"Reds",6,3,0.66666666666666663,1,null,null,"Twins",5,4,0.55555555555555558,"Yankees",4,5,0.44444444444444442,null,null,null,null,0,{"$error":"#N/A"},{"$error":"#N/A"},{"$error":"#N/A"}]
[null,"Brewers",5,4,0.55555555555555558,2,"MILWAUKEE",null,null,null,1,"Brewers",5,4,0.55555555555555558,2,null,null,"Cubs",4,5,0.44444444444444442,"Cardinals",5,4,0.55555555555555558,null,null,null,null,0,{"$error":"#N/A"},{"$error":"#N/A"},{"$error":"#N/A"}]
[null,"Pirates",3,6,0.33333333333333331,5,"PITTSBURGH",null,null,null,0,"Pirates",3,6,0.33333333333333331,5,null,null,"Braves",4,5,0.44444444444444442,"White Sox",4,5,0.44444444444444442,null,null,null,null,0,{"$error":"#N/A"},{"$error":"#N/A"},{"$error":"#N/A"}]
[null,"Cardinals",5,4,0.55555555555555558,2,"ST LOUIS",null,null,null,2,"Cardinals",5,4,0.55555555555555558,2,null,null,"Giants",6,3,0.66666666666666663,"Astros",6,3,0.66666666666666663,null,null,null,null,0,{"$error":"#N/A"},{"$error":"#N/A"},{"$error":"#N/A"}]
[null,null,null," ",null,null,null,null," ",null,null,null,null,null,null,null,"WEEKLY TOTAL",null,null,29,25,0.53703703703703709,null,31,24,0.5636363636363636,null,0,40,"",null,{"$error":"#N/A"},{"$error":"#N/A"},{"$error":"#N/A"}]
[null,null,null," ",null,null,"NL WEST",null," ",null,null,"NL WEST",null,null,null,null,"PREV WEEK TO DATE",null,null,null,null,null,null,null,null,null,null,null,null,null,null,{"$error":"#N/A"},{"$error":"#N/A"},{"$error":"#N/A"}]
[null,"West","W","L","PCT",null,"TEAM","W","L","PCT",null,"TEAM","W","L","PCT",null,"CUR TOTAL TO DATE",null,null,29,25,0.53703703703703709,null,31,24,0.5636363636363636,null,0,40,"",null,{"$error":"#N/A"},{"$error":"#N/A"},{"$error":"#N/A"}]
[null,"Diamondbacks",4,6,0.4,4,"ARIZONA",null,null,null,1,"Diamondbacks",4,6,0.4,4]
[null,"Rockies",3,7,0.3,5,"COLORADO",null,null,null,0,"Rockies",3,7,0.3,5]
[null,"Dodgers",8,2,0.8,1,"LOS ANGELES",null,null,null,5,"Dodgers",8,2,0.8,1,"SEASON TLT TO DATE",null,null,null,null,null,null,null,null,null,null,null,null,null,null,{"$error":"#N/A"},{"$error":"#N/A"},{"$error":"#N/A"}]
[null,"Padres",7,3,0.7,2,"SAN DIEGO",null,null,null,1,"Padres",7,3,0.7,2,"APRIL TOTAL TO DATE",null,null,29,25,0.53703703703703709,null,31,24,0.5636363636363636,null,0,40,"",null,{"$error":"#N/A"},{"$error":"#N/A"},{"$error":"#N/A"}]
[null,"Giants",6,3,0.66666666666666663,3,"SAN FRANCISCO",null,null,null,1,"Giants",6,3,0.66666666666666663,3]
[null,null,null,null,null,null,null,null,null,null,null,null,132,132]
[null,null,null,"2021-04-12"," Morning"]
[]
[null,null,"WEEK 1"]
[null," ","NAME","W","L","PCT","GB"]
[null,null,"JOHN",32,23,0.58181818181818179,0]
[null," ","DIANE",30,22,0.57692307692307687,0.5]
[null," ","TIM",31,24,0.5636363636363636,1]
[null," ","LARRY",30,25,0.54545454545454541,2]
[null," ","JIM K.",29,25,0.53703703703703709,2.5]
[null,null,"JEAN",26,26,0.5,4.5]
[null,null,"JIM T.",26,29,0.47272727272727272,6]
[null,null,"MIKE",25,30,0.45454545454545453,7]
[null,null,"-----",0,40,0,24.5]
[null,null,"","","","",""]
[null,null,"","","","",""]
[null,null,"","","","",""]
[]
[null,null,"MONTH OF  APRIL"]
[null,null,"NAME","W","L","PCT","GB"]
[null,null,"JOHN",32,23,0.58181818181818179,0]
[null,null,"DIANE",30,22,0.57692307692307687,0.5]
[null,null,"TIM",31,24,0.5636363636363636,1]
[null,null,"LARRY",30,25,0.54545454545454541,2]
[null,null,"JIM K.",29,25,0.53703703703703709,2.5]
[null,null,"JEAN",26,26,0.5,4.5]
[null,null,"JIM T.",26,29,0.47272727272727272,6]
[null,null,"MIKE",25,30,0.45454545454545453,7]
[null,null,"-----",0,40,0,24.5]
[null,null,"","","","",""]
[null,null,"","","","",""]
[null,null,"","","","",""]
[null,null,2021,null,"SEASON"]
[null,null,"NAME","W","L","PCT","GB"]
[null,null,"JOHN",32,23,0.58181818181818179,0]
[null,null,"DIANE",30,22,0.57692307692307687,0.5]
[null,null,"TIM",31,24,0.5636363636363636,1]
[null,null,"LARRY",30,25,0.54545454545454541,2]
[null,null,"JIM K.",29,25,0.53703703703703709,2.5]
[null,null,"JEAN",26,26,0.5,4.5]
[null,null,"JIM T.",26,29,0.47272727272727272,6]
[null,null,"MIKE",25,30,0.45454545454545453,7,null," "]
[null,null,"-----",0,40,0,24.5,null," "]
[null,null,"","","","","",null," "]
[null,null,"","","","",""]
[null,null,"","","","",""]
[]
[]
[]
[]
[]
[]
[]
[null,null,null,null,"CURRENT WEEK",null,null,null,null,null,null,"THIS WEEK"]
[null,null,"WEEK ENDING",null,"THIS WEEK","SEASON",null,null,null,null,null,"AL",null,"RANK"]
[null,null,"2021-04-11",null,"RANK","RANK",null,null,null,null,null,"HOUSTON",0.66666666666666663,1]
[null,null,"LOS ANGELES N",0.8,1,1,null,null,null,null,null,"LOS ANGELES A",0.66666666666666663,1]
[null,null,"SAN DIEGO",0.7,2,2,null,null,null,null,null,"BOSTON",0.66666666666666663,1]
[null,null,"CINCINNATI",0.66666666666666663,3,3,null,null,null,null,null,"CLEVELAND",0.625,4]
[null,null,"HOUSTON",0.66666666666666663,3,3,null,null,null,null,null,"KANSAS CITY",0.5714285714285714,5]
[null,null,"LOS ANGELES A",0.66666666666666663,3,3,null,null,null,null,null,"MINNESOTA",0.55555555555555558,6]
[null,null,"PHILADELPHIA",0.66666666666666663,3,3,null,null,null,null,null,"SEATTLE",0.55555555555555558,6]
[null,null,"BOSTON",0.66666666666666663,3,3,null,null,null,null,null,"BALTIMORE",0.44444444444444442,8]
[null,null,"SAN FRANCISCO",0.66666666666666663,3,3,null,null,null,null,null,"CHICAGO A",0.44444444444444442,8]
[null,null,"CLEVELAND",0.625,9,9,null,null,null,null,null,"TAMPA BAY",0.44444444444444442,8]
[null,null,"KANSAS CITY",0.5714285714285714,10,10,null,null,null,null,null,"TORONTO",0.44444444444444442,8]
[null,null,"MINNESOTA",0.55555555555555558,11,11,null,null,null,null,null,"NEW YORK A",0.44444444444444442,8]
[null,null,"ST LOUIS",0.55555555555555558,11,11,null,null,null,null,null,"DETROIT",0.33333333333333331,13]
[null,null,"SEATTLE",0.55555555555555558,11,11,null,null,null,null,null,"TEXAS",0.33333333333333331,13]
[null,null,"MILWAUKEE",0.55555555555555558,11,11,null,null,null,null,null,"OAKLAND",0.3,15]
[null,null,"BALTIMORE",0.44444444444444442,15,15,null,null,null,null,null,"NL"]
[null,null,"CHICAGO N",0.44444444444444442,15,15,null,null,null,null,null,"LOS ANGELES N",0.8,1]
[null,null,"CHICAGO A",0.44444444444444442,15,15,null,null,null,null,null,"SAN DIEGO",0.7,2]
[null,null,"TAMPA BAY",0.44444444444444442,15,15,null,null,null,null,null,"CINCINNATI",0.66666666666666663,3]
[null,null,"ATLANTA",0.44444444444444442,15,15,null,null,null,null,null,"PHILADELPHIA",0.66666666666666663,3]
[null,null,"TORONTO",0.44444444444444442,15,15,null,null,null,null,null,"SAN FRANCISCO",0.66666666666666663,3]
[null,null,"NEW YORK A",0.44444444444444442,15,15,null,null,null,null,null,"ST LOUIS",0.55555555555555558,6]
[null,null,"NEW YORK N",0.4,22,22,null,null,null,null,null,"MILWAUKEE",0.55555555555555558,6]
[null,null,"ARIZONA",0.4,22,22,null,null,null,null,null,"CHICAGO N",0.44444444444444442,8]
[null,null,"DETROIT",0.33333333333333331,24,24,null,null,null,null,null,"ATLANTA",0.44444444444444442,8]
[null,null,"TEXAS",0.33333333333333331,24,24,null,null,null,null,null,"NEW YORK N",0.4,10]
[null,null,"PITTSBURGH",0.33333333333333331,24,24,null,null,null,null,null,"ARIZONA",0.4,10]
[null,null,"COLORADO",0.3,27,27,null,null,null,null,null,"PITTSBURGH",0.33333333333333331,12]
[null,null,"OAKLAND",0.3,27,27,null,null,null,null,null,"COLORADO",0.3,13]
[null,null,"MIAMI",0.25,29,29,null,null,null,null,null,"MIAMI",0.25,14]
[null,null,"WASHINGTON",0.16666666666666666,30,30,null,null,null,null,null,"WASHINGTON",0.16666666666666666,15]
[]
[null,null,null,null,"SEASON TO DATE",null,null,null,null,null,null,"SEASON TO DATE"]
[null,null,null,null,null,null,null,null,null,null,null,"AL"]
[null,null,"SEASON TO-DATE",null,"RANK",null,null,null,null,null,null,"HOUSTON",0.66666666666666663,1]
[null,null,"LOS ANGELES N",0.8,1,null,null,null,null,null,null,"LOS ANGELES A",0.66666666666666663,1]
[null,null,"SAN DIEGO",0.7,2,null,null,null,null,null,null,"BOSTON",0.66666666666666663,1]
[null,null,"CINCINNATI",0.66666666666666663,3,null,null,null,null,null,null,"CLEVELAND",0.625,4]
[null,null,"HOUSTON",0.66666666666666663,3,null,null,null,null,null,null,"KANSAS CITY",0.5714285714285714,5]
[null,null,"LOS ANGELES A",0.66666666666666663,3,null,null,null,null,null,null,"MINNESOTA",0.55555555555555558,6]
[null,null,"PHILADELPHIA",0.66666666666666663,3,null,null,null,null,null,null,"SEATTLE",0.55555555555555558,6]
[null,null,"BOSTON",0.66666666666666663,3,null,null,null,null,null,null,"BALTIMORE",0.44444444444444442,8]
[null,null,"SAN FRANCISCO",0.66666666666666663,3,null,null,null,null,null,null,"CHICAGO A",0.44444444444444442,8]
[null,null,"CLEVELAND",0.625,9,null,null,null,null,null,null,"TAMPA BAY",0.44444444444444442,8]
[null,null,"KANSAS CITY",0.5714285714285714,10,null,null,null,null,null,null,"TORONTO",0.44444444444444442,8]
[null,null,"MINNESOTA",0.55555555555555558,11,null,null,null,null,null,null,"NEW YORK A",0.44444444444444442,8]
[null,null,"ST LOUIS",0.55555555555555558,11,null,null,null,null,null,null,"DETROIT",0.33333333333333331,13]
[null,null,"SEATTLE",0.55555555555555558,11,null,null,null,null,null,null,"TEXAS",0.33333333333333331,13]
[null,null,"MILWAUKEE",0.55555555555555558,11,null,null,null,null,null,null,"OAKLAND",0.3,15]
[null,null,"BALTIMORE",0.44444444444444442,15,null,null,null,null,null,null,"NL"]
[null,null,"CHICAGO N",0.44444444444444442,15,null,null,null,null,null,null,"LOS ANGELES N",0.8,1]
[null,null,"CHICAGO A",0.44444444444444442,15,null,null,null,null,null,null,"SAN DIEGO",0.7,2]
[null,null,"TAMPA BAY",0.44444444444444442,15,null,null,null,null,null,null,"CINCINNATI",0.66666666666666663,3]
[null,null,"ATLANTA",0.44444444444444442,15,null,null,null,null,null,null,"PHILADELPHIA",0.66666666666666663,3]
[null,null,"TORONTO",0.44444444444444442,15,null,null,null,null,null,null,"SAN FRANCISCO",0.66666666666666663,3]
[null,null,"NEW YORK A",0.44444444444444442,15,null,null,null,null,null,null,"ST LOUIS",0.55555555555555558,6]
[null,null,"NEW YORK N",0.4,22,null,null,null,null,null,null,"MILWAUKEE",0.55555555555555558,6]
[null,null,"ARIZONA",0.4,22,null,null,null,null,null,null,"CHICAGO N",0.44444444444444442,8]
[null,null,"DETROIT",0.33333333333333331,24,null,null,null,null,null,null,"ATLANTA",0.44444444444444442,8]
[null,null,"TEXAS",0.33333333333333331,24,null,null,null,null,null,null,"NEW YORK N",0.4,10]
[null,null,"PITTSBURGH",0.33333333333333331,24,null,null,null,null,null,null,"ARIZONA",0.4,10]
[null,null,"COLORADO",0.3,27,null,null,null,null,null,null,"PITTSBURGH",0.33333333333333331,12]
[null,null,"OAKLAND",0.3,27,null,null,null,null,null,null,"COLORADO",0.3,13]
[null,null,"MIAMI",0.25,29,null,null,null,null,null,null,"MIAMI",0.25,14]

{"sheet":"End","index":38,"n_rows":110,"n_cols":26,"rows_kept":110,"cut":false,"hidden":false,"merged":[[2,4,2,14],[20,0,20,8],[15,7,15,11]]}
[null,null,null,null,null,null,null,null,null,null,null,null,null,null,null,null,null,null,null,"SEPTEMBER",null," DRAFT","SAVED"]
["Number of Players =",9,null,null,null,null,null,null,null,null,null,null,null,null,null,null,null,"MIKE","JIM T.","JIM K.","JOHN","JEAN","TIM","LARRY","DIANE","-----"]
[null,null,null,null,"PAYOUT GRID",null,null,null,null,null,null,null,null,null,null,null,null,"Rays","Rays","Giants","Dodgers","Rays","Giants","Braves","Brewers","Cubs"]
[null,null,null,null,null,null,null,null,null,null,null,null,null,null,null,null,null,"Astros","White Sox","White Sox","Yankees","Astros","Rays","Brewers","White Sox","Indians"]
[null,null,null,null,"Players",6,7,8,9,10,11,12,13,14,15,null,null,"Brewers","Astros","Red Sox","Astros","Phillies","Brewers","White Sox","Dodgers","Blue Jays"]
[null,null,null,null,"Week 1",4,4,4,4,4,5,5,6,6,7,null,null,"Padres","Braves","Athletics","White Sox","Cardinals","Astros","Yankees","Astros","Astros"]
[null,null,null,null,"Week 2",0,0,1,2,2,2,3,3,3,3,null,null,"Indians","Brewers","Phillies","Brewers","Padres","White Sox","Mariners","Yankees","Padres"]
[null,null,null,null,"Month 1",5,6,6,6,8,8,8,7,8,8,null,null,"Phillies","Dodgers","Cubs","Braves","White Sox","Braves","Dodgers","Phillies","Nationals"]
[null,null,null,null,"Month 2",0,2,2,2,3,3,3,3,4,4,null,null,"Tigers","Diamondbacks","Royals","Rangers","Red Sox","Rangers","Angels","Cubs","Red Sox"]
[null,null,null,null,"Season 1",18,18,18,18,22,22,22,26,34,34,null,null,"Yankees","Twins","Pirates","Blue Jays","Marlins","Rockies","Diamondbacks","Rockies","White Sox"]
[null,null,null,null,"Season 2",0,8,8,8,12,12,12,14,18,18,null,null,"Diamondbacks","Angels","Marlins","Indians","Reds","Marlins","Twins","Nationals","Athletics"]
[null,null,null,null,"Ex Mon 1",1,1,1,1,1,1,1,1,2,2,null,null,"Mariners","Pirates","Mariners","Tigers","Diamondbacks","Cubs","Reds","Twins","Mets"]
[null,null,null,null,"Ex Mon 2",1,1,1,1,1,1,1,1,1,1,null,null,"Marlins","Red Sox","Orioles","Athletics","Royals","Red Sox","Rangers","Red Sox","Cardinals"]
[null,null,null,null,"Total",{"$f":"26*(F6+F7)+6*(F8+F9)+F10+F11+2*(F12+F13)","v":156},{"$f":"26*(G6+G7)+6*(G8+G9)+G10+G11+2*(G12+G13)","v":182},{"$f":"26*(H6+H7)+6*(H8+H9)+H10+H11+2*(H12+H13)","v":208},{"$f":"26*(I6+I7)+6*(I8+I9)+I10+I11+2*(I12+I13)","v":234},{"$f":"26*(J6+J7)+6*(J8+J9)+J10+J11+2*(J12+J13)","v":260},286,312,338,364,390,null,null,"Cardinals","Tigers","Twins","Mets","Twins","Indians","Blue Jays","Indians","Giants"]
[null,null,null,null,"Depost",{"$f":"26*F5","v":156},{"$f":"26*G5","v":182},{"$f":"26*H5","v":208},{"$f":"26*I5","v":234},{"$f":"26*J5","v":260},286,312,338,364,390,null,null,"Rockies","Athletics","Rangers","Pirates","Angels","Blue Jays","Tigers","Angels","Reds"]
[null,null,null,null,null,null,null,"Probably best at 8 to 12 players",null,null,null,null,null,null,null,null,null,"Twins","Mets","Mets","Diamondbacks","Braves","Tigers","Marlins","Cardinals","Rays"]
[null,null,null,null,null,null,null,null,null,null,null,null,null,null,null,null,null,"Nationals","Orioles","Dodgers","Cardinals","Pirates","Pirates","Indians","Marlins","Royals"]
["Scroll down to see intstructions for saving data to a static web page.",null,null,null,null,null,null,null,null,null,null,null,null,null,null,null,null,"Athletics","Cubs","Tigers","Orioles","Mets","Diamondbacks","Cardinals","Diamondbacks","Dodgers"]
[null,null,null,null,null,null,null,null,null,null,null,null,null,null,null,null,null,"Blue Jays","Marlins","Padres","Angels","Nationals","Mets","Nationals","Orioles","Mariners"]
[null,null,null,null,null,null,null,null,null,null,null,null,null,null,null,null,null,"Pirates","Rangers","Diamondbacks","Phillies","Mariners","Mariners","Royals","Royals","Phillies"]
["Baseball Pool Spreadsheet Instructions"]
[]
["·         Anytime you make a change in the spreadsheet, you can undo it. BUT...",null,null,null,null,null,"Web site used for standings data: http://www.lines.com/mlb/standings"]
["·         Anytime you run a macro (ie. click a button on the sheet), you can't undo it!",null,null,null,null,null,null,null,null,null,null,null,null,null,null,"60 day season"]
["·         Never type anything into a cell until you are sure there is not a formula in it.",null,null,null,null,null,null,null,null,null,null,null,null,null,null,"Players",8]
["·         If you think something isn't right, quit Excel without saving then restart it.",null,null,null,null,null,null,null,null,null,null,null,null,null,null,"Week 1",9]
["·         Once you save it, it's permanent--except...",null,null,null,null,null,null,null,27,null,null,null,null,null,null,"Week 2",5]
["·         You always have a copy of the spreadsheet from the last upload on the website, and you can download it.",null,null,null,null,null,null,null,8,null,null,null,null,null,null,"Month 1",14]
[null,null,null,null,null,null,null,null,{"$f":"I27*I28","v":216},null,null,null,null,null,null,"Month 2",10]
["·         You only need to use two pages--SUMMARY & UPDATE",null,null,null,null,null,null,null,null,null,null,null,null,null,null,"Season 1",26]
["·         You rarely will need to type anything!",null,null,null,null,null,null,null,null,null,null,null,null,null,null,"Season 2",14]
["o   If tie you'll manually enter names with \"*\"",null,null,null,null,null,null,null,null,null,null,null,null,null,null,"Ex Mon 1",1]
["o   Enter \"Adds\" for ties, $1 extra months and the season winners",null,null,null,null,null,null,null,null,null,null,null,null,null,null,"Ex Mon 2",1]
["·         On the UPDATE page:",null,null,null,null,null,null,null,null,null,null,null,null,null,null,"Total",{"$f":"9*(Q26+Q27)+2*(Q28+Q29)+Q30+Q31+1*(Q32+Q33)","v":216}]
["o   Click \"UPDATE STANDINGS\" anytime to update. Save & Upload if desired.",null,null,null,null,null,null,null,null,null,null,null,null,null,null,"Depost",{"$f":"3*9*Q25","v":216}]
["o   For Weekly update on Monday AM (after \"UPDATE STANDINGS\" and before \"Copy/Update Picks\", except at end of the month):"]
["§  Click \"UPDATE STANDINGS\""]
["§  On SUMMARY page award winners by clicking their name on Weekly Standings list and clicking in the cell you wish to put their name. Winnings are updated automatically"]
["§  Save file"]
["§  Edit index page with Blue Griffon Page editor"]
["§  Upload files to web site"]
["§  Click \"WEEKLY UPDATE\" to clear sheet for the coming week later on Monday"]
["§  Picks can be entered in the lower grid anytime without affecting the current week. Then click \"COPY PICKS\" to copy them to the upper grid and make them current. (These can be changed anytime as well, but they will affect the current week). Copy picks also Updates them"]
["o   For Monthly Update at the end of the month (end of last week)"]
["§  Click \"UPDATE STANDINGS\""]
["§  On SUMMARY page award winners by clicking their name on Weekly Standings list and clicking in the cell you wish to put their name. Do the same for the monthly winners by selecting their names from the Monthly Standings. Winnings are updated automatically"]
["§  Save file"]
["§  Edit index page with Blue Griffon Page editor"]
["§  Upload files to web site"]
["§  Click \"MONTHLY UPDATE\" to clear sheet for the coming week and month later on Monday (you don't need to also do a weekly update--it's automatic)"]
["§  Enter any pick changes and click \"COPY PICKS\" and then save"]
["o   Pick Changes"]
["§  Click name of team from list on the left"]
["§  Then click in the appropriate cell for the Player to enter it (in the lower or \"NEXT PICKS\" grid"]
["§  If you make an error (ie not one team from each division) you will receive an error message when you try to copy the picks. Fix the error and copy again."]
["§  Save"]
[]
[]
[null,null,"How to Save Excel data to a static Web page"]
[]
[null,null,"1. On the Microsoft Office Button"]
[null,null,", click Save As.","Other Formats"]
[null,null,"The Save As dialog box is displayed."]
[null,null,"2. In the list box, do one of the following:"]
[null,null,"To save to a Web page and create supporting files and folders, select Web Page (*.htm; *.html)."]
[null,null,"To save to a Single File Web page with supporting files embedded in the Web page, select Single File Web Page (*.mht; *.mhl)"]
[null,null,"3. If you already selected the item that you want to save, click Save, and you are finished. Otherwise, continue with the following steps."]
[null,null,"4. Do one of the following:"]
[null,null,"To save the entire workbook, including tabs for navigating each worksheet in the workbook, click Entire Workbook."]
[null,null,"To save the current selection on the worksheet, click Selection: Sheet."]
[null,null,"5. Click Publish."]
[null,null,"The Publish As Web Page dialog box is displayed."]
[null,null,"6. Under Item to publish in the Choose box, select one of the following:"]
[null,null,"Item","Action"]
[null,null,"Entire workbook    ","Select Entire workbook. The entire workbook is saved, including tabs that a user can use to navigate to each worksheet."]
[null,null,"Entire worksheet    ","Select Items on Sheetname, and then select All contents of Sheetname."]
[null,null,"Items    ","Select Items on Sheetname, and then select the item that you want to save, such as a PivotTable report (PivotTable report: An interactive, crosstabulated Excel report that summarizes and analyzes data, such as database records, from various sources, including ones that are external to Excel.) or a chart. Items do not include ranges of cells."]
[null,null,"Ranges of cells    ","Select Range of cells and then, if the selection box does not contain the range that you want, click the worksheet (the dialog box will collapse to a selection box), select a range of cells from the Excel workbook, and then click Expand Dialog ."]
[null,null,"Charts    ","Select Items on Sheetname, and then select Chart x."]
[null,null,"Filtered ranges    ","Select Items on Sheetname, and then select the AutoFilter item that you want to save."]
[null,null,"External data ranges    ","Select Items on Sheetname, and then select the Query item that you want to save."]
[null,null,"Republishing      (USE THIS)","To republish a worksheet or item that you have already published, select Previously published items and then select the worksheet or item that you want to republish. To prevent an item from being republished, select the item and click Remove. To continue publishing, click another item in the list."]
[null,null,"7. To add a title that is centered over the selection and in the title bar of the browser, click Change under Publish as. Type the title that you want, and then click OK."]
[null,null,"8. Next to the File name box, click Browse, and locate the drive, folder, Web folder (Web folder: A shortcut you use to save, open, copy, or delete files on a Web or FTP server. Some Web folders, such as document libraries, have functionality not available with local folders. You'll find Web folders in My Network Places or Web Folders.), Web server (Web server: A computer that hosts Web pages and responds to requests from browsers. Also known as an HTTP server, a Web server stores files whose URLs begin with http://.), HTTP (HTTP: Internet protocol that delivers information on the World Wide Web. Makes it possible for a user with a client program to enter a URL (or click a hyperlink) and retrieve text, graphics, sound, and other digital information from a Web server.) site, or FTP (FTP: A communication protocol that makes it possible for a user to transfer files between remote locations on a network. This protocol also allows users to use FTP commands, such as listing files and folders, to work with files on a remote location.) location where you want to save your Web page, and then click OK."]
[null,null,"You can also choose an existing Web page to append to or replace as long as you have permission to modify the Web page and have access to the file."]
[null,null," Tip   When you first create your Web page, it is a good idea to save the Web page on your local hard drive so that you can make any changes or corrections that you need to before you publish the Web page on a public or shared location."]
[null,null,"9. To view the Web page in your browser after you save it, select the Open published Web page in browser check box."]
[null,null," Note   To preview the page without saving it you can use the Web Page Preview command, which you can add to the Quick Access Toolbar."]
[null,null,"10. If you expect to make changes in the workbook later and want to automatically republish the items each time that the workbook is saved, select the AutoRepublish every time this workbook is saved check box."]
[null,null,"11. To change additional related options, do one or more of the following:"]
[null,null,"To change Web page options, click the arrow next to Tools, and then click Web Options. For more information, see Web Page options."]
[null,null,"To change picture compression options, click the arrow next to Tools, and then click Compress Pictures. For more information, see Reduce the file size of a picture."]
[null,null,"12. Click Publish."]
[null,null,"13. If you are saving to an existing Web page, a message appears. Do one of the following:"]
[null,null,"To copy over the existing page, click Replace file."]
[null,null,"To append your data to the end of the Web page, click Add to file."]
[]
[null,null,"Enable AutoRepublish or make AutoRepublish unavailable"]
[]
[null,null,"If you have enabled the AutoRepublish feature, a message appears each time that you save the workbook. You can make AutoRepublish temporarily or permanently unavailable, or you can keep it. You can also control how the message is displayed."]
[]
[null,null," Note   You can tell that a workbook is set to AutoRepublish when you see Publishing to Page: filename in the status bar (status bar: A horizontal bar at the bottom of the screen that displays information about the current condition of the program, such as the status of items in the window, the progress of the current task, or information about the selected item.) when you save the workbook."]
[]
[null,null,"Make AutoRepublish temporarily unavailable"]
[]
[null,null,"When the message appears, do the following:"]
[]
[null,null,"1. Select the Disable the AutoRepublish feature while this workbook is open option."]
[null,null,"2. Click OK."]
[null,null,"AutoRepublish is not available for the current session of the workbook only, or until you close the workbook. The next time that you open the workbook, AutoRepublish will be enabled."]